{"text_format":"1","workbook":"xlsx","n_sheets":14,"sheets":["Vinst variabel","Växtföljd","Nyckeltal","pk behov","PK kalkyl","Kalkkalkyl","Yara N-Sensor","Import","Blad4","Blad1","Omräknad kartering","SelJordprover","Export till PrecisionWizard","Grid"],"not_rendered":{"charts":10,"images":0,"macros":1,"external_links":0,"defined_names":35,"comments":5,"pivot_tables":6},"unopened":[],"bounds":{"document_bytes":16777216,"sheet_cells":100000,"rows_first":2000,"rows_last":500,"rows_between":2000,"halvings":0,"cell_chars":16384,"cell_head_chars":4096},"cells_cut":0,"cells_raw":0,"read":"whole","date_system":"1900"}

{"sheet":"Vinst variabel","index":0,"n_rows":0,"n_cols":0,"rows_kept":0,"cut":false,"hidden":true,"merged":[]}

{"sheet":"Växtföljd","index":1,"n_rows":47,"n_cols":63,"rows_kept":47,"cut":false,"hidden":false,"merged":[[4,7,4,8],[19,23,19,29],[19,6,19,8]]}
[]
[null,null,null,null,null,null,null,null,null,null,null,null,null,null,null,null,null,null,null,null,null,null,null,null,null,null,null,null,null,null,null,null,null,null,null,null,null,null,null,null,null,null,null,null,null,null,null,null,null,null,null,null,null,null,null,null,null,null,null,null,null,"Radetiketter","Medel av kr"]
[null,null,null,null,null,null,null,null,null,null,null,null,null,null,null,null,null,null,null,null,null,null,null,"Vinst av att variera PK givan jämfört med rak giva",null,null,null,null,null,null,null,null,null,null,null,null,null,null,null,null,null,null,null,null,null,null,null,null,null,null,null,null,null,null,null,null,null,null,null,null,null,1,263.28099173553716]
[null,null,null,null,null,null,null,null,null,"Vinst av behovsanpassad P-giva",null,null,null,null,"Vinst av behovsanpassad K-giva",null,null,null,null,"Total",null,"Vinst av behovsanpassad P-giva",null,"(Vid rätt totalmängd)",null,null,null,null,null,null,null,null,null,null,null,5,null,null,null,null,null,null,null,null,null,null,null,null,null,null,null,null,null,null,null,null,null,null,null,null,null,2,165.9948979591837]
[null,null,null,null,null,"Skördenivå",null,"Normalt spridd mängd \nP och K /ha och år",null,"Ändrat P-behov",null,"Skördeökning",null,"Summa","Ändrat K-behov",null,"Skördeökning",null,"Summa","Summa",null,"Ändrat P-behov",null,"Skördeökning P",null,"Summa","Ändrat K-behov",null,"Skördeökning K",null,"Summa","Summa",null,null,null,null,null,null,null,null,null,null,null,null,null,null,null,null,null,null,null,null,null,null,null,null,null,null,null,null,null,3,180.66666666666671]
[null,null,null,null,"Gröda","Ton / ha","Avsalupris","P","K","kg/ha","kr/ha","kg/ha","kr/ha","kr/ha","kg/ha","kr/ha","kg/ha","kr/ha","kr/ha","kr/ha",null,"Kg/ha","Kr/ha","kg/ha","kr/ha","kr/ha","Kg/ha","Kr/ha","kg/ha","kr/ha","kr/ha","kr/ha",null,null,null,null,null,null,null,null,null,null,null,null,null,null,null,null,null,null,null,null,null,null,null,null,null,null,null,null,null,4,99.120000000000019]
[null,null,1,null,null,null,null,null,null,null,null,null,null,{"$f":"IF($F7=\"\",\"\",K7+M7)","v":""},null,null,null,null,{"$f":"IF(F7=\"\",\"\",P7+R7)","v":""},{"$f":"IF(F7=\"\",\"\",N7+S7)","v":""},null,null,null,null,null,null,null,null,null,null,null,{"$f":"IF(F7>0,Y7+AD7,\"\")","v":""},null,null,null,null,null,null,null,null,null,null,null,null,null,null,null,null,null,null,null,null,null,null,null,null,null,null,null,null,null,5,144.4437869822485]
[null,null,2,null,null,null,null,null,null,null,null,null,null,{"$f":"IF(F8=\"\",\"\",K8+M8)","v":""},null,null,null,null,{"$f":"IF(F8=\"\",\"\",P8+R8)","v":""},{"$f":"IF(F8=\"\",\"\",N8+S8)","v":""},null,null,null,null,null,null,null,null,null,null,null,{"$f":"IF(F8>0,Y8+AD8,\"\")","v":""},null,null,null,null,null,null,null,null,null,null,null,null,null,null,null,null,null,null,null,null,null,null,null,null,null,null,null,null,null,6,207.93750000000011]
[null,null,4,null,null,null,null,null,null,null,null,null,null,"",null,null,null,null,"","",null,null,null,null,null,null,null,null,null,null,null,"",null,null,null,null,null,null,null,null,null,null,null,null,null,null,null,null,null,null,null,null,null,null,null,null,null,null,null,null,null,7,247.94600591715985]
[null,null,6,null,null,null,null,null,null,null,null,null,null,"",null,null,null,null,"","",null,null,null,null,null,null,null,null,null,null,{"$f":"IF($F10=\"\",\"\",AB10+AD10)","v":""},"",null,null,null,null,null,null,null,null,null,null,null,null,null,null,null,null,null,null,null,null,null,null,null,null,null,null,null,null,null,8,181.125]
[null,null,8,null,null,null,null,null,null,null,null,null,null,"",null,null,null,null,"","",null,null,null,null,null,null,null,null,null,null,"","",null,null,null,null,null,null,null,null,null,null,null,null,null,null,null,null,null,null,null,null,null,null,null,null,null,null,null,null,null,9,128.16068052930058]
[null,null,0,null," ",null,null,null,null,null,null,null,null,"",null,null,null,null,"","",null,null,null,null,null,null,null,null,null,null,"","",null,null,null,null,null,null,null,null,null,null,null,null,null,null,null,null,null,null,null,null,null,null,null,null,null,null,null,null,null,10,153.93749999999997]
[null,null,0,null," ",null,null,null,null,null,null,null,null,"",null,null,null,null,"","",null,null,null,null,null,null,null,null,null,null,"","",null,null,null,null,null,null,null,null,null,null,null,null,null,null,null,null,null,null,null,null,null,null,null,null,null,null,null,null,null,11,193.82812499999994]
[null,null,0,null," ",null,null,null,null,null,null,null,null,"",null,null,null,null,"","",null,null,null,null,null,null,null,null,null,null,"","",null,null,null,null,null,null,null,null,null,null,null,null,null,null,null,null,null,null,null,null,null,null,null,null,null,null,null,null,null,12,45.750000000000014]
[null,null,0,null," ",null,null,null,null,null,null,null,null,"",null,null,null,null,"","",null,null,null,null,null,null,null,null,null,null,"","",null,null,null,null,null,null,null,null,null,null,null,null,null,null,null,null,null,null,null,null,null,null,null,null,null,null,null,null,null,13,68.250000000000014]
[null,null,null,null,null,null,null,null,null,null,null,null,null,null,null,null,null,null,"Medel  vinst kr/ha och år",{"$f":"AVERAGE(T7:T15)","v":{"$error":"#DIV/0!"}},null,null,null,null,null,null,null,null,null,"Medel kr/ha och år","Medel  vinst kr / ha och år",{"$f":"AVERAGE(AF7:AF15)","v":{"$error":"#DIV/0!"}},null,null,null,null,null,null,null,null,null,null,null,null,null,null,null,null,null,null,null,null,null,null,null,null,null,null,null,null,null,14,251.48000000000005]
[null,null,null,null,null,{"$f":"+SUM(F7:F15)","v":0},{"$f":"+SUM(G7:G15)","v":0},null,null,null,null,null,null,null,null,null,null,null,null,null,null,null,null,{"$f":"+SUM(X7:X15)","v":0},{"$f":"+SUM(Y7:Y15)","v":0},null,null,null,{"$f":"+SUM(AC7:AC15)","v":0},0,null,null,null,null,null,null,null,null,null,null,null,null,null,null,null,null,null,null,null,null,null,null,null,null,null,null,null,null,null,null,null,15,146.93877551020404]
[1,null,null,null,"spannmål",{"$f":"IF(ISNUMBER(AVERAGEIF(A7:A15,\"<3\",F7:F15))=TRUE,AVERAGEIF(A7:A15,\"<3\",F7:F15),0)","v":0},{"$f":"IF(G17=0,\"\",AVERAGEIF(A7:A15,\"<3\",G7:G15))","v":""},{"$f":"H25/COUNTA(A7:A15)","v":{"$error":"#DIV/0!"}},{"$f":"+I25/COUNTA(A7:A15)","v":{"$error":"#DIV/0!"}},-7.8162111801242347,257.93496894409975,0,0,null,-31.38722567287784,251.09780538302272,0,0,null,null,null,null,null,{"$f":"IF(X17=0,0,AVERAGEIF($A$7:$A$15,\"<3\",X7:X15))","v":0},{"$f":"IF(Y17=0,0,AVERAGEIF($A$7:$A$15,\"<3\",Y7:Y15))","v":0},null,null,null,{"$f":"IF(AC17=0,0,AVERAGEIF($A$7:$A$15,\"<3\",AC7:AC15))","v":0},0,null,null,null,null,null,null,null,null,null,null,null,null,null,null,null,null,null,null,null,null,null,null,null,null,null,null,null,null,null,null,null,16,133.34948096885833]
[null,null,null,null,null,null,null,null,null,null,null,null,null,null,null,null,null,null,null,null,null,null,null,null,null,null,null,null,null,null,null,null,null,null,null,null,null,null,null,null,null,null,null,null,null,null,null,null,null,null,null,null,null,null,null,null,null,null,null,null,null,17,0]
[null,null,null,null,null,null,"Sammanställning PK balans i växtföljden(kg)",null,null,null,null,null,null,null,null,null,null,null,null,null,null,null,null,"Vinst av att anpassa P och K till rätt nivå och sprida varierat",null,null,null,null,null,null,null,null,null,null,null,null,null,null,null,null,null,null,null,null,null,null,null,null,null,null,null,null,null,null,null,null,null,null,null,null,null,"(tom)"]
[null,null,null,null,null,null,null,"P","K",null,null,null,null,null,null,null,null,null,null,null,null,null,null,null,null,null,null,null,"kg/ha","kr/ha",null,null,null,null,null,null,null,null,null,null,null,null,null,null,null,null,null,null,null,null,null,null,null,null,null,null,null,null,null,null,null,"Totalsumma",193.42096150388113]
[null,null,null,null,null,null,"Tillfört i växtföljden",{"$f":"+SUM(H7:H15)","v":0},{"$f":"+SUM(I7:I15)","v":0},null,null,null,null,null,null,null,null,null,null,null,null,null,null,null,"Ändrat P-behov",null,null,null,{"$f":"+J18","v":-7.8162111801242347},{"$f":"+K18","v":257.93496894409975}]
[null,null,null,null,null,null,"Behov i växtföljden",{"$f":"SUM(H7:H15,J7:J15)","v":0},{"$f":"SUM(I7:I15,O7:O15)","v":0},null,null,null,null,null,null,null,null,null,null,null,null,null,null,null,"Skördeökning",null,null,null,{"$f":"+L18","v":0},{"$f":"+M18","v":0}]
[]
[null,null,null,null,null,null,"Netto",{"$f":"H22-H23","v":0},{"$f":"I22-I23","v":0},null,null,null,null,null,null,null,null,null,null,null,null,null,null,null,"Ändrat K-behov",null,null,null,{"$f":"+O18","v":-31.38722567287784},{"$f":"+P18","v":251.09780538302272}]
[null,null,null,null,null,null,null,null,null,null,null,null,null,null,null,null,null,null,null,null,null,null,null,null,"Skördeökning",null,null,null,{"$f":"+Q18","v":0},{"$f":"+R18","v":0}]
[]
[null,null,null,null,null,null,null,null,null,null,null,null,null,null,null,null,null,null,null,null,null,null,null,null,"Summa",null,null,null,null,{"$f":"+SUM(AD22:AD26)","v":509.03277432712247}]
[]
[]
[]
[]
[]
[]
[]
[]
[]
[]
[]
[]
[]
[]
[]
[]
[]
[null,null,null,null,null,null,null,null,null,null,null,null,null,null,null,null,null,null,null,null,null,null,null,"Diagramet visar vinsten av variation per skifte. Notera att den endast räknar på spannmål och att funktionen räknar på lite "]
[null,null,null,null,null,null,null,null,null,null,null,null,null,null,null,null,null,null,null,null,null,null,null,"annat sätt än kalkylen ovan. Det är inte absolutbeloppen som är det relevanta det är eventuell skillnad mellan skiftena."]

{"sheet":"Nyckeltal","index":2,"n_rows":41,"n_cols":7,"rows_kept":41,"cut":false,"hidden":false,"merged":[[4,2,4,3],[3,2,3,3]]}
[]
[null,"Nyckeltal"]
[]
[null,"Gård / Lantbrukare"]
[null,"Markkartering"]
[null,"Antal prover ≈ areal i hektar",null,{"$f":"COUNTIF(Blad4!A:A,\">0\")","v":0}]
[null,"Gröda",null,{"$f":"'PK kalkyl'!AE4","v":"Höstsäd"}]
[]
[null,"Fosfor",null,null,null,"Vinst av behovsanpassad P-giva"]
[null,"Min P-behov",{"$f":"MIN(Blad4!N:N)","v":{"$error":"#VALUE!"}},"kg P/ha",null," jämfört med medelgiva."]
[null,"Medel P-behov",{"$f":"AVERAGE(Blad4!N:N)","v":{"$error":"#VALUE!"}},"kg P/ha",null,null,"Vinst"]
[null,"Max P-behov",{"$f":"MAX(Blad4!N:N)","v":{"$error":"#VALUE!"}},"kg P/ha",null,{"$f":"CONCATENATE(\"Ändrad P behov med \",ROUND('PK kalkyl'!J15,1),\" P/ha\")","v":"Ändrad P behov med 0 P/ha"},{"$f":"'PK kalkyl'!K15","v":0}]
[null,null,null,null,null,{"$f":"CONCATENATE(\"gäller från normalt spridd \",ROUND('PK kalkyl'!E9,1),\" P/ha\")","v":"gäller från normalt spridd 0 P/ha"}]
[null,"Medelavvikelse",{"$f":"AVEDEV(Blad4!N:N)","v":{"$error":"#VALUE!"}},"kg P/ha"]
[null,"Maxavvikelse",{"$f":"IF((C12-C11)>(C11-C10),C12-C11,C11-C10)","v":{"$error":"#VALUE!"}},"kg P/ha",null,"Möjlig skördeökning",{"$f":"'PK kalkyl'!K14","v":{"$error":"#DIV/0!"}}]
[null,"Andel av arealen i klass IVB-V",{"$f":"(('PK kalkyl'!C18+'PK kalkyl'!C19)/'PK kalkyl'!C20)*100","v":{"$error":"#DIV/0!"}},"%"]
[null,"Mängd P vid medelgiva i klass IVB-V",{"$f":"'PK kalkyl'!I35","v":{"$error":"#DIV/0!"}},"kg P",null,"Summa vinst av behovsanpassad P-giva",{"$f":"G12+G15","v":{"$error":"#DIV/0!"}}]
[]
[]
[null,"Kalium",null,null,null,"Vinst av behovsanpassad K-giva"]
[null,"Min K-behov",{"$f":"MIN(Blad4!O:O)","v":{"$error":"#VALUE!"}},"kg K/ha",null," jämfört med medelgiva."]
[null,"Medel K-behov",{"$f":"AVERAGE(Blad4!O:O)","v":{"$error":"#VALUE!"}},"kg K/ha"]
[null,"Max K-behov",{"$f":"MAX(Blad4!O:O)","v":{"$error":"#VALUE!"}},"kg K/ha",null,{"$f":"CONCATENATE(\"Ändrad K behov med \",ROUND('PK kalkyl'!J26,1),\" K/ha\")","v":"Ändrad K behov med 0 K/ha"},{"$f":"'PK kalkyl'!K26","v":0}]
[null,null,null,null,null,{"$f":"CONCATENATE(\"gäller från normalt spridd \",ROUND('PK kalkyl'!F9,1),\" K/ha\")","v":"gäller från normalt spridd 0 K/ha"}]
[null,"Medelavvikelse",{"$f":"AVEDEV(Blad4!O:O)","v":{"$error":"#VALUE!"}},"kg K/ha"]
[null,"Maxavvikelse",{"$f":"IF((C23-C22)>(C22-C21),C23-C22,C22-C21)","v":{"$error":"#VALUE!"}},"kg K/ha",null,"Möjlig skördeökning",{"$f":"'PK kalkyl'!K25","v":{"$error":"#DIV/0!"}}]
[null,"Andel av arealen i klass IV-V",{"$f":"(('PK kalkyl'!C28+'PK kalkyl'!C29)/'PK kalkyl'!C30)*100","v":{"$error":"#DIV/0!"}},"%"]
[null,"Mängd K vid medelgiva i klass IV-V",{"$f":"'PK kalkyl'!J35","v":{"$error":"#DIV/0!"}},"kg K",null,"Summa vinst av behovsanpassad K-giva",{"$f":"G26+G23","v":{"$error":"#DIV/0!"}}]
[]
[]
[null,"Kalk",null,null,null,"Vinst med kalkning"]
[null,"Min kalkbehov",{"$f":"MIN(Blad4!M:M)","v":{"$error":"#VALUE!"}},"ton kalk/ha",null,{"$f":"Kalkkalkyl!B25","v":"Ditt totalbehov av kalk är ca"},{"$f":"Kalkkalkyl!C25","v":{"$error":"#VALUE!"}}]
[null,"Medel kalkbehov",{"$f":"AVERAGE(Blad4!M:M)","v":{"$error":"#VALUE!"}},"ton kalk/ha",null,"Mål-pH                                                                    justera mål-pH",{"$f":"Kalkkalkyl!E20","v":0}]
[null,"Max kalkbehov",{"$f":"MAX(Blad4!M:M)","v":{"$error":"#VALUE!"}},"ton kalk/ha"]
[null,null,null,null,null,"Medelkalkning"]
[null,"Medelavvikelse",{"$f":"AVEDEV(Blad4!M:M)/Kalkkalkyl!$D$6","v":{"$error":"#VALUE!"}},"ton kalk/ha",null,{"$f":"Kalkkalkyl!B40","v":"Vinst med medel kalkning på hela arealen kr/ha & år"},{"$f":"Kalkkalkyl!E40","v":{"$error":"#VALUE!"}}]
[null,"Maxavvikelse",{"$f":"IF((C34-C33)>(C33-C32),C34-C33,C33-C32)/Kalkkalkyl!$D$6","v":{"$error":"#VALUE!"}},"ton kalk/ha",null,{"$f":"Kalkkalkyl!B41","v":"Total vinst med medelgiva på del av areal med behov (0 ha) /år"},{"$f":"Kalkkalkyl!E41","v":{"$error":"#VALUE!"}}]
[null,"Andel av arealen utan kalk behov",{"$f":"((Kalkkalkyl!C19)/Kalkkalkyl!D7)*100","v":{"$error":"#DIV/0!"}},"%"]
[null,"Mängd kalk på areal utan behov",{"$f":"(C33/Kalkkalkyl!D6)*((D6/100)*C38)","v":{"$error":"#VALUE!"}},"ton kalk",null,"GPS-kalkning"]
[null,null,null,null,null,"Vinst med behovsanpassad kalkning med GPS,  kr/ha & år",{"$f":"Kalkkalkyl!E56","v":{"$error":"#VALUE!"}}]
[null,null,null,null,null,"Total vinst med behovsanpassad kalkning med GPS / år",{"$f":"Kalkkalkyl!E57","v":{"$error":"#VALUE!"}}]

{"sheet":"pk behov","index":3,"n_rows":25,"n_cols":9,"rows_kept":25,"cut":false,"hidden":true,"merged":[]}
["Radetiketter","Medel av P-behov","Medel av K-behov",null,null,null,null,"Radetiketter","Medel av Ton CaO/ha"]
[1,25.074999999999999,13.8,null,null,null,null,1,2.7276130166228083]
[2,25.066666666666663,22.366666666666664,null,null,null,null,2,2.2221345801315819]
[3,26.285714285714285,19.328571428571426,null,null,null,null,3,2.1283464194561428]
[5,25.118181818181824,21.86363636363636,null,null,null,null,4,1.9463950480394754]
[null,{"$error":"#DIV/0!"},{"$error":"#DIV/0!"},null,null,null,null,5,2.1828006135526352]
["Totalsumma",25.38275862068965,19.079310344827583,null,null,null,null,6,2.1295864556578987]
[null,null,null,null,null,null,null,7,1.0286286074122823]
[null,null,null,null,null,null,null,8,4.1754980650146232]
[null,null,null,null,null,null,null,9,3.4361857796052693]
[null,null,null,null,null,null,null,10,3.9137235459022572]
[null,null,null,null,null,null,null,11,5.5497034563684249]
[null,null,null,null,null,null,null,12,2.5529525475939892]
[null,null,null,null,null,null,null,13,3.900987375687138]
[null,null,null,null,null,null,null,14,1.9569001643311414]
[null,null,null,null,null,null,null,15,1.4111715658603268]
[null,null,null,null,null,null,null,16,4.5003520463765208]
[null,null,null,null,null,null,null,17,2.6277805426151373]
[null,null,null,null,null,null,null,18,2.0692291784210557]
[null,null,null,null,null,null,null,19,4.8912369911090243]
[null,null,null,null,null,null,null,20,3.7007480850328989]
[null,null,null,null,null,null,null,21,3.3451333821052653]
[null,null,null,null,null,null,null,22,3.0174139089832575]
[null,null,null,null,null,null,null,null,{"$error":"#DIV/0!"}]
[null,null,null,null,null,null,null,"Totalsumma",2.9592773838316737]

{"sheet":"PK kalkyl","index":4,"n_rows":47,"n_cols":74,"rows_kept":47,"cut":false,"hidden":false,"merged":[[1,20,1,29],[9,8,9,9],[3,9,3,10],[4,8,4,9],[5,8,5,9],[6,8,6,9],[7,8,7,9],[2,9,2,10]]}
[null,null,null,null,null,null,null,null,null,null,null,null,null,null,null,null,null,null,null,null,null,null,null,null,null,null,null,null,null,null,null,null,null,null,null,null,null,null,1,null,null,null,null,null,"Totalt antal importerade prover",null,null,{"$f":"COUNT(Import!E:E)","v":0},null,null,null,null,null,null,null,null,null,"Vinst av behovsanpassad P-giva",null,null,null,null,"Vinst av behovsanpassad K-giva",null,null,null,null,"Total"]
[null,"PK-kalkyl","Utvärdera den ekonomiska nyttan med behovsanpassad PK gödsling",null,null,null,null,null,null,null,null,null,null,null,null,null,null,null,null,null,"Grundformler fosforbehov (Rekommendationer för gödsling och kalkning 2020)",null,null,null,null,null,null,null,null,null,"Aktuell formel",null,null,1,null,null,null,null,null,null,null,null,null,null,null,null,null,null,null,null,null,null,"Export till växtföljd",null,null,null,null,"Ändrat P-behov",null,"Skördeökning",null,"Summa","Ändrat K-behov",null,"Skördeökning",null,"Summa","Summa"]
[null,"Merkalkyl för precisionsspridning av P och K",null,null,null,null,null,null,"Gård",{"$f":"Nyckeltal!C4","v":0},null,null,null,null,null,null,null,null,null,null,null,null,null,null,null,null,null,null,null,null,null,null,null,null,null,null,null,null,2,null,null,null,null,null,null,null,null,null,null,null,null,null,"Gröda","Avkastning","Avsalupris","P","K","Kg/ha","Kr/ha","Kg/ha","Kr/ha","Kr/ha","Kg/ha","Kr/ha","Kg/ha","Kr/ha","Kr/ha","Kr/ha",null,null,null,null,null,"Eller bara uttryckt i kg P och K /ha "]
[null,"Resultatet i kalkylen är en jämförelse med jämn giva av P och K",null,null,null,null,null,null,"Markkartering",{"$f":"Nyckeltal!C5","v":0},null,null,"Normskörd",null,null,null,null,null,null,"P-AL klass","P-AL tal","Vårsäd","Höstsäd","Våroljeväxter","Höstoljeväxter","Slåttervall I","Fodermajs","Potatis","Sockerbetor","Ärt/Åb",{"$f":"OFFSET(AM3,AM3,0)","v":"Höstsäd"},null,null,null,null,null,null,null,{"$f":"V4","v":"Vårsäd"},null,null,null,null,null,null,null,null,null,null,null,null,null,"+",{"$f":"K6","v":0},{"$f":"+K7","v":""},{"$f":"+E8","v":0},null,{"$f":"+J15","v":0}]
[null,null,"kg/ha","N","P","K",null,null,"Areal som kalkylen omfattar",null,{"$f":"Nyckeltal!D6","v":0},null,{"$f":"CONCATENATE(\"för \",AE4,\" är\")","v":"för Höstsäd är"},null,null,null,null,null,null,"I  0-2",1,25,25,30,40,25,35,70,45,20,{"$f":"OFFSET(U5,0,$AM$3)","v":25},{"$f":"$AE$17*U5+$AE$18","v":24.945652173913043},null,null,null,null,null,null,{"$f":"W4","v":"Höstsäd"},null,null,null,null,null,null,null,null,null,null,null,null,null,null,null,null,null,null,null,null,null,null,null,null,null,null,null,null,null,null,null,null,null,9]
[null,"Normalt spridd NPK ",null,null,null,null,"kg/ha",null,{"$f":"CONCATENATE(\"Medelskörd \",AE4)","v":"Medelskörd Höstsäd"},null,0,null,{"$f":"AE12","v":6},null,null,null,null,null,null,"II  2-4",3,20,20,25,35,15,30,50,40,15,20,{"$f":"$AE$17*U6+$AE$18","v":20.597826086956523},null,null,null,null,null,null,{"$f":"X4","v":"Våroljeväxter"},null,null,null,null,null,null,null,null,null,null,null,null,null,null,null,null,null,null,null,null,null,null,null,null,null,null,null,null,null,null,null,null,null,2]
[null,"under säsongen",null,null,null,null,"kg/ha",null,"Pris på skörden",null,"",null,null,null,null,null,null,null,null,"III  4-8",6,15,15,15,25,10,25,40,30,10,15,{"$f":"$AE$17*U7+$AE$18","v":14.07608695652174},null,null,null,null,null,null,{"$f":"Y4","v":"Höstoljeväxter"}]
[null,null,null,"Eller bara uttryckt i kg P och K /ha ",null,null,"kg/ha",null,"Pris per kg P",null,33,null,null,null,null,null,null,null,null,"IVA  8-12",10,5,5,10,15,null,20,30,20,0,5,{"$f":"IF($AE$17*U8+$AE$18<0,0,$AE$17*U8+$AE$18)","v":5.3804347826086953},null,null,null,null,null,null,{"$f":"Z4","v":"Slåttervall I"},null,null,null,null,null,null,null,null,null,null,null,null,null,null,null,null,null,null,null,null,null,null,null,null,null,null,null,null,null,null,null,null,null,2]
[null,null,"Summa medelgiva P och K ",{"$f":"((D7*0.01)*$C$7)+((D6*0.01)*$C$6)","v":0},{"$f":"((E7*0.01)*$C$7)+((E6*0.01)*$C$6)+E8","v":0},{"$f":"((F7*0.01)*$C$7)+((F6*0.01)*$C$6)+F8","v":0},"kg/ha",null,"Pris per kg K",null,8,null,"Välj gröda för kalkylen",null,null,null,null,null,null,"IVB 12-16",14,null,null,null,null,null,15,15,10,null,0,{"$f":"IF($AE$17*U9+$AE$18<0,0,$AE$17*U9+$AE$18)","v":0},null,null,null,null,null,null,{"$f":"AA4","v":"Fodermajs"}]
[null,null,null,"Normalt medelbehov enligt jordproverna",{"$f":"E21","v":0},{"$f":"E31","v":0},"kg/ha",null,"Markkarteringskostnad",null,300,null,null,null,null,null,null,null,null,"V  >16",20,null,null,null,null,null,15,15,null,null,0,{"$f":"IF($AE$17*U10+$AE$18<0,0,$AE$17*U10+$AE$18)","v":0},null,null,null,null,null,null,{"$f":"AB4","v":"Potatis"}]
[null,null,null,null,null,null,null,null,null,null,null,null,null,null,null,null,null,null,null,null,null,null,null,null,null,null,null,null,null,null,null,null,null,null,null,null,null,null,{"$f":"AC4","v":"Sockerbetor"}]
[null,null,"Antal","Medel","P-behov","P diff mot","Möjlig skörde-",null,"Vinst av behovsanpassad P-giva",null,null,null,null,null,null,null,null,null,null,"Grundavkastning (ton/ha)","GrSkP",5,6,2,3.5,6,10,30,60,3.5,{"$f":"OFFSET(U12,0,$AM$3)","v":6},null,null,null,null,null,null,null,{"$f":"AD4","v":"Ärt/Åb"}]
[null,"P-AL","prov","P-AL","utifrån jordproverna","medelgivan","ökning",null," jämfört med enhetlig giva.",null,null,null,null,null,null,null,null,null,null,"För varje tons avvikelse förändras behovet med (kg/ha)","justP",3,3,7,7,3,3,0.5,0.5,3,{"$f":"OFFSET(U13,0,$AM$3)","v":3}]
[null,"I  0-2",{"$f":"COUNTIF(Blad4!C:C,\"<=2\")-COUNTIF(Blad4!C:C,\"=0\")","v":0},{"$f":"IF(C14>0,SUMIF(Blad4!C:C,\"<=2\")/C14,0)","v":0},{"$f":"IF(C14>0,SUMIF(Blad4!C:C,\"<2,01\",Blad4!N:N)/C14,0)","v":0},{"$f":"IF(C14=0,0,IF($E$9=0,$E$10-E14,$E$9-E14))","v":0},{"$f":"IF(F14<0,-F14*$AE$15,0)","v":0},null,"Skördeökning",{"$f":"G21","v":{"$error":"#DIV/0!"}},{"$f":"J14*K7","v":{"$error":"#DIV/0!"}}]
[null,"II  2-4",{"$f":"COUNTIF(Blad4!C:C,\"<=4\")-C14-COUNTIF(Blad4!C:C,\"=0\")","v":0},{"$f":"IF(C15>0,(SUMIF(Blad4!C:C,\"<=4\")-SUMIF(Blad4!C:C,\"<=2\"))/C15,0)","v":0},{"$f":"IF(C15>0,(SUMIF(Blad4!C:C,\"<4,01\",Blad4!N:N)-SUMIF(Blad4!C:C,\"<2,01\",Blad4!N:N))/C15,0)","v":0},{"$f":"IF(C15=0,0,IF($E$9=0,$E$10-E15,$E$9-E15))","v":0},{"$f":"IF(F15<0,-F15*$AE$15,0)","v":0},null,"Ändrat P-behov",{"$f":"IF(E9=0,0,E21-E9)","v":0},{"$f":"-J15*K8","v":0},null,null,null,null,null,null,null,null,"kg skördeförlust per saknat kg P","SkForP",30,30,70,70,30,30,5,5,30,{"$f":"OFFSET(U15,0,$AM$3)","v":30}]
[null,"III  4-8",{"$f":"COUNTIF(Blad4!C:C,\"<=8\")-C15-C14-COUNTIF(Blad4!C:C,\"=0\")","v":0},{"$f":"IF(C16>0,(SUMIF(Blad4!C:C,\"<=8\")-SUMIF(Blad4!C:C,\"<=4\"))/C16,0)","v":0},{"$f":"IF(C16>0,(SUMIF(Blad4!C:C,\"<8,01\",Blad4!N:N)-SUMIF(Blad4!C:C,\"<4,01\",Blad4!N:N))/C16,0)","v":0},{"$f":"IF(C16=0,0,IF($E$9=0,$E$10-E16,$E$9-E16))","v":0},{"$f":"IF(F16<0,-F16*$AE$15,0)","v":0},null,null,"Summa",{"$f":"K14+K15","v":{"$error":"#DIV/0!"}},null,null,null,null,null,null,null,null,null,null,null,null,null,null,null,null,null,null,null,"Formel (Y=k*x+m)","R2"]
[null,"IVA  8-12",{"$f":"COUNTIF(Blad4!C:C,\"<=12\")-C16-C15-C14-COUNTIF(Blad4!C:C,\"=0\")","v":0},{"$f":"IF(C17>0,(SUMIF(Blad4!C:C,\"<=12\")-SUMIF(Blad4!C:C,\"<=8\"))/C17,0)","v":0},{"$f":"IF(C17>0,(SUMIF(Blad4!C:C,\"<12,01\",Blad4!N:N)-SUMIF(Blad4!C:C,\"<8,01\",Blad4!N:N))/C17,0)","v":0},0,{"$f":"IF(F17<0,-F17*$AE$15,0)","v":0},null,null,null,null,null,null,null,null,null,null,null,null,null,"k",{"$f":"SLOPE(V5:V9,$U$5:$U$9)","v":-2.1739130434782608},-2.1739130434782608,-2.2826086956521738,-2.8260869565217392,-2.8947368421052628,-1.4891696750902526,-3.8267148014440431,-2.7166064981949454,-2.1739130434782608,{"$f":"OFFSET(U17,0,$AM$3)","v":-2.1739130434782608},{"$f":"CORREL(AE5:AE10,AF5:AF10)","v":0.99880919260741075}]
[null,"IVB  12-16",{"$f":"COUNTIF(Blad4!C:C,\"<=16\")-C17-C16-C15-C14-COUNTIF(Blad4!C:C,\"=0\")","v":0},{"$f":"IF(C18>0,(SUMIF(Blad4!C:C,\"<=16\")-SUMIF(Blad4!C:C,\"<=12\"))/C18,0)","v":0},{"$f":"IF(C18>0,(SUMIF(Blad4!C:C,\"<16,01\",Blad4!N:N)-SUMIF(Blad4!C:C,\"<12,01\",Blad4!N:N))/C18,0)","v":0},0,0,null,{"$f":"IF(E9+F9=0,\"\",CONCATENATE(\"Notera. Kalkylen jämför med P givan \",E9,\" kg/ha\"))","v":""},null,null,null,null,null,null,null,null,null,null,null,"m",{"$f":"INTERCEPT(V5:V9,$U$5:$U$9)","v":27.119565217391305},27.119565217391305,31.413043478260867,42.880434782608695,26.315789473684212,35.12635379061372,67.021660649819495,47.472924187725624,22.119565217391305,{"$f":"OFFSET(U18,0,$AM$3)","v":27.119565217391305}]
[null,"V  >16",{"$f":"COUNTIF(Blad4!C:C,\">16\")","v":0},{"$f":"IF(C19>0,SUMIF(Blad4!C:C,\">16\")/C19,0)","v":0},{"$f":"IF(C19>1,(SUMIF(Blad4!C:C,\"<100\",Blad4!N:N)-SUMIF(Blad4!C:C,\"<16,01\",Blad4!N:N))/C19,0)","v":0},0,0,null,{"$f":"IF(E9+F9=0,\"\",CONCATENATE(\"och K givan \",F9,\" kg/ha\"))","v":""},null,null,null,null,null,null,null,null,null,null,null,null,null,null,null,null,null,null,null,null,"Formel (Y=k*x+m)+(Skörd-GrSkP)*justP",{"$f":"IF(($AE$17*$U$7)+$AE$18+(($AE$12-$AE$12)*$AE$13)<1,0,ROUND(($AE$17*$U$7)+$AE$18+(($AE$12-$AE$12)*$AE$13),1))","v":14.1},"kg P vid klass III"]
[null,"Summa på hela arealen",{"$f":"SUM(C14:C19)","v":0},null,{"$f":"+SUM(Blad4!N:N)","v":{"$error":"#VALUE!"}},{"$f":"SUMPRODUCT($C$14:$C$19,F14:F19)","v":0},{"$f":"SUMPRODUCT($C$14:$C$19,G14:G19)","v":0},null,{"$f":"IF(E9+F9=0,\"\",\"Vill en se vinsten av att variera ska tillförseln av\" )","v":""}]
[null,"Medel",null,{"$f":"AVERAGE(Blad4!C:C)","v":0},{"$f":"IF(C20=0,0,E20/C20)","v":0},{"$f":"SUMPRODUCT($C$14:$C$19,F14:F19)/C20","v":{"$error":"#DIV/0!"}},{"$f":"SUMPRODUCT(C14:C19,G14:G19)/C20","v":{"$error":"#DIV/0!"}},null,{"$f":"IF(E9+F9=0,\"\",\"P och K vara likamed medelbehovet eller 0.\")","v":""}]
[]
[null,null,"Antal","Medel","K-behov","K diff mot","Möjlig skörde-",null,"Vinst av behovsanpassad K-giva",null,null,null,null,null,null,null,null,null,null,null,"Grundformler kaliumbehov (Rekommendationer för gödsling och kalkning 2020)",null,null,null,null,null,null,null,null,null,"Aktuell formel"]
[null,"K-AL","prov","K-AL","utifrån jordproverna","medelgivan","ökning",null," jämfört med enhetlig giva."]
[null,"I  0-4",{"$f":"COUNTIF(Blad4!D:D,\"<=4\")-COUNTIF(Blad4!D:D,\"=0\")","v":0},{"$f":"IF(C25>0,SUMIF(Blad4!D:D,\"<=4\")/C25,0)","v":0},{"$f":"IF(C25>0,SUMIF(Blad4!D:D,\"<4,01\",Blad4!O:O)/C25,0)","v":0},{"$f":"IF(C25=0,0,IF($F$9=0,$F$10-E25,$F$9-E25))","v":0},{"$f":"IF(F25<0,-F25*$AE$35,0)","v":0},null,"Skördeökning",{"$f":"G31","v":{"$error":"#DIV/0!"}},{"$f":"J25*K7","v":{"$error":"#DIV/0!"}},null,null,null,null,null,null,null,null,"K-AL klass","K-AL tal",{"$f":"V4","v":"Vårsäd"},{"$f":"W4","v":"Höstsäd"},"Våroljeväxter","Höstoljeväxter","Slåttervall I","Fodermajs","Potatis","Sockerbetor","Ärt/Åb",{"$f":"OFFSET(AM3,AM3,0)","v":"Höstsäd"}]
[null,"II  4-8",{"$f":"COUNTIF(Blad4!D:D,\"<=8\")-C25-COUNTIF(Blad4!D:D,\"=0\")","v":0},{"$f":"IF(C26>0,(SUMIF(Blad4!D:D,\"<=8\")-SUMIF(Blad4!D:D,\"<=4\"))/C26,0)","v":0},{"$f":"IF(C26>0,(SUMIF(Blad4!D:D,\"<8,01\",Blad4!O:O)-SUMIF(Blad4!D:D,\"<4,01\",Blad4!O:O))/C26,0)","v":0},{"$f":"IF(C26=0,0,IF($F$9=0,$F$10-E26,$F$9-E26))","v":0},{"$f":"IF(F26<0,-F26*$AE$35,0)","v":0},null,"Ändrat K-behov",{"$f":"IF(F9=0,0,E31-F9)","v":0},{"$f":"-J26*K9","v":0},null,null,null,null,null,null,null,null,"I  0-4",2,40,40,40,55,120,150,260,110,50,{"$f":"OFFSET(U26,0,$AM$3)","v":40},{"$f":"$AE$37*U26+$AE$38","v":40.78947368421052}]
[null,"III  8-16",{"$f":"COUNTIF(Blad4!D:D,\"<=16\")-C26-C25-COUNTIF(Blad4!D:D,\"=0\")","v":0},{"$f":"IF(C27>0,(SUMIF(Blad4!D:D,\"<=16\")-SUMIF(Blad4!D:D,\"<=8\"))/C27,0)","v":0},{"$f":"IF(C27>0,(SUMIF(Blad4!D:D,\"<16,01\",Blad4!O:O)-SUMIF(Blad4!D:D,\"<8,01\",Blad4!O:O))/C27,0)","v":0},0,{"$f":"IF(F27<0,-F27*$AE$35,0)","v":0},null,null,"Summa",{"$f":"K25+K26","v":{"$error":"#DIV/0!"}},null,null,null,null,null,null,null,null,"II  4-8",6,30,30,30,45,80,120,210,80,40,30,{"$f":"$AE$37*U27+$AE$38","v":28.684210526315788}]
[null,"IV  16-32",{"$f":"COUNTIF(Blad4!D:D,\"<=32\")-C27-C26-C25-COUNTIF(Blad4!D:D,\"=0\")","v":0},{"$f":"IF(C28>0,(SUMIF(Blad4!D:D,\"<=32\")-SUMIF(Blad4!D:D,\"<=16\"))/C28,0)","v":0},{"$f":"IF(C28>0,(SUMIF(Blad4!D:D,\"<32,01\",Blad4!O:O)-SUMIF(Blad4!D:D,\"<16,01\",Blad4!O:O))/C28,0)","v":0},0,{"$f":"IF(F28<0,-F28*$AE$35,0)","v":0},null,null,null,null,null,null,null,null,null,null,null,null,"III  8-16",12,10,10,10,25,40,80,160,40,20,10,{"$f":"$AE$37*U28+$AE$38","v":10.526315789473685}]
[null,"V  >32",{"$f":"COUNTIF(Blad4!D:D,\">32\")","v":0},{"$f":"IF(C29>0,SUMIF(Blad4!D:D,\">32\")/C29,0)","v":0},{"$f":"IF(C29>0,(SUMIF(Blad4!D:D,\"<100\",Blad4!O:O)-SUMIF(Blad4!D:D,\"<32,01\",Blad4!O:O))/C29,0)","v":0},0,{"$f":"IF(F29<0,-F29*$AE$35,0)","v":0},null,null,"Summa P & K per ha",{"$f":"K16+K27","v":{"$error":"#DIV/0!"}},null,null,null,null,null,null,null,null,"IV 16-32",24,null,null,null,10,null,50,110,20,null,0,{"$f":"IF($AE$37*U29+$AE$38<0,0,$AE$37*U29+$AE$38)","v":0}]
[null,"Summa på hela arealen",{"$f":"SUM(C25:C29)","v":0},null,{"$f":"SUM(Blad4!O:O)","v":{"$error":"#VALUE!"}},{"$f":"SUMPRODUCT($C$25:$C$29,F25:F29)","v":0},{"$f":"SUMPRODUCT($C$25:$C$29,G25:G29)","v":0},null,null,"Summa för urvalet",{"$f":"K29*C30","v":{"$error":"#DIV/0!"}},null,null,null,null,null,null,null,null,"V  >32",40,null,null,null,null,null,null,null,null,null,0,{"$f":"IF($AE$37*U30+$AE$38<0,0,$AE$37*U30+$AE$38)","v":0}]
[null,"Medel",null,{"$f":"AVERAGE(Blad4!D:D)","v":0},{"$f":"IF(C30=0,0,E30/C30)","v":0},{"$f":"SUMPRODUCT($C$25:$C$29,F25:F29)/C30","v":{"$error":"#DIV/0!"}},{"$f":"SUMPRODUCT(C25:C29,G25:G29)/C30","v":{"$error":"#DIV/0!"}}]
[null,null,null,null,null,null,null,null,null,null,null,null,null,null,null,null,null,null,null,"Grundavkastning (ton/ha)","GrSkK",5,5,2,3.5,6,10,30,60,3.5,5]
[null,null,null,null,null,null,null,"Mängd som kan sparas genom att  stänga av spridaren på de två högsta klasserna","P","K",null,null,null,null,null,null,null,null,null,"För varje tons avvikelse förändras behovet med (kg/ha)","JustK",5,5,10,10,20,10,4,2,10,5]
[null,null,null,null,null,null,null,"Areal i klass IV-V som inte behöver gödslas",{"$f":"INT(((IF(AE8=0,C17,0)+(IF(AE9=0,C18,0)+IF(AE10=0,C19,0))/C20)*K5))","v":{"$error":"#DIV/0!"}},{"$f":"((IF(AE29=0,C28,0)+IF(AE30=0,C29,0))/C30)*K5","v":{"$error":"#DIV/0!"}},"ha"]
[null,null,null,null,null,null,null,"Mängd fosfor och kalium som kan sparas",{"$f":"I34*E9","v":{"$error":"#DIV/0!"}},{"$f":"J34*F9","v":{"$error":"#DIV/0!"}},"kg",null,null,null,null,null,null,null,null,"kg skördeförlust per saknat kg K","SkForK",15,15,15,15,15,15,50,50,15,{"$f":"OFFSET(U35,0,$AM$3)","v":15}]
[null,null,null,null,null,null,null,"Kostnad för den outnyttjade P och K gödningen",{"$f":"I35*K8","v":{"$error":"#DIV/0!"}},{"$f":"J35*K9","v":{"$error":"#DIV/0!"}},"kr",null,null,null,null,null,null,null,null,null,null,null,null,null,null,null,null,null,null,null,"Formel (Y=k*x+m)","R2"]
[null,null,null,null,null,null,null,null,null,null,null,null,null,null,null,null,null,null,null,null,"k",{"$f":"SLOPE(V26:V29,$U$26:$U$29)","v":-3.0263157894736836},{"$f":"SLOPE(W26:W29,$U$26:$U$29)","v":-3.0263157894736836},-3.0263157894736836,-2.0471014492753623,-7.8947368421052628,-4.4202898550724639,-6.5217391304347823,-3.9492753623188408,-3.0263157894736836,{"$f":"OFFSET(U37,0,$AM$3)","v":-3.0263157894736836},{"$f":"CORREL(AE26:AE30,AF26:AF30)","v":0.99900269248152029}]
[null,"Kalkyl som inkluderar kostnader för utrustning till GPS-spridning",null,null,null,null,null,null,null,null,null,null,null,null,null,null,null,null,null,null,"m",{"$f":"INTERCEPT(V26:V29,$U$26:$U$29)","v":46.84210526315789},{"$f":"INTERCEPT(W26:W29,$U$26:$U$29)","v":46.84210526315789},46.84210526315789,56.268115942028984,132.63157894736841,148.62318840579709,256.73913043478262,105.94202898550725,56.84210526315789,{"$f":"OFFSET(U38,0,$AM$3)","v":46.84210526315789}]
[null,"GPS styrning av gödselspridaren",null,null,"Investering","Kost./år",null,null,null,null,null,null,null,null,null,null,null,null,null,null,null,null,null,null,null,null,null,null,null,"Formel (Y=k*x+m)+(Skörd-GrSkK)*justK",{"$f":"IF(($AE$37*$U$28)+$AE$38+(($AE$32-$AE$32)*$AE$33)<1,0,ROUND(($AE$37*$U$28)+$AE$38+(($AE$32-$AE$32)*$AE$33),1))","v":10.5},"kg K vid klass III"]
[null,"Styrmodul med DGPS delad på  3år",null,null,35000,{"$f":"E40/3","v":11666.666666666666},null,null,null,{"$f":"(-$E40/3/K$5)","v":{"$error":"#DIV/0!"}},"kr/ha & år"]
[null,"Underhåll o support på utrustning",null,null,null,1000,null,null,null,{"$f":"(-$F41/K$5)","v":{"$error":"#DIV/0!"}},"kr/ha & år"]
[null,"Markkartering"]
[null,"1/2 markkarteringskostnaden delad på 8 år mellan karteringarna",null,null,null,{"$f":"K10/2","v":150},null,null,null,{"$f":"-$F$43/8","v":-18.75},"kr/ha & år"]
[null,"Gödslingskartor och styrfiler delad på år",null,null,500,5,null,null,null,{"$f":"-E44/F44/$K$5/8","v":{"$error":"#DIV/0!"}},"kr/ha & år"]
[null,"Summa vinst för platsanpassad PK-gödsling",null,null,null,null,null,null,null,{"$f":"K16+K27","v":{"$error":"#DIV/0!"}},"kr/ha & år"]
[null,null,null,null,null,null,null,null,"Summa per år & ha inkl GPS-styrning av gödselspridaren:",{"$f":"SUM(J40:J45)","v":{"$error":"#DIV/0!"}},"kr/ha & år"]
[null,null,null,null,null,null,null,null,"Summa för hela gården/år:",{"$f":"J46*K5","v":{"$error":"#DIV/0!"}},"kr/år"]

{"sheet":"Kalkkalkyl","index":5,"n_rows":57,"n_cols":52,"rows_kept":57,"cut":false,"hidden":false,"merged":[[74,1,74,5],[75,1,75,5]]}
["Vad tjänar du på precisionskalkning?",null,null,null,null,null,null,null,null,null,null,null,null,null,null,null,null,null,null,null,null,null,null,null,null,null,null,"CaO obehov","Antal prov",null," ","Medel - delav","% sk.ökning","Manganbrist","Mål pH",null,null,null,null,null,null,null,null,null,null,null,null,null,null,null,"Radetiketter","Medel av Ton CaO per ha"]
[null,null,null,null,null,null,null,null,null,null,null,null,null,null,null,null,null,null,null,null,null,null,null,null,null,"Antal","inget under 0,25",0,{"$f":"+C19","v":0},null,null,2,5,3,16,{"$f":"(0.1*AI2)-1.1","v":0.5},null,null,null,null,null,null,null,null,null,null,null,null,null,null,1,0.74453608074910482]
[null,"Medelskörd",null,8000,null,null,null,null,null,null,null,null,null,null,null,null,null,null,null,null,null,null,null,null,null,"Lägst","låg under",{"$f":"AB4/1.5","v":{"$error":"#VALUE!"}},{"$f":"+D19","v":1},null,null,"hela arealen",0,0,-1,null,null,null,null,null,null,null,null,null,null,null,null,null,null,null,2,3.5403447760747659]
[null,"Pris på skörden",null,1.5,null,null,null,null,null,null,null,null,null,null,null,null,null,null,null,null,null,null,null,null,null,"Medel","medel",{"$f":"IF(AVERAGE(Blad4!M:M)<1,1,AVERAGE(Blad4!M:M))","v":{"$error":"#VALUE!"}},{"$f":"+E19","v":0},null,null,"del av areal med behov",0.01,0.01,-0.9,null,null,null,null,null,null,null,null,null,null,null,null,null,null,null,3,0]
[null,"Kalkningskostnad ",null,350,null,null,null,null,null,null,null,null,null,null,null,null,null,null,null,null,null,null,null,null,null,null,"hög över",{"$f":"+AB4*1.5","v":{"$error":"#VALUE!"}},{"$f":"+F19","v":1},null,null,null,0.02,0.02,-0.8,null,null,null,null,null,null,null,null,null,null,null,null,null,null,null,4,0.39375421055738968]
[null,"CaO innehåll i kalkprodukten",null,0.5,null,null,null,null,null,null,null,null,null,null,null,null,null,null,null,null,null,null,null,null,null,"Högst",null,null,null,null,null,null,0.03,0.03,-0.7,null,null,null,null,null,null,null,null,null,null,null,null,null,null,null,5,0.87302073549926718]
[null,"Areal",null,{"$f":"Nyckeltal!D6","v":0},null,null,null,null,null,null,null,null,null,null,null,null,null,null,null,null,null,null,null,null,null,null,{"$f":"STDEV(Blad4!M:M)","v":{"$error":"#VALUE!"}},null,null,null,null,null,0.04,0.04,-0.6,null,null,null,null,null,null,null,null,null,null,null,null,null,null,null,6,2.9587214842697951]
[null,"Merkostnad för kalkning med GPS",null,35,null,null,null,null,null,null,null,null,null,null,null,null,null,null,null,null,null,null,null,null,null,null,null,null,null,null,null,null,0.05,0.05,-0.5,null,null,null,null,null,null,null,null,null,null,null,null,null,null,null,7,1.2285435854611992]
[null,null,null,null,null,null,null,null,null,null,null,null,null,null,null,null,null,null,null,null,null,null,null,null,null,null,null,null,null,null,null,null,0.06,0.06,-0.4,null,null,null,null,null,null,null,null,null,null,null,null,null,null,null,8,1.4433054448526077]
[null,null,null,null,null,null,null,null,null,null,null,null,null,null,null,null,null,null,null,null,null,null,null,null,null,null,null,null,null,null,null,null,null,null,-0.3,null,null,null,null,null,null,null,null,null,null,null,null,null,null,null,9,1.7349258513998489]
[null,"Fördelning analysresultat på olika delar av fältet","Del av fält \nutan \nkalkbehov","Del av fält med\nlåga \nkalkbehov","Del av fält med \nmedel \nkalkbehov","Del av fält med \nhöga \nkalkbehov",null,null,null,null,null,null,null,null,null,null,null,null,null,null,null,null,null,null,null,null,null,null,null,null,null,null,null,null,-0.2,null,null,null,null,null,null,null,null,null,null,null,null,null,null,null,10,2.2208303250797985]
[null,"pH",{"$f":"IF(C19>0,C13/C19,0)","v":0},{"$f":"IF(D19>0,D13/D19,0)","v":0},{"$f":"IF(E19>0,E13/E19,0)","v":0},{"$f":"IF(F19>0,SUMIF(Blad4!M:M,CONCATENATE(\">\",AB5),Blad4!B:B)/F19,0)","v":0},null,null,null,null,null,null,null,null,null,null,null,null,null,null,null,null,null,null,null,null,null,null,null,null,null,null,null,null,-0.1,null,null,null,null,null,null,null,null,null,null,null,null,null,null,null,11,2.4146505817370918]
[null,"summapH",{"$f":"SUMIF(Blad4!M:M,\"<0,25\",Blad4!B:B)","v":0},{"$f":"SUMIF(Blad4!M:M,CONCATENATE(\"<\",AB3),Blad4!B:B)-C13","v":0},{"$f":"SUMIF(Blad4!M:M,CONCATENATE(\">\",AB3),Blad4!B:B)-F13","v":0},{"$f":"SUMIF(Blad4!M:M,CONCATENATE(\">\",AB5),Blad4!B:B)","v":0},null,null,null,null,null,null,null,null,null,null,null,null,null,null,null,null,null,null,null,null,null,null,null,null,null,null,null,null,0,null,null,null,null,null,null,null,null,null,null,null,null,null,null,null,12,4.1136137073684207]
[null,"summaler",{"$f":"SUMIF(Blad4!M:M,\"<0,25\",Blad4!K:K)","v":0},{"$f":"SUMIF(Blad4!M:M,CONCATENATE(\"<\",AB3),Blad4!K:K)-C14","v":6306.5790304909497},{"$f":"SUMIF(Blad4!M:M,CONCATENATE(\">\",AB3),Blad4!K:K)-F14","v":0},{"$f":"SUMIF(Blad4!M:M,CONCATENATE(\">\",AB5),Blad4!K:K)","v":6306.5790304909497},null,null,null,null,null,null,null,null,null,null,null,null,null,null,null,null,null,null,null,null,null,null,null,null,null,null,null,null,"+0,1",null,null,null,null,null,null,null,null,null,null,null,null,null,null,null,13,3.9053940137497332]
[null,"summamull",{"$f":"SUMIF(Blad4!M:M,\"<0,25\",Blad4!I:I)","v":0},{"$f":"SUMIF(Blad4!M:M,CONCATENATE(\"<\",AB3),Blad4!I:I)-C15","v":706.47818144773657},{"$f":"SUMIF(Blad4!M:M,CONCATENATE(\">\",AB3),Blad4!I:I)-F15","v":0},{"$f":"SUMIF(Blad4!M:M,CONCATENATE(\">\",AB5),Blad4!I:I)","v":706.47818144773657},null,null,null,null,null,null,null,null,null,null,null,null,null,null,null,null,null,null,null,null,null,null,null,null,null,null,null,null,"+0,2",null,null,null,null,null,null,null,null,null,null,null,null,null,null,null,14,2.9879546371734245]
[null,"SummamålpH",{"$f":"SUMIF(Blad4!M:M,\"<0,25\",Blad4!L:L)","v":0},{"$f":"SUMIF(Blad4!M:M,CONCATENATE(\"<\",AB3),Blad4!L:L)-C16","v":1391.8186891678276},{"$f":"SUMIF(Blad4!M:M,CONCATENATE(\">\",AB3),Blad4!L:L)-F16","v":0},{"$f":"SUMIF(Blad4!M:M,CONCATENATE(\">\",AB5),Blad4!L:L)","v":1391.8186891678276},null,null,null,null,null,null,null,null,null,null,null,null,null,null,null,null,null,null,null,null,null,null,null,null,null,null,null,null,"+0,3",null,null,null,null,null,null,null,null,null,null,null,null,null,null,null,15,2.3107794812636655]
[null,"Lerhalt",{"$f":"+IF(C19>0,C14/C19,0)","v":0},{"$f":"+IF(D19>0,D14/D19,0)","v":6306.5790304909497},{"$f":"+IF(E19>0,E14/E19,0)","v":0},{"$f":"+IF(F19>0,F14/F19,0)","v":6306.5790304909497},null,null,null,null,null,null,null,null,null,null,null,null,null,null,null,null,null,null,null,null,null,null,null,null,null,null,null,null,"+0,4",null,null,null,null,null,null,null,null,null,null,null,null,null,null,null,16,1.4789756805900527]
[null,"Mullhalt",{"$f":"+IF(C19>0,C15/C19,0)","v":0},{"$f":"+IF(D19>0,D15/D19,0)","v":706.47818144773657},{"$f":"+IF(E19>0,E15/E19,0)","v":0},{"$f":"+IF(F19>0,F15/F19,0)","v":706.47818144773657},null,null,null,null,null,null,null,null,null,null,null,null,null,null,null,null,null,null,null,null,null,null,null,null,null,null,null,null,"+0,5",null,null,null,null,null,null,null,null,null,null,null,null,null,null,null,17,3.3104810526315811]
[null,"Andel av arealen",{"$f":"COUNTIF(Blad4!M:M,\"<0,25\")","v":0},{"$f":"COUNTIF(Blad4!M:M,CONCATENATE(\"<\",AB3))-C19","v":1},{"$f":"COUNTIF(Blad4!M:M,CONCATENATE(\">\",AB3))-F19","v":0},{"$f":"COUNTIF(Blad4!M:M,CONCATENATE(\">\",AB5))","v":1},null,null,null,null,null,null,null,null,null,null,null,null,null,null,null,null,null,null,null,null,null,null,null,null,null,null,null,null,"+0,6",null,null,null,null,null,null,null,null,null,null,null,null,null,null,null,"(tom)",{"$error":"#DIV/0!"}]
[null,"Mål-pH    Ev. grödjustering av mål-pH. tex. 0.5 till sockerbetor",{"$f":"IF(C19=0,0,C16/C19)","v":0},{"$f":"IF(D19=0,0,D16/D19)","v":1391.8186891678276},{"$f":"IF(E19=0,0,E16/E19)","v":0},{"$f":"IF(F19=0,0,F16/F19)","v":1391.8186891678276},null,null,null,null,null,null,null,null,null,null,null,null,null,null,null,null,null,null,null,null,null,null,null,null,null,null,null,null,"+0,7"]
[null,"summa CaO",null,{"$f":"SUMIF(Blad4!M:M,\">0,25\",Blad4!M:M)-F21-E21","v":{"$error":"#VALUE!"}},{"$f":"SUMIF(Blad4!M:M,CONCATENATE(\">\",AB3),Blad4!M:M)-F21","v":{"$error":"#VALUE!"}},{"$f":"SUMIF(Blad4!M:M,CONCATENATE(\">\",AB5),Blad4!M:M)","v":{"$error":"#VALUE!"}},null,null,null,null,null,null,null,null,null,null,null,null,null,null,null,null,null,null,null,null,null,null,null,null,null,null,null,null,"+0,8"]
[null,"Kalkbehov ton CaO/ha",null,{"$f":"IF(D19=0,0,D21/D19)","v":{"$error":"#VALUE!"}},{"$f":"IF(E19=0,0,E21/E19)","v":0},{"$f":"IF(F19=0,0,F21/F19)","v":{"$error":"#VALUE!"}},null,null,null,null,null,null,null,null,null,null,null,null,null,null,null,null,null,null,null,null,null,null,null,null,null,null,null,null,"+0,9"]
[null,"Kalkbehov på delar av fält, ton kalk/ha",null,{"$f":"$D$22/$D$6","v":{"$error":"#VALUE!"}},{"$f":"$E$22/$D$6","v":0},{"$f":"$F$22/$D$6","v":{"$error":"#VALUE!"}},null,null,null,null,null,null,null,null,null,null,null,null,null,null,null,null,null,null,null,null,null,null,null,null,null,null,null,null,"+1"]
[]
[null,"Ditt totalbehov av kalk är ca",{"$f":"SUM(D21:F21)/D6","v":{"$error":"#VALUE!"}}]
[null,"Sammanfattning "]
[null,"Om kalken sprids jämt på hela den valda arealen blir nettot ca",{"$f":"E41","v":{"$error":"#VALUE!"}}]
[null,"Om kalken sprids jämt på den del som har kalkbehov blir nettot ca",{"$f":"E49","v":{"$error":"#VALUE!"}}]
[null,"Om kalken sprids med tilldelningsfil blir nettot ca",{"$f":"E57","v":{"$error":"#VALUE!"}}]
[]
[]
[null,"Denna uträkning är ungefärlig och endast till för att tydliggöra skillnaden mellan att sprida med eller utan tilldelningsfil."]
[]
[]
[null,"Fördelning av totalbehovet på hela arealen (rak giva)",{"$f":"E35","v":{"$error":"#VALUE!"}},{"$f":"E35","v":{"$error":"#VALUE!"}},{"$f":"C25/D7","v":{"$error":"#VALUE!"}},{"$f":"E35","v":{"$error":"#VALUE!"}}]
[null,"Kostnad för kalk och körning delat på 8 år",{"$f":"-(C35*$D$5)/8","v":{"$error":"#VALUE!"}},{"$f":"-(D35*$D$5)/8","v":{"$error":"#VALUE!"}},{"$f":"-(E35*$D$5)/8","v":{"$error":"#VALUE!"}},{"$f":"-(F35*$D$5)/8","v":{"$error":"#VALUE!"}}]
[null,"Förväntad skördeökning. (ca.4% vid normal effekt)",null,{"$f":"IF(D35>D23,$D$3*(D23/3)*(($AG$2-1)/100),$D$3*(D35/3)*(($AG$2-1)/100))","v":{"$error":"#VALUE!"}},{"$f":"IF(E35>E23,$D$3*(E23/3)*(($AG$2-1)/100),$D$3*(E35/3)*(($AG$2-1)/100))","v":{"$error":"#VALUE!"}},{"$error":"#VALUE!"}]
[null,"Skördeökning för kalkningen",{"$f":"C37*$D$4","v":0},{"$f":"(D37)*$D$4","v":{"$error":"#VALUE!"}},{"$f":"E37*$D$4","v":{"$error":"#VALUE!"}},{"$f":"F37*$D$4","v":{"$error":"#VALUE!"}}]
[null,"Netto",{"$f":"C38+C36","v":{"$error":"#VALUE!"}},{"$f":"D38+D36","v":{"$error":"#VALUE!"}},{"$f":"E38+E36","v":{"$error":"#VALUE!"}},{"$f":"F38+F36","v":{"$error":"#VALUE!"}}]
[null,"Vinst med medel kalkning på hela arealen kr/ha & år",null,null,{"$f":"IF(C25=0,0,((C39*C19)+(D39*D19)+(E39*E19)+(F39*F19))/IF(AF2=1,D7,D19+E19+F19))","v":{"$error":"#VALUE!"}}]
[null,"Total vinst med medelgiva på del av areal med behov (0 ha) /år",null,null,{"$f":"IF(AF2=1,E40*$D$7,E40*(D19+E19+F19))","v":{"$error":"#VALUE!"}}]
[]
[null,"Fördelning av totalbehovet på areal med behov (rak giva)",0,{"$f":"E43","v":{"$error":"#VALUE!"}},{"$f":"C25/(SUM(D19:F19))","v":{"$error":"#VALUE!"}},{"$f":"E43","v":{"$error":"#VALUE!"}}]
[null,"Kostnad för kalk och körning delat på 8 år",null,{"$f":"-(D43*$D$5)/8","v":{"$error":"#VALUE!"}},{"$f":"-(E43*$D$5)/8","v":{"$error":"#VALUE!"}},{"$f":"-(F43*$D$5)/8","v":{"$error":"#VALUE!"}}]
[null,"Förväntad skördeökning. (ca.4% vid normal effekt)",null,{"$f":"IF(D43>D23,$D$3*(D23/3)*(($AG$2-1)/100),$D$3*(D43/3)*(($AG$2-1)/100))","v":{"$error":"#VALUE!"}},{"$f":"IF(E43>E23,$D$3*(E23/3)*(($AG$2-1)/100),$D$3*(E43/3)*(($AG$2-1)/100))","v":{"$error":"#VALUE!"}},{"$f":"IF(F43>F23,$D$3*(F23/3)*(($AG$2-1)/100),$D$3*(F43/3)*(($AG$2-1)/100))","v":{"$error":"#VALUE!"}}]
[null,"Skördeökning för kalkningen",{"$f":"C45*$D$4","v":0},{"$f":"(D45)*$D$4","v":{"$error":"#VALUE!"}},{"$f":"E45*$D$4","v":{"$error":"#VALUE!"}},{"$f":"F45*$D$4","v":{"$error":"#VALUE!"}}]
[null,"Netto",{"$f":"C46+C44","v":0},{"$f":"D46+D44","v":{"$error":"#VALUE!"}},{"$f":"E46+E44","v":{"$error":"#VALUE!"}},{"$f":"F46+F44","v":{"$error":"#VALUE!"}}]
[null,"Vinst med medel kalkning kr/ha & år",null,null,{"$f":"IF(C25=0,0,((C47*C19)+(D47*D19)+(E47*E19)+(F47*F19))/IF(AF12=1,D8,D19+E19+F19))","v":{"$error":"#VALUE!"}}]
[null,"Total vinst med medelgiva på del av areal med behov (0 ha) /år",null,null,{"$f":"IF(AF12=1,E48*$D$7,E48*(D19+E19+F19))","v":{"$error":"#VALUE!"}}]
[]
[null,"Fördelning av totalbehovet med tilldelningsfil",0,{"$f":"$D$22/$D$6","v":{"$error":"#VALUE!"}},{"$f":"$E$22/$D$6","v":0},{"$f":"$F$22/$D$6","v":{"$error":"#VALUE!"}}]
[null,"Kostnad för kalk och körning med GPS delat på 8 år mellan kalkningarna",0,{"$f":"-(D51*$D$5)/8-(D8*E51)/8","v":{"$error":"#VALUE!"}},{"$f":"-(E51*$D$5)/8-(D8*E51)/8","v":0},{"$f":"-(F51*$D$5)/8-(D8*E51)/8","v":{"$error":"#VALUE!"}}]
[null,"Förväntad skördeökning.  (ca.4% vid normal effekt)",null,{"$f":"IF($AG$2=1,0,IF($E$23=0,0,$D$3*(D$51/3)*(($AG$2-1)/100)))","v":0},{"$f":"IF($AG$2=1,0,IF($E$23=0,0,$D$3*(E$51/3)*(($AG$2-1)/100)))","v":0},{"$f":"IF($AG$2=1,0,IF($F$23=0,0,$D$3*(F$51/3)*(($AG$2-1)/100)))","v":{"$error":"#VALUE!"}}]
[null,"Skördeökning i kronor för kalkningen",{"$f":"C53*$D$4","v":0},{"$f":"D53*$D$4","v":0},{"$f":"E53*$D$4","v":0},{"$f":"F53*$D$4","v":{"$error":"#VALUE!"}}]
[null,"Netto",{"$f":"C54+C52","v":0},{"$f":"D54+D52","v":{"$error":"#VALUE!"}},{"$f":"E54+E52","v":0},{"$f":"F54+F52","v":{"$error":"#VALUE!"}}]
[null,"Vinst med behovsannpassad kalkning med GPS,  kr/ha & år",null,null,{"$f":"((C55*C19)+(D55*D19)+(E55*E19)+(F55*F19))/D7","v":{"$error":"#VALUE!"}}]
[null,"Total vinst med behovsannpassad kalkning med GPS / år",null,null,{"$f":"E56*$D$7","v":{"$error":"#VALUE!"}}]

{"sheet":"Yara N-Sensor","index":6,"n_rows":35,"n_cols":11,"rows_kept":35,"cut":false,"hidden":false,"merged":[[9,1,9,3],[29,1,29,3],[19,1,19,2],[20,1,20,2],[22,1,22,2],[23,1,23,2],[28,1,28,3],[26,1,26,3],[25,1,25,3],[18,2,18,3],[15,1,15,3],[10,1,10,3],[24,1,24,2],[13,1,13,3],[12,1,12,3],[14,1,14,3],[0,1,0,9],[2,1,2,3],[3,2,3,3],[6,1,6,3],[8,1,8,3]]}
[null,"Exempel på gårdskalkyler för Yara N-Sensor"]
[null,null,null,null,null,null,null,null,null,"Din kalkyl"]
[null,"Årlig användning, ha",null,null,200,500,1000,null,null,100," hektar"]
[null,null," Avskrivningstid, år",null,5,5,5,null,null,10," år"]
[]
[null,"Intäkter"]
[]
[null,"Skördeökning",1.5,"Spannmålspris",{"$f":"260*C8","v":390},{"$f":"260*C8","v":390},{"$f":"260*C8","v":390},null,null,{"$f":"260*C8","v":390}," kr/ha"]
[null,"Mindre liggsäd",null,null,null,null,null,null,null,0," kr/ha"]
[null,"Jämnare kvalitet",null,null,null,null,null,null,null,50," kr/ha"]
[null,"Ökad tröskkapacitet",null,null,null,null,null,null,null,50," kr/ha"]
[null,"Behovsanpassad P- och K-gödsling",null,null,null,null,null,null,null,0," kr/ha"]
[null,"Information om fältet",null,null,null,null,null,null,null,10," kr/ha"]
[null,"Övrigt",null,null,null,null,null,null,null,null," kr/ha"]
[]
[null,"Summa intäkter/ha ",null,null,{"$f":"SUM(E8:E14)","v":390},{"$f":"SUM(F8:F14)","v":390},{"$f":"SUM(G8:G14)","v":390},null,null,{"$f":"SUM(J8:J14)","v":500}," kr/ha"]
[]
[null,"Kostnader"]
[null,null,"Kapitalkostnad"]
[null,"N-Sensor och N-tester",null,185000,{"$f":"$D$20/E$3/E$4","v":185},{"$f":"$D$20/F$3/F$4","v":74},{"$f":"$D$20/G$3/G$4","v":37},null,null,{"$f":"$D$20/J$3/J$4","v":185}," kr/ha"]
[null,"GPS-utrustning (enkel USB-GPS ingår)",null,0,{"$f":"$D$21/E$3/E$4","v":0},{"$f":"$D$21/F$3/F$4","v":0},{"$f":"$D$21/G$3/G$4","v":0},null,null,{"$f":"$D$21/J$3/J$4","v":0}," kr/ha"]
[null,"Räntekostnad",null,0.06,{"$f":"$D$22*($D$20+$D$21)/2/E$3","v":27.75},{"$f":"$D$22*($D$20+$D$21)/2/F$3","v":11.1},{"$f":"$D$22*($D$20+$D$21)/2/G$3","v":5.55},null,null,{"$f":"$D$22*($D$20+$D$21)/2/J$3","v":55.5}," kr/ha"]
[null,"N-Sensor Support",null,7500,{"$f":"$D$23/E$3","v":37.5},{"$f":"$D$23/F$3","v":15},{"$f":"$D$23/G$3","v":7.5},null,null,{"$f":"$D$23/J$3","v":75}," kr/ha"]
[null,"Service, underhåll",null,2000,{"$f":"$D$24/E$3","v":10},{"$f":"$D$24/F$3","v":4},{"$f":"$D$24/G$3","v":2},null,null,{"$f":"$D$24/J$3","v":20}," kr/ha"]
[]
[null,"Summa kostnader/ha",null,null,{"$f":"SUM(E20:E25)","v":260.25},{"$f":"SUM(F20:F25)","v":104.1},{"$f":"SUM(G20:G25)","v":52.05},null,null,{"$f":"SUM(J20:J25)","v":335.5}," kr/ha"]
[]
[]
[null,"Vinst kr/ha",null,null,{"$f":"E16-E26","v":129.75},{"$f":"F16-F26","v":285.89999999999998},{"$f":"G16-G26","v":337.95},null,null,{"$f":"J16-J26","v":164.5}," kr/ha"]
[null,"Vinst kr/gård",null,null,{"$f":"E29*E3","v":25950},{"$f":"F29*F3","v":142950},{"$f":"G29*G3","v":337950},null,null,{"$f":"J29*J3","v":16450}," kr/gård"]
[]
[]
[null,"PrecisionSupport"]
[null,"Knud Nissen"]
[null,"Yara AB",null,null,"070-537 46 99",null,null,null,null,null,"knud.nissen@yara.com"]

{"sheet":"Import","index":7,"n_rows":1,"n_cols":35,"rows_kept":1,"cut":false,"hidden":false,"merged":[]}
["Skifte","Gröna kolumner är\nviktiga att importera\nX","y","År","Provnr","Märkning","pH","P_AL","P_HCl","K_AL","\n\nBehövs om ler saknas\nK_HCl","Mg_AL","Cu_HCl","K_Mg_kvot","Bor","Ca_AL","Mullhalt","Kan ersättas med K-HCL\n\nTotal_lerhalt","Sand_grovmo","Volymvikt","T_värde","S_värde","Basmättnadsgrad","Cd_HNO3","Kalkbehov","Jordart","Fin_lerhalt","Mineralkväve_Kg_N_ha","Mineralkväve_NO3_N","Mineralkväve_NH4_N","Mineralkväve_djup","Cystnematoder_potatis","Cystnematoder_betor","Cystnematoder_spannmål","Övrigt"]

{"sheet":"Blad4","index":8,"n_rows":5,"n_cols":19,"rows_kept":5,"cut":false,"hidden":true,"merged":[]}
["Skifte","(Alla)"]
[]
["Radetiketter","Summa av pH","Summa av P_AL","Summa av K_AL","Summa av K-HCL","Summa av Mullhalt","Summa av Total_lerhalt","Summa av Grid KHCL","Summa av GridMull","Summa av Gridler","Summa av Lerhalt för användning till kalkbehov","Summa av Mål pH","Summa av Ton CaO per ha","Summa av P beh","Summa av K beh","Summa av Pmedelskifte","Summa av Kmedelskifte","Summa av Pförlustkg","Summa av Kförlustkg"]
["(tom)"]
[null,0,0,0,0,0,0,62764.402588775083,706.47818144773657,6306.5790304909497,6306.5790304909497,1391.8186891678276,{"$error":"#VALUE!"},{"$error":"#VALUE!"},{"$error":"#VALUE!"},{"$error":"#VALUE!"},{"$error":"#VALUE!"},{"$error":"#VALUE!"},{"$error":"#VALUE!"}]

{"sheet":"Blad1","index":9,"n_rows":22,"n_cols":4,"rows_kept":22,"cut":false,"hidden":true,"merged":[]}
[]
[]
["Radetiketter","Medel av Pförlustkg","Medel av Kförlustkg","Medel av kr"]
[1,72.619834710743802,59.020661157024797,263.28099173553716]
[2,57.000000000000036,25.997448979591827,165.9948979591837]
[3,46.83333333333335,43.5,180.66666666666671]
[4,15.960000000000003,33.600000000000009,99.120000000000019]
["(tom)"]
[8,48.374999999999993,42.1875,181.125]
[9,19.627599243856331,44.452741020793958,128.16068052930058]
[5,26.999999999999982,45.221893491124256,144.4437869822485]
[6,35.71875000000005,68.25,207.93750000000011]
[7,74.671597633136102,49.301405325443788,247.94600591715985]
[10,45.749999999999986,31.218750000000004,153.93749999999997]
[11,25.124999999999972,71.7890625,193.82812499999994]
[12,0,22.875000000000007,45.750000000000014]
[13,11.25,22.875000000000007,68.250000000000014]
[14,80.40000000000002,45.339999999999996,251.48000000000005]
[15,32.510204081632665,40.959183673469362,146.93877551020404]
[16,46.608996539792486,20.065743944636658,133.34948096885833]
[17,0,0,0]
["Totalsumma",51.987530014364779,44.72295073757585,193.42096150388122]

{"sheet":"Omräknad kartering","index":10,"n_rows":204,"n_cols":30,"rows_kept":204,"cut":false,"hidden":true,"merged":[]}
["Skifte","Gröna kolumner är\nviktiga att importera\nX","y","År","Provnr","Märkning","pH","P_AL","K_AL","K-HCL","Mg_AL","Cu_HCl","Ca_AL","Mullhalt","Total_lerhalt","Grid KHCL","GridMull","Gridler","Lerhalt för användning till kalkbehov","Mål pH","Ton CaO per ha","tom","P beh","K beh","Pmedelskifte","Kmedelskifte","Pförlustkg","Kförlustkg","kr","i"]
[{"$f":"IF(Import!A2=\"\",\"\",Import!A2)","v":""},{"$f":"IF(Import!B2=\"\",\"\",Import!B2)","v":""},{"$f":"IF(Import!C2=\"\",\"\",Import!C2)","v":""},{"$f":"IF(Import!D2=\"\",\"\",Import!D2)","v":""},{"$f":"IF(Import!E2=\"\",\"\",Import!E2)","v":""},{"$f":"IF(Import!F2=\"\",\"\",Import!F2)","v":""},{"$f":"IF(Import!G2=\"\",\"\",Import!G2)","v":""},{"$f":"IF(Import!H2=\"\",\"\",Import!H2)","v":""},{"$f":"IF(Import!J2=\"\",\"\",Import!J2)","v":""},{"$f":"IF(Import!K2=\"\",\"\",Import!K2)","v":""},{"$f":"IF(Import!L2=\"\",\"\",Import!L2)","v":""},{"$f":"IF(Import!M2=\"\",\"\",Import!M2)","v":""},{"$f":"IF(Import!P2=\"\",\"\",Import!P2)","v":""},{"$f":"IF(Import!Q2=\"\",\"\",Import!Q2)","v":""},{"$f":"IF(Import!R2=\"\",\"\",Import!R2)","v":""},420,4.4000000000000004,29,{"$f":"IF(R2=\"\",( 0.0977*P2 )+ 4.135,R2)","v":29},{"$f":"IF(Q2=\"\",\"\",(-0.00011*POWER(S2,2))+(0.01417*S2)+((0.00057*POWER(Q2,2))-(0.0529*Q2)+6.2018)+Kalkkalkyl!$AJ$2)","v":6.7984952000000005},{"$f":"IF(Q2=\"\",\"\",IF(T2-G2<0,0,(T2-G2)*(1.9+(3.5*Q2+S2)/3.8)/2))","v":{"$error":"#VALUE!"}},null,{"$f":"IF(('PK kalkyl'!$AE$17*H2)+'PK kalkyl'!$AE$18+(('PK kalkyl'!$K$6-'PK kalkyl'!$AE$12)*'PK kalkyl'!$AE$13)<1,0,ROUND(('PK kalkyl'!$AE$17*H2)+'PK kalkyl'!$AE$18+(('PK kalkyl'!$K$6-'PK kalkyl'!$AE$12)*'PK kalkyl'!$AE$13),1))","v":{"$error":"#VALUE!"}},{"$f":"IF(('PK kalkyl'!$AE$37*I2)+'PK kalkyl'!$AE$38+(('PK kalkyl'!$K$6-'PK kalkyl'!$AE$32)*'PK kalkyl'!$AE$33)<1,0,ROUND(('PK kalkyl'!$AE$37*I2)+'PK kalkyl'!$AE$38+(('PK kalkyl'!$K$6-'PK kalkyl'!$AE$32)*'PK kalkyl'!$AE$33),1))","v":{"$error":"#VALUE!"}},{"$f":"AVERAGEIF(A:A,A2,W:W)","v":{"$error":"#VALUE!"}},{"$f":"AVERAGEIF(A:A,A2,X:X)","v":{"$error":"#VALUE!"}},{"$f":"IF((Y2<W2),Y2-W2,0)*-'PK kalkyl'!$AE$15","v":{"$error":"#VALUE!"}},{"$f":"IF((Z2<X2),Z2-X2,0)*-'PK kalkyl'!$AE$35","v":{"$error":"#VALUE!"}},{"$f":"+AA2*Växtföljd!$G$18+AB2*Växtföljd!$G$18","v":{"$error":"#VALUE!"}}]
[{"$f":"IF(Import!A3=\"\",\"\",Import!A3)","v":""},{"$f":"IF(Import!B3=\"\",\"\",Import!B3)","v":""},{"$f":"IF(Import!C3=\"\",\"\",Import!C3)","v":""},{"$f":"IF(Import!D3=\"\",\"\",Import!D3)","v":""},{"$f":"IF(Import!E3=\"\",\"\",Import!E3)","v":""},{"$f":"IF(Import!F3=\"\",\"\",Import!F3)","v":""},{"$f":"IF(Import!G3=\"\",\"\",Import!G3)","v":""},{"$f":"IF(Import!H3=\"\",\"\",Import!H3)","v":""},{"$f":"IF(Import!J3=\"\",\"\",Import!J3)","v":""},{"$f":"IF(Import!K3=\"\",\"\",Import!K3)","v":""},{"$f":"IF(Import!L3=\"\",\"\",Import!L3)","v":""},{"$f":"IF(Import!M3=\"\",\"\",Import!M3)","v":""},{"$f":"IF(Import!P3=\"\",\"\",Import!P3)","v":""},{"$f":"IF(Import!Q3=\"\",\"\",Import!Q3)","v":""},{"$f":"IF(Import!R3=\"\",\"\",Import!R3)","v":""},414.78733051779756,4.0203162187015433,27.770289578576509,{"$f":"IF(R3=\"\",( 0.0977*P3 )+ 4.135,R3)","v":27.770289578576509},{"$f":"IF(Q3=\"\",\"\",(-0.00011*POWER(S3,2))+(0.01417*S3)+((0.00057*POWER(Q3,2))-(0.0529*Q3)+6.2018)+Kalkkalkyl!$AJ$2)","v":6.8070123644226008},{"$f":"IF(Q3=\"\",\"\",IF(T3-G3<0,0,(T3-G3)*(1.9+(3.5*Q3+S3)/3.8)/2))","v":{"$error":"#VALUE!"}},null,{"$f":"IF(('PK kalkyl'!$AE$17*H3)+'PK kalkyl'!$AE$18+(('PK kalkyl'!$K$6-'PK kalkyl'!$AE$12)*'PK kalkyl'!$AE$13)<1,0,ROUND(('PK kalkyl'!$AE$17*H3)+'PK kalkyl'!$AE$18+(('PK kalkyl'!$K$6-'PK kalkyl'!$AE$12)*'PK kalkyl'!$AE$13),1))","v":{"$error":"#VALUE!"}},{"$f":"IF(('PK kalkyl'!$AE$37*I3)+'PK kalkyl'!$AE$38+(('PK kalkyl'!$K$6-'PK kalkyl'!$AE$32)*'PK kalkyl'!$AE$33)<1,0,ROUND(('PK kalkyl'!$AE$37*I3)+'PK kalkyl'!$AE$38+(('PK kalkyl'!$K$6-'PK kalkyl'!$AE$32)*'PK kalkyl'!$AE$33),1))","v":{"$error":"#VALUE!"}},{"$f":"AVERAGEIF(A:A,A3,W:W)","v":{"$error":"#VALUE!"}},{"$f":"AVERAGEIF(A:A,A3,X:X)","v":{"$error":"#VALUE!"}},{"$f":"IF((Y3<W3),Y3-W3,0)*-'PK kalkyl'!$AE$15","v":{"$error":"#VALUE!"}},{"$f":"IF((Z3<X3),Z3-X3,0)*-'PK kalkyl'!$AE$35","v":{"$error":"#VALUE!"}},{"$f":"+AA3*Växtföljd!$G$18+AB3*Växtföljd!$G$18","v":{"$error":"#VALUE!"}}]
[{"$f":"IF(Import!A4=\"\",\"\",Import!A4)","v":""},{"$f":"IF(Import!B4=\"\",\"\",Import!B4)","v":""},{"$f":"IF(Import!C4=\"\",\"\",Import!C4)","v":""},{"$f":"IF(Import!D4=\"\",\"\",Import!D4)","v":""},{"$f":"IF(Import!E4=\"\",\"\",Import!E4)","v":""},{"$f":"IF(Import!F4=\"\",\"\",Import!F4)","v":""},{"$f":"IF(Import!G4=\"\",\"\",Import!G4)","v":""},{"$f":"IF(Import!H4=\"\",\"\",Import!H4)","v":""},{"$f":"IF(Import!J4=\"\",\"\",Import!J4)","v":""},{"$f":"IF(Import!K4=\"\",\"\",Import!K4)","v":""},{"$f":"IF(Import!L4=\"\",\"\",Import!L4)","v":""},{"$f":"IF(Import!M4=\"\",\"\",Import!M4)","v":""},{"$f":"IF(Import!P4=\"\",\"\",Import!P4)","v":""},{"$f":"IF(Import!Q4=\"\",\"\",Import!Q4)","v":""},{"$f":"IF(Import!R4=\"\",\"\",Import!R4)","v":""},450,3.7,27,27,{"$f":"IF(Q4=\"\",\"\",(-0.00011*POWER(S4,2))+(0.01417*S4)+((0.00057*POWER(Q4,2))-(0.0529*Q4)+6.2018)+Kalkkalkyl!$AJ$2)","v":6.8162733000000006},{"$error":"#VALUE!"},null,{"$f":"IF(('PK kalkyl'!$AE$17*H4)+'PK kalkyl'!$AE$18+(('PK kalkyl'!$K$6-'PK kalkyl'!$AE$12)*'PK kalkyl'!$AE$13)<1,0,ROUND(('PK kalkyl'!$AE$17*H4)+'PK kalkyl'!$AE$18+(('PK kalkyl'!$K$6-'PK kalkyl'!$AE$12)*'PK kalkyl'!$AE$13),1))","v":{"$error":"#VALUE!"}},{"$f":"IF(('PK kalkyl'!$AE$37*I4)+'PK kalkyl'!$AE$38+(('PK kalkyl'!$K$6-'PK kalkyl'!$AE$32)*'PK kalkyl'!$AE$33)<1,0,ROUND(('PK kalkyl'!$AE$37*I4)+'PK kalkyl'!$AE$38+(('PK kalkyl'!$K$6-'PK kalkyl'!$AE$32)*'PK kalkyl'!$AE$33),1))","v":{"$error":"#VALUE!"}},{"$error":"#VALUE!"},{"$error":"#VALUE!"},{"$f":"IF((Y4<W4),Y4-W4,0)*-'PK kalkyl'!$AE$15","v":{"$error":"#VALUE!"}},{"$f":"IF((Z4<X4),Z4-X4,0)*-'PK kalkyl'!$AE$35","v":{"$error":"#VALUE!"}},{"$f":"+AA4*Växtföljd!$G$18+AB4*Växtföljd!$G$18","v":{"$error":"#VALUE!"}}]
[{"$f":"IF(Import!A5=\"\",\"\",Import!A5)","v":""},{"$f":"IF(Import!B5=\"\",\"\",Import!B5)","v":""},{"$f":"IF(Import!C5=\"\",\"\",Import!C5)","v":""},{"$f":"IF(Import!D5=\"\",\"\",Import!D5)","v":""},{"$f":"IF(Import!E5=\"\",\"\",Import!E5)","v":""},{"$f":"IF(Import!F5=\"\",\"\",Import!F5)","v":""},{"$f":"IF(Import!G5=\"\",\"\",Import!G5)","v":""},{"$f":"IF(Import!H5=\"\",\"\",Import!H5)","v":""},{"$f":"IF(Import!J5=\"\",\"\",Import!J5)","v":""},{"$f":"IF(Import!K5=\"\",\"\",Import!K5)","v":""},{"$f":"IF(Import!L5=\"\",\"\",Import!L5)","v":""},{"$f":"IF(Import!M5=\"\",\"\",Import!M5)","v":""},{"$f":"IF(Import!P5=\"\",\"\",Import!P5)","v":""},{"$f":"IF(Import!Q5=\"\",\"\",Import!Q5)","v":""},{"$f":"IF(Import!R5=\"\",\"\",Import!R5)","v":""},391.20500600038184,3.8006711781285576,27.459690665553801,27.459690665553801,{"$f":"IF(Q5=\"\",\"\",(-0.00011*POWER(S5,2))+(0.01417*S5)+((0.00057*POWER(Q5,2))-(0.0529*Q5)+6.2018)+Kalkkalkyl!$AJ$2)","v":6.815138211949054},{"$error":"#VALUE!"},null,{"$f":"IF(('PK kalkyl'!$AE$17*H5)+'PK kalkyl'!$AE$18+(('PK kalkyl'!$K$6-'PK kalkyl'!$AE$12)*'PK kalkyl'!$AE$13)<1,0,ROUND(('PK kalkyl'!$AE$17*H5)+'PK kalkyl'!$AE$18+(('PK kalkyl'!$K$6-'PK kalkyl'!$AE$12)*'PK kalkyl'!$AE$13),1))","v":{"$error":"#VALUE!"}},{"$f":"IF(('PK kalkyl'!$AE$37*I5)+'PK kalkyl'!$AE$38+(('PK kalkyl'!$K$6-'PK kalkyl'!$AE$32)*'PK kalkyl'!$AE$33)<1,0,ROUND(('PK kalkyl'!$AE$37*I5)+'PK kalkyl'!$AE$38+(('PK kalkyl'!$K$6-'PK kalkyl'!$AE$32)*'PK kalkyl'!$AE$33),1))","v":{"$error":"#VALUE!"}},{"$error":"#VALUE!"},{"$error":"#VALUE!"},{"$f":"IF((Y5<W5),Y5-W5,0)*-'PK kalkyl'!$AE$15","v":{"$error":"#VALUE!"}},{"$f":"IF((Z5<X5),Z5-X5,0)*-'PK kalkyl'!$AE$35","v":{"$error":"#VALUE!"}},{"$f":"+AA5*Växtföljd!$G$18+AB5*Växtföljd!$G$18","v":{"$error":"#VALUE!"}}]
[{"$f":"IF(Import!A6=\"\",\"\",Import!A6)","v":""},{"$f":"IF(Import!B6=\"\",\"\",Import!B6)","v":""},{"$f":"IF(Import!C6=\"\",\"\",Import!C6)","v":""},{"$f":"IF(Import!D6=\"\",\"\",Import!D6)","v":""},{"$f":"IF(Import!E6=\"\",\"\",Import!E6)","v":""},{"$f":"IF(Import!F6=\"\",\"\",Import!F6)","v":""},{"$f":"IF(Import!G6=\"\",\"\",Import!G6)","v":""},{"$f":"IF(Import!H6=\"\",\"\",Import!H6)","v":""},{"$f":"IF(Import!J6=\"\",\"\",Import!J6)","v":""},{"$f":"IF(Import!K6=\"\",\"\",Import!K6)","v":""},{"$f":"IF(Import!L6=\"\",\"\",Import!L6)","v":""},{"$f":"IF(Import!M6=\"\",\"\",Import!M6)","v":""},{"$f":"IF(Import!P6=\"\",\"\",Import!P6)","v":""},{"$f":"IF(Import!Q6=\"\",\"\",Import!Q6)","v":""},{"$f":"IF(Import!R6=\"\",\"\",Import!R6)","v":""},350,3.4,28,28,{"$f":"IF(Q6=\"\",\"\",(-0.00011*POWER(S6,2))+(0.01417*S6)+((0.00057*POWER(Q6,2))-(0.0529*Q6)+6.2018)+Kalkkalkyl!$AJ$2)","v":6.8390492000000007},{"$error":"#VALUE!"},null,{"$f":"IF(('PK kalkyl'!$AE$17*H6)+'PK kalkyl'!$AE$18+(('PK kalkyl'!$K$6-'PK kalkyl'!$AE$12)*'PK kalkyl'!$AE$13)<1,0,ROUND(('PK kalkyl'!$AE$17*H6)+'PK kalkyl'!$AE$18+(('PK kalkyl'!$K$6-'PK kalkyl'!$AE$12)*'PK kalkyl'!$AE$13),1))","v":{"$error":"#VALUE!"}},{"$f":"IF(('PK kalkyl'!$AE$37*I6)+'PK kalkyl'!$AE$38+(('PK kalkyl'!$K$6-'PK kalkyl'!$AE$32)*'PK kalkyl'!$AE$33)<1,0,ROUND(('PK kalkyl'!$AE$37*I6)+'PK kalkyl'!$AE$38+(('PK kalkyl'!$K$6-'PK kalkyl'!$AE$32)*'PK kalkyl'!$AE$33),1))","v":{"$error":"#VALUE!"}},{"$error":"#VALUE!"},{"$error":"#VALUE!"},{"$f":"IF((Y6<W6),Y6-W6,0)*-'PK kalkyl'!$AE$15","v":{"$error":"#VALUE!"}},{"$f":"IF((Z6<X6),Z6-X6,0)*-'PK kalkyl'!$AE$35","v":{"$error":"#VALUE!"}},{"$f":"+AA6*Växtföljd!$G$18+AB6*Växtföljd!$G$18","v":{"$error":"#VALUE!"}}]
[{"$f":"IF(Import!A7=\"\",\"\",Import!A7)","v":""},{"$f":"IF(Import!B7=\"\",\"\",Import!B7)","v":""},{"$f":"IF(Import!C7=\"\",\"\",Import!C7)","v":""},{"$f":"IF(Import!D7=\"\",\"\",Import!D7)","v":""},{"$f":"IF(Import!E7=\"\",\"\",Import!E7)","v":""},{"$f":"IF(Import!F7=\"\",\"\",Import!F7)","v":""},{"$f":"IF(Import!G7=\"\",\"\",Import!G7)","v":""},{"$f":"IF(Import!H7=\"\",\"\",Import!H7)","v":""},{"$f":"IF(Import!J7=\"\",\"\",Import!J7)","v":""},{"$f":"IF(Import!K7=\"\",\"\",Import!K7)","v":""},{"$f":"IF(Import!L7=\"\",\"\",Import!L7)","v":""},{"$f":"IF(Import!M7=\"\",\"\",Import!M7)","v":""},{"$f":"IF(Import!P7=\"\",\"\",Import!P7)","v":""},{"$f":"IF(Import!Q7=\"\",\"\",Import!Q7)","v":""},{"$f":"IF(Import!R7=\"\",\"\",Import!R7)","v":""},327.35197020269175,3.4428279271261895,29.166519354484066,29.166519354484066,{"$f":"IF(Q7=\"\",\"\",(-0.00011*POWER(S7,2))+(0.01417*S7)+((0.00057*POWER(Q7,2))-(0.0529*Q7)+6.2018)+Kalkkalkyl!$AJ$2)","v":6.8461447848273655},{"$error":"#VALUE!"},null,{"$f":"IF(('PK kalkyl'!$AE$17*H7)+'PK kalkyl'!$AE$18+(('PK kalkyl'!$K$6-'PK kalkyl'!$AE$12)*'PK kalkyl'!$AE$13)<1,0,ROUND(('PK kalkyl'!$AE$17*H7)+'PK kalkyl'!$AE$18+(('PK kalkyl'!$K$6-'PK kalkyl'!$AE$12)*'PK kalkyl'!$AE$13),1))","v":{"$error":"#VALUE!"}},{"$f":"IF(('PK kalkyl'!$AE$37*I7)+'PK kalkyl'!$AE$38+(('PK kalkyl'!$K$6-'PK kalkyl'!$AE$32)*'PK kalkyl'!$AE$33)<1,0,ROUND(('PK kalkyl'!$AE$37*I7)+'PK kalkyl'!$AE$38+(('PK kalkyl'!$K$6-'PK kalkyl'!$AE$32)*'PK kalkyl'!$AE$33),1))","v":{"$error":"#VALUE!"}},{"$error":"#VALUE!"},{"$error":"#VALUE!"},{"$f":"IF((Y7<W7),Y7-W7,0)*-'PK kalkyl'!$AE$15","v":{"$error":"#VALUE!"}},{"$f":"IF((Z7<X7),Z7-X7,0)*-'PK kalkyl'!$AE$35","v":{"$error":"#VALUE!"}},{"$f":"+AA7*Växtföljd!$G$18+AB7*Växtföljd!$G$18","v":{"$error":"#VALUE!"}}]
[{"$f":"IF(Import!A8=\"\",\"\",Import!A8)","v":""},{"$f":"IF(Import!B8=\"\",\"\",Import!B8)","v":""},{"$f":"IF(Import!C8=\"\",\"\",Import!C8)","v":""},{"$f":"IF(Import!D8=\"\",\"\",Import!D8)","v":""},{"$f":"IF(Import!E8=\"\",\"\",Import!E8)","v":""},{"$f":"IF(Import!F8=\"\",\"\",Import!F8)","v":""},{"$f":"IF(Import!G8=\"\",\"\",Import!G8)","v":""},{"$f":"IF(Import!H8=\"\",\"\",Import!H8)","v":""},{"$f":"IF(Import!J8=\"\",\"\",Import!J8)","v":""},{"$f":"IF(Import!K8=\"\",\"\",Import!K8)","v":""},{"$f":"IF(Import!L8=\"\",\"\",Import!L8)","v":""},{"$f":"IF(Import!M8=\"\",\"\",Import!M8)","v":""},{"$f":"IF(Import!P8=\"\",\"\",Import!P8)","v":""},{"$f":"IF(Import!Q8=\"\",\"\",Import!Q8)","v":""},{"$f":"IF(Import!R8=\"\",\"\",Import!R8)","v":""},320,3,33,33,{"$f":"IF(Q8=\"\",\"\",(-0.00011*POWER(S8,2))+(0.01417*S8)+((0.00057*POWER(Q8,2))-(0.0529*Q8)+6.2018)+Kalkkalkyl!$AJ$2)","v":6.8960500000000007},{"$error":"#VALUE!"},null,{"$f":"IF(('PK kalkyl'!$AE$17*H8)+'PK kalkyl'!$AE$18+(('PK kalkyl'!$K$6-'PK kalkyl'!$AE$12)*'PK kalkyl'!$AE$13)<1,0,ROUND(('PK kalkyl'!$AE$17*H8)+'PK kalkyl'!$AE$18+(('PK kalkyl'!$K$6-'PK kalkyl'!$AE$12)*'PK kalkyl'!$AE$13),1))","v":{"$error":"#VALUE!"}},{"$f":"IF(('PK kalkyl'!$AE$37*I8)+'PK kalkyl'!$AE$38+(('PK kalkyl'!$K$6-'PK kalkyl'!$AE$32)*'PK kalkyl'!$AE$33)<1,0,ROUND(('PK kalkyl'!$AE$37*I8)+'PK kalkyl'!$AE$38+(('PK kalkyl'!$K$6-'PK kalkyl'!$AE$32)*'PK kalkyl'!$AE$33),1))","v":{"$error":"#VALUE!"}},{"$error":"#VALUE!"},{"$error":"#VALUE!"},{"$f":"IF((Y8<W8),Y8-W8,0)*-'PK kalkyl'!$AE$15","v":{"$error":"#VALUE!"}},{"$f":"IF((Z8<X8),Z8-X8,0)*-'PK kalkyl'!$AE$35","v":{"$error":"#VALUE!"}},{"$f":"+AA8*Växtföljd!$G$18+AB8*Växtföljd!$G$18","v":{"$error":"#VALUE!"}}]
[{"$f":"IF(Import!A9=\"\",\"\",Import!A9)","v":""},{"$f":"IF(Import!B9=\"\",\"\",Import!B9)","v":""},{"$f":"IF(Import!C9=\"\",\"\",Import!C9)","v":""},{"$f":"IF(Import!D9=\"\",\"\",Import!D9)","v":""},{"$f":"IF(Import!E9=\"\",\"\",Import!E9)","v":""},{"$f":"IF(Import!F9=\"\",\"\",Import!F9)","v":""},{"$f":"IF(Import!G9=\"\",\"\",Import!G9)","v":""},{"$f":"IF(Import!H9=\"\",\"\",Import!H9)","v":""},{"$f":"IF(Import!J9=\"\",\"\",Import!J9)","v":""},{"$f":"IF(Import!K9=\"\",\"\",Import!K9)","v":""},{"$f":"IF(Import!L9=\"\",\"\",Import!L9)","v":""},{"$f":"IF(Import!M9=\"\",\"\",Import!M9)","v":""},{"$f":"IF(Import!P9=\"\",\"\",Import!P9)","v":""},{"$f":"IF(Import!Q9=\"\",\"\",Import!Q9)","v":""},{"$f":"IF(Import!R9=\"\",\"\",Import!R9)","v":""},305.82735637035518,3.4403447583298221,27.82341308730858,27.82341308730858,{"$f":"IF(Q9=\"\",\"\",(-0.00011*POWER(S9,2))+(0.01417*S9)+((0.00057*POWER(Q9,2))-(0.0529*Q9)+6.2018)+Kalkkalkyl!$AJ$2)","v":6.8356543750625596},{"$error":"#VALUE!"},null,{"$f":"IF(('PK kalkyl'!$AE$17*H9)+'PK kalkyl'!$AE$18+(('PK kalkyl'!$K$6-'PK kalkyl'!$AE$12)*'PK kalkyl'!$AE$13)<1,0,ROUND(('PK kalkyl'!$AE$17*H9)+'PK kalkyl'!$AE$18+(('PK kalkyl'!$K$6-'PK kalkyl'!$AE$12)*'PK kalkyl'!$AE$13),1))","v":{"$error":"#VALUE!"}},{"$f":"IF(('PK kalkyl'!$AE$37*I9)+'PK kalkyl'!$AE$38+(('PK kalkyl'!$K$6-'PK kalkyl'!$AE$32)*'PK kalkyl'!$AE$33)<1,0,ROUND(('PK kalkyl'!$AE$37*I9)+'PK kalkyl'!$AE$38+(('PK kalkyl'!$K$6-'PK kalkyl'!$AE$32)*'PK kalkyl'!$AE$33),1))","v":{"$error":"#VALUE!"}},{"$error":"#VALUE!"},{"$error":"#VALUE!"},{"$f":"IF((Y9<W9),Y9-W9,0)*-'PK kalkyl'!$AE$15","v":{"$error":"#VALUE!"}},{"$f":"IF((Z9<X9),Z9-X9,0)*-'PK kalkyl'!$AE$35","v":{"$error":"#VALUE!"}},{"$f":"+AA9*Växtföljd!$G$18+AB9*Växtföljd!$G$18","v":{"$error":"#VALUE!"}}]
[{"$f":"IF(Import!A10=\"\",\"\",Import!A10)","v":""},{"$f":"IF(Import!B10=\"\",\"\",Import!B10)","v":""},{"$f":"IF(Import!C10=\"\",\"\",Import!C10)","v":""},{"$f":"IF(Import!D10=\"\",\"\",Import!D10)","v":""},{"$f":"IF(Import!E10=\"\",\"\",Import!E10)","v":""},{"$f":"IF(Import!F10=\"\",\"\",Import!F10)","v":""},{"$f":"IF(Import!G10=\"\",\"\",Import!G10)","v":""},{"$f":"IF(Import!H10=\"\",\"\",Import!H10)","v":""},{"$f":"IF(Import!J10=\"\",\"\",Import!J10)","v":""},{"$f":"IF(Import!K10=\"\",\"\",Import!K10)","v":""},{"$f":"IF(Import!L10=\"\",\"\",Import!L10)","v":""},{"$f":"IF(Import!M10=\"\",\"\",Import!M10)","v":""},{"$f":"IF(Import!P10=\"\",\"\",Import!P10)","v":""},{"$f":"IF(Import!Q10=\"\",\"\",Import!Q10)","v":""},{"$f":"IF(Import!R10=\"\",\"\",Import!R10)","v":""},280,4,21,21,{"$f":"IF(Q10=\"\",\"\",(-0.00011*POWER(S10,2))+(0.01417*S10)+((0.00057*POWER(Q10,2))-(0.0529*Q10)+6.2018)+Kalkkalkyl!$AJ$2)","v":6.74838},{"$error":"#VALUE!"},null,{"$f":"IF(('PK kalkyl'!$AE$17*H10)+'PK kalkyl'!$AE$18+(('PK kalkyl'!$K$6-'PK kalkyl'!$AE$12)*'PK kalkyl'!$AE$13)<1,0,ROUND(('PK kalkyl'!$AE$17*H10)+'PK kalkyl'!$AE$18+(('PK kalkyl'!$K$6-'PK kalkyl'!$AE$12)*'PK kalkyl'!$AE$13),1))","v":{"$error":"#VALUE!"}},{"$f":"IF(('PK kalkyl'!$AE$37*I10)+'PK kalkyl'!$AE$38+(('PK kalkyl'!$K$6-'PK kalkyl'!$AE$32)*'PK kalkyl'!$AE$33)<1,0,ROUND(('PK kalkyl'!$AE$37*I10)+'PK kalkyl'!$AE$38+(('PK kalkyl'!$K$6-'PK kalkyl'!$AE$32)*'PK kalkyl'!$AE$33),1))","v":{"$error":"#VALUE!"}},{"$error":"#VALUE!"},{"$error":"#VALUE!"},{"$f":"IF((Y10<W10),Y10-W10,0)*-'PK kalkyl'!$AE$15","v":{"$error":"#VALUE!"}},{"$f":"IF((Z10<X10),Z10-X10,0)*-'PK kalkyl'!$AE$35","v":{"$error":"#VALUE!"}},{"$f":"+AA10*Växtföljd!$G$18+AB10*Växtföljd!$G$18","v":{"$error":"#VALUE!"}}]
[{"$f":"IF(Import!A11=\"\",\"\",Import!A11)","v":""},{"$f":"IF(Import!B11=\"\",\"\",Import!B11)","v":""},{"$f":"IF(Import!C11=\"\",\"\",Import!C11)","v":""},{"$f":"IF(Import!D11=\"\",\"\",Import!D11)","v":""},{"$f":"IF(Import!E11=\"\",\"\",Import!E11)","v":""},{"$f":"IF(Import!F11=\"\",\"\",Import!F11)","v":""},{"$f":"IF(Import!G11=\"\",\"\",Import!G11)","v":""},{"$f":"IF(Import!H11=\"\",\"\",Import!H11)","v":""},{"$f":"IF(Import!J11=\"\",\"\",Import!J11)","v":""},{"$f":"IF(Import!K11=\"\",\"\",Import!K11)","v":""},{"$f":"IF(Import!L11=\"\",\"\",Import!L11)","v":""},{"$f":"IF(Import!M11=\"\",\"\",Import!M11)","v":""},{"$f":"IF(Import!P11=\"\",\"\",Import!P11)","v":""},{"$f":"IF(Import!Q11=\"\",\"\",Import!Q11)","v":""},{"$f":"IF(Import!R11=\"\",\"\",Import!R11)","v":""},312.94444093712508,3.65945253470105,23.63737890919985,23.63737890919985,{"$f":"IF(Q11=\"\",\"\",(-0.00011*POWER(S11,2))+(0.01417*S11)+((0.00057*POWER(Q11,2))-(0.0529*Q11)+6.2018)+Kalkkalkyl!$AJ$2)","v":6.789330002997624},{"$error":"#VALUE!"},null,{"$f":"IF(('PK kalkyl'!$AE$17*H11)+'PK kalkyl'!$AE$18+(('PK kalkyl'!$K$6-'PK kalkyl'!$AE$12)*'PK kalkyl'!$AE$13)<1,0,ROUND(('PK kalkyl'!$AE$17*H11)+'PK kalkyl'!$AE$18+(('PK kalkyl'!$K$6-'PK kalkyl'!$AE$12)*'PK kalkyl'!$AE$13),1))","v":{"$error":"#VALUE!"}},{"$f":"IF(('PK kalkyl'!$AE$37*I11)+'PK kalkyl'!$AE$38+(('PK kalkyl'!$K$6-'PK kalkyl'!$AE$32)*'PK kalkyl'!$AE$33)<1,0,ROUND(('PK kalkyl'!$AE$37*I11)+'PK kalkyl'!$AE$38+(('PK kalkyl'!$K$6-'PK kalkyl'!$AE$32)*'PK kalkyl'!$AE$33),1))","v":{"$error":"#VALUE!"}},{"$error":"#VALUE!"},{"$error":"#VALUE!"},{"$f":"IF((Y11<W11),Y11-W11,0)*-'PK kalkyl'!$AE$15","v":{"$error":"#VALUE!"}},{"$f":"IF((Z11<X11),Z11-X11,0)*-'PK kalkyl'!$AE$35","v":{"$error":"#VALUE!"}},{"$f":"+AA11*Växtföljd!$G$18+AB11*Växtföljd!$G$18","v":{"$error":"#VALUE!"}}]
[{"$f":"IF(Import!A12=\"\",\"\",Import!A12)","v":""},{"$f":"IF(Import!B12=\"\",\"\",Import!B12)","v":""},{"$f":"IF(Import!C12=\"\",\"\",Import!C12)","v":""},{"$f":"IF(Import!D12=\"\",\"\",Import!D12)","v":""},{"$f":"IF(Import!E12=\"\",\"\",Import!E12)","v":""},{"$f":"IF(Import!F12=\"\",\"\",Import!F12)","v":""},{"$f":"IF(Import!G12=\"\",\"\",Import!G12)","v":""},{"$f":"IF(Import!H12=\"\",\"\",Import!H12)","v":""},{"$f":"IF(Import!J12=\"\",\"\",Import!J12)","v":""},{"$f":"IF(Import!K12=\"\",\"\",Import!K12)","v":""},{"$f":"IF(Import!L12=\"\",\"\",Import!L12)","v":""},{"$f":"IF(Import!M12=\"\",\"\",Import!M12)","v":""},{"$f":"IF(Import!P12=\"\",\"\",Import!P12)","v":""},{"$f":"IF(Import!Q12=\"\",\"\",Import!Q12)","v":""},{"$f":"IF(Import!R12=\"\",\"\",Import!R12)","v":""},360,3.2,27,27,{"$f":"IF(Q12=\"\",\"\",(-0.00011*POWER(S12,2))+(0.01417*S12)+((0.00057*POWER(Q12,2))-(0.0529*Q12)+6.2018)+Kalkkalkyl!$AJ$2)","v":6.8407568000000012},{"$error":"#VALUE!"},null,{"$f":"IF(('PK kalkyl'!$AE$17*H12)+'PK kalkyl'!$AE$18+(('PK kalkyl'!$K$6-'PK kalkyl'!$AE$12)*'PK kalkyl'!$AE$13)<1,0,ROUND(('PK kalkyl'!$AE$17*H12)+'PK kalkyl'!$AE$18+(('PK kalkyl'!$K$6-'PK kalkyl'!$AE$12)*'PK kalkyl'!$AE$13),1))","v":{"$error":"#VALUE!"}},{"$f":"IF(('PK kalkyl'!$AE$37*I12)+'PK kalkyl'!$AE$38+(('PK kalkyl'!$K$6-'PK kalkyl'!$AE$32)*'PK kalkyl'!$AE$33)<1,0,ROUND(('PK kalkyl'!$AE$37*I12)+'PK kalkyl'!$AE$38+(('PK kalkyl'!$K$6-'PK kalkyl'!$AE$32)*'PK kalkyl'!$AE$33),1))","v":{"$error":"#VALUE!"}},{"$error":"#VALUE!"},{"$error":"#VALUE!"},{"$f":"IF((Y12<W12),Y12-W12,0)*-'PK kalkyl'!$AE$15","v":{"$error":"#VALUE!"}},{"$f":"IF((Z12<X12),Z12-X12,0)*-'PK kalkyl'!$AE$35","v":{"$error":"#VALUE!"}},{"$f":"+AA12*Växtföljd!$G$18+AB12*Växtföljd!$G$18","v":{"$error":"#VALUE!"}}]
[{"$f":"IF(Import!A13=\"\",\"\",Import!A13)","v":""},{"$f":"IF(Import!B13=\"\",\"\",Import!B13)","v":""},{"$f":"IF(Import!C13=\"\",\"\",Import!C13)","v":""},{"$f":"IF(Import!D13=\"\",\"\",Import!D13)","v":""},{"$f":"IF(Import!E13=\"\",\"\",Import!E13)","v":""},{"$f":"IF(Import!F13=\"\",\"\",Import!F13)","v":""},{"$f":"IF(Import!G13=\"\",\"\",Import!G13)","v":""},{"$f":"IF(Import!H13=\"\",\"\",Import!H13)","v":""},{"$f":"IF(Import!J13=\"\",\"\",Import!J13)","v":""},{"$f":"IF(Import!K13=\"\",\"\",Import!K13)","v":""},{"$f":"IF(Import!L13=\"\",\"\",Import!L13)","v":""},{"$f":"IF(Import!M13=\"\",\"\",Import!M13)","v":""},{"$f":"IF(Import!P13=\"\",\"\",Import!P13)","v":""},{"$f":"IF(Import!Q13=\"\",\"\",Import!Q13)","v":""},{"$f":"IF(Import!R13=\"\",\"\",Import!R13)","v":""},322.79785690473773,3.4409490459158767,27.351240370556976,27.351240370556976,{"$f":"IF(Q13=\"\",\"\",(-0.00011*POWER(S13,2))+(0.01417*S13)+((0.00057*POWER(Q13,2))-(0.0529*Q13)+6.2018)+Kalkkalkyl!$AJ$2)","v":6.8317998073348205},{"$error":"#VALUE!"},null,{"$f":"IF(('PK kalkyl'!$AE$17*H13)+'PK kalkyl'!$AE$18+(('PK kalkyl'!$K$6-'PK kalkyl'!$AE$12)*'PK kalkyl'!$AE$13)<1,0,ROUND(('PK kalkyl'!$AE$17*H13)+'PK kalkyl'!$AE$18+(('PK kalkyl'!$K$6-'PK kalkyl'!$AE$12)*'PK kalkyl'!$AE$13),1))","v":{"$error":"#VALUE!"}},{"$f":"IF(('PK kalkyl'!$AE$37*I13)+'PK kalkyl'!$AE$38+(('PK kalkyl'!$K$6-'PK kalkyl'!$AE$32)*'PK kalkyl'!$AE$33)<1,0,ROUND(('PK kalkyl'!$AE$37*I13)+'PK kalkyl'!$AE$38+(('PK kalkyl'!$K$6-'PK kalkyl'!$AE$32)*'PK kalkyl'!$AE$33),1))","v":{"$error":"#VALUE!"}},{"$error":"#VALUE!"},{"$error":"#VALUE!"},{"$f":"IF((Y13<W13),Y13-W13,0)*-'PK kalkyl'!$AE$15","v":{"$error":"#VALUE!"}},{"$f":"IF((Z13<X13),Z13-X13,0)*-'PK kalkyl'!$AE$35","v":{"$error":"#VALUE!"}},{"$f":"+AA13*Växtföljd!$G$18+AB13*Växtföljd!$G$18","v":{"$error":"#VALUE!"}}]
[{"$f":"IF(Import!A14=\"\",\"\",Import!A14)","v":""},{"$f":"IF(Import!B14=\"\",\"\",Import!B14)","v":""},{"$f":"IF(Import!C14=\"\",\"\",Import!C14)","v":""},{"$f":"IF(Import!D14=\"\",\"\",Import!D14)","v":""},{"$f":"IF(Import!E14=\"\",\"\",Import!E14)","v":""},{"$f":"IF(Import!F14=\"\",\"\",Import!F14)","v":""},{"$f":"IF(Import!G14=\"\",\"\",Import!G14)","v":""},{"$f":"IF(Import!H14=\"\",\"\",Import!H14)","v":""},{"$f":"IF(Import!J14=\"\",\"\",Import!J14)","v":""},{"$f":"IF(Import!K14=\"\",\"\",Import!K14)","v":""},{"$f":"IF(Import!L14=\"\",\"\",Import!L14)","v":""},{"$f":"IF(Import!M14=\"\",\"\",Import!M14)","v":""},{"$f":"IF(Import!P14=\"\",\"\",Import!P14)","v":""},{"$f":"IF(Import!Q14=\"\",\"\",Import!Q14)","v":""},{"$f":"IF(Import!R14=\"\",\"\",Import!R14)","v":""},310,3.7,27,27,{"$f":"IF(Q14=\"\",\"\",(-0.00011*POWER(S14,2))+(0.01417*S14)+((0.00057*POWER(Q14,2))-(0.0529*Q14)+6.2018)+Kalkkalkyl!$AJ$2)","v":6.8162733000000006},{"$error":"#VALUE!"},null,{"$f":"IF(('PK kalkyl'!$AE$17*H14)+'PK kalkyl'!$AE$18+(('PK kalkyl'!$K$6-'PK kalkyl'!$AE$12)*'PK kalkyl'!$AE$13)<1,0,ROUND(('PK kalkyl'!$AE$17*H14)+'PK kalkyl'!$AE$18+(('PK kalkyl'!$K$6-'PK kalkyl'!$AE$12)*'PK kalkyl'!$AE$13),1))","v":{"$error":"#VALUE!"}},{"$f":"IF(('PK kalkyl'!$AE$37*I14)+'PK kalkyl'!$AE$38+(('PK kalkyl'!$K$6-'PK kalkyl'!$AE$32)*'PK kalkyl'!$AE$33)<1,0,ROUND(('PK kalkyl'!$AE$37*I14)+'PK kalkyl'!$AE$38+(('PK kalkyl'!$K$6-'PK kalkyl'!$AE$32)*'PK kalkyl'!$AE$33),1))","v":{"$error":"#VALUE!"}},{"$error":"#VALUE!"},{"$error":"#VALUE!"},{"$f":"IF((Y14<W14),Y14-W14,0)*-'PK kalkyl'!$AE$15","v":{"$error":"#VALUE!"}},{"$f":"IF((Z14<X14),Z14-X14,0)*-'PK kalkyl'!$AE$35","v":{"$error":"#VALUE!"}},{"$f":"+AA14*Växtföljd!$G$18+AB14*Växtföljd!$G$18","v":{"$error":"#VALUE!"}}]
[{"$f":"IF(Import!A15=\"\",\"\",Import!A15)","v":""},{"$f":"IF(Import!B15=\"\",\"\",Import!B15)","v":""},{"$f":"IF(Import!C15=\"\",\"\",Import!C15)","v":""},{"$f":"IF(Import!D15=\"\",\"\",Import!D15)","v":""},{"$f":"IF(Import!E15=\"\",\"\",Import!E15)","v":""},{"$f":"IF(Import!F15=\"\",\"\",Import!F15)","v":""},{"$f":"IF(Import!G15=\"\",\"\",Import!G15)","v":""},{"$f":"IF(Import!H15=\"\",\"\",Import!H15)","v":""},{"$f":"IF(Import!J15=\"\",\"\",Import!J15)","v":""},{"$f":"IF(Import!K15=\"\",\"\",Import!K15)","v":""},{"$f":"IF(Import!L15=\"\",\"\",Import!L15)","v":""},{"$f":"IF(Import!M15=\"\",\"\",Import!M15)","v":""},{"$f":"IF(Import!P15=\"\",\"\",Import!P15)","v":""},{"$f":"IF(Import!Q15=\"\",\"\",Import!Q15)","v":""},{"$f":"IF(Import!R15=\"\",\"\",Import!R15)","v":""},424.78154501115898,3.2680936838131931,30.365094574002764,30.365094574002764,{"$f":"IF(Q15=\"\",\"\",(-0.00011*POWER(S15,2))+(0.01417*S15)+((0.00057*POWER(Q15,2))-(0.0529*Q15)+6.2018)+Kalkkalkyl!$AJ$2)","v":6.8638547964121299},{"$error":"#VALUE!"},null,{"$f":"IF(('PK kalkyl'!$AE$17*H15)+'PK kalkyl'!$AE$18+(('PK kalkyl'!$K$6-'PK kalkyl'!$AE$12)*'PK kalkyl'!$AE$13)<1,0,ROUND(('PK kalkyl'!$AE$17*H15)+'PK kalkyl'!$AE$18+(('PK kalkyl'!$K$6-'PK kalkyl'!$AE$12)*'PK kalkyl'!$AE$13),1))","v":{"$error":"#VALUE!"}},{"$f":"IF(('PK kalkyl'!$AE$37*I15)+'PK kalkyl'!$AE$38+(('PK kalkyl'!$K$6-'PK kalkyl'!$AE$32)*'PK kalkyl'!$AE$33)<1,0,ROUND(('PK kalkyl'!$AE$37*I15)+'PK kalkyl'!$AE$38+(('PK kalkyl'!$K$6-'PK kalkyl'!$AE$32)*'PK kalkyl'!$AE$33),1))","v":{"$error":"#VALUE!"}},{"$error":"#VALUE!"},{"$error":"#VALUE!"},{"$f":"IF((Y15<W15),Y15-W15,0)*-'PK kalkyl'!$AE$15","v":{"$error":"#VALUE!"}},{"$f":"IF((Z15<X15),Z15-X15,0)*-'PK kalkyl'!$AE$35","v":{"$error":"#VALUE!"}},{"$f":"+AA15*Växtföljd!$G$18+AB15*Växtföljd!$G$18","v":{"$error":"#VALUE!"}}]
[{"$f":"IF(Import!A16=\"\",\"\",Import!A16)","v":""},{"$f":"IF(Import!B16=\"\",\"\",Import!B16)","v":""},{"$f":"IF(Import!C16=\"\",\"\",Import!C16)","v":""},{"$f":"IF(Import!D16=\"\",\"\",Import!D16)","v":""},{"$f":"IF(Import!E16=\"\",\"\",Import!E16)","v":""},{"$f":"IF(Import!F16=\"\",\"\",Import!F16)","v":""},{"$f":"IF(Import!G16=\"\",\"\",Import!G16)","v":""},{"$f":"IF(Import!H16=\"\",\"\",Import!H16)","v":""},{"$f":"IF(Import!J16=\"\",\"\",Import!J16)","v":""},{"$f":"IF(Import!K16=\"\",\"\",Import!K16)","v":""},{"$f":"IF(Import!L16=\"\",\"\",Import!L16)","v":""},{"$f":"IF(Import!M16=\"\",\"\",Import!M16)","v":""},{"$f":"IF(Import!P16=\"\",\"\",Import!P16)","v":""},{"$f":"IF(Import!Q16=\"\",\"\",Import!Q16)","v":""},{"$f":"IF(Import!R16=\"\",\"\",Import!R16)","v":""},550,2.7,35,35,{"$f":"IF(Q16=\"\",\"\",(-0.00011*POWER(S16,2))+(0.01417*S16)+((0.00057*POWER(Q16,2))-(0.0529*Q16)+6.2018)+Kalkkalkyl!$AJ$2)","v":6.9243253000000005},{"$error":"#VALUE!"},null,{"$f":"IF(('PK kalkyl'!$AE$17*H16)+'PK kalkyl'!$AE$18+(('PK kalkyl'!$K$6-'PK kalkyl'!$AE$12)*'PK kalkyl'!$AE$13)<1,0,ROUND(('PK kalkyl'!$AE$17*H16)+'PK kalkyl'!$AE$18+(('PK kalkyl'!$K$6-'PK kalkyl'!$AE$12)*'PK kalkyl'!$AE$13),1))","v":{"$error":"#VALUE!"}},{"$f":"IF(('PK kalkyl'!$AE$37*I16)+'PK kalkyl'!$AE$38+(('PK kalkyl'!$K$6-'PK kalkyl'!$AE$32)*'PK kalkyl'!$AE$33)<1,0,ROUND(('PK kalkyl'!$AE$37*I16)+'PK kalkyl'!$AE$38+(('PK kalkyl'!$K$6-'PK kalkyl'!$AE$32)*'PK kalkyl'!$AE$33),1))","v":{"$error":"#VALUE!"}},{"$error":"#VALUE!"},{"$error":"#VALUE!"},{"$f":"IF((Y16<W16),Y16-W16,0)*-'PK kalkyl'!$AE$15","v":{"$error":"#VALUE!"}},{"$f":"IF((Z16<X16),Z16-X16,0)*-'PK kalkyl'!$AE$35","v":{"$error":"#VALUE!"}},{"$f":"+AA16*Växtföljd!$G$18+AB16*Växtföljd!$G$18","v":{"$error":"#VALUE!"}}]
[{"$f":"IF(Import!A17=\"\",\"\",Import!A17)","v":""},{"$f":"IF(Import!B17=\"\",\"\",Import!B17)","v":""},{"$f":"IF(Import!C17=\"\",\"\",Import!C17)","v":""},{"$f":"IF(Import!D17=\"\",\"\",Import!D17)","v":""},{"$f":"IF(Import!E17=\"\",\"\",Import!E17)","v":""},{"$f":"IF(Import!F17=\"\",\"\",Import!F17)","v":""},{"$f":"IF(Import!G17=\"\",\"\",Import!G17)","v":""},{"$f":"IF(Import!H17=\"\",\"\",Import!H17)","v":""},{"$f":"IF(Import!J17=\"\",\"\",Import!J17)","v":""},{"$f":"IF(Import!K17=\"\",\"\",Import!K17)","v":""},{"$f":"IF(Import!L17=\"\",\"\",Import!L17)","v":""},{"$f":"IF(Import!M17=\"\",\"\",Import!M17)","v":""},{"$f":"IF(Import!P17=\"\",\"\",Import!P17)","v":""},{"$f":"IF(Import!Q17=\"\",\"\",Import!Q17)","v":""},{"$f":"IF(Import!R17=\"\",\"\",Import!R17)","v":""},323.15475344194238,3.5015681203294027,29.403875939189966,29.403875939189966,{"$f":"IF(Q17=\"\",\"\",(-0.00011*POWER(S17,2))+(0.01417*S17)+((0.00057*POWER(Q17,2))-(0.0529*Q17)+6.2018)+Kalkkalkyl!$AJ$2)","v":6.8451040554674414},{"$error":"#VALUE!"},null,{"$f":"IF(('PK kalkyl'!$AE$17*H17)+'PK kalkyl'!$AE$18+(('PK kalkyl'!$K$6-'PK kalkyl'!$AE$12)*'PK kalkyl'!$AE$13)<1,0,ROUND(('PK kalkyl'!$AE$17*H17)+'PK kalkyl'!$AE$18+(('PK kalkyl'!$K$6-'PK kalkyl'!$AE$12)*'PK kalkyl'!$AE$13),1))","v":{"$error":"#VALUE!"}},{"$f":"IF(('PK kalkyl'!$AE$37*I17)+'PK kalkyl'!$AE$38+(('PK kalkyl'!$K$6-'PK kalkyl'!$AE$32)*'PK kalkyl'!$AE$33)<1,0,ROUND(('PK kalkyl'!$AE$37*I17)+'PK kalkyl'!$AE$38+(('PK kalkyl'!$K$6-'PK kalkyl'!$AE$32)*'PK kalkyl'!$AE$33),1))","v":{"$error":"#VALUE!"}},{"$error":"#VALUE!"},{"$error":"#VALUE!"},{"$f":"IF((Y17<W17),Y17-W17,0)*-'PK kalkyl'!$AE$15","v":{"$error":"#VALUE!"}},{"$f":"IF((Z17<X17),Z17-X17,0)*-'PK kalkyl'!$AE$35","v":{"$error":"#VALUE!"}},{"$f":"+AA17*Växtföljd!$G$18+AB17*Växtföljd!$G$18","v":{"$error":"#VALUE!"}}]
[{"$f":"IF(Import!A18=\"\",\"\",Import!A18)","v":""},{"$f":"IF(Import!B18=\"\",\"\",Import!B18)","v":""},{"$f":"IF(Import!C18=\"\",\"\",Import!C18)","v":""},{"$f":"IF(Import!D18=\"\",\"\",Import!D18)","v":""},{"$f":"IF(Import!E18=\"\",\"\",Import!E18)","v":""},{"$f":"IF(Import!F18=\"\",\"\",Import!F18)","v":""},{"$f":"IF(Import!G18=\"\",\"\",Import!G18)","v":""},{"$f":"IF(Import!H18=\"\",\"\",Import!H18)","v":""},{"$f":"IF(Import!J18=\"\",\"\",Import!J18)","v":""},{"$f":"IF(Import!K18=\"\",\"\",Import!K18)","v":""},{"$f":"IF(Import!L18=\"\",\"\",Import!L18)","v":""},{"$f":"IF(Import!M18=\"\",\"\",Import!M18)","v":""},{"$f":"IF(Import!P18=\"\",\"\",Import!P18)","v":""},{"$f":"IF(Import!Q18=\"\",\"\",Import!Q18)","v":""},{"$f":"IF(Import!R18=\"\",\"\",Import!R18)","v":""},330,3.9,27,27,{"$f":"IF(Q18=\"\",\"\",(-0.00011*POWER(S18,2))+(0.01417*S18)+((0.00057*POWER(Q18,2))-(0.0529*Q18)+6.2018)+Kalkkalkyl!$AJ$2)","v":6.8065597000000011},{"$error":"#VALUE!"},null,{"$f":"IF(('PK kalkyl'!$AE$17*H18)+'PK kalkyl'!$AE$18+(('PK kalkyl'!$K$6-'PK kalkyl'!$AE$12)*'PK kalkyl'!$AE$13)<1,0,ROUND(('PK kalkyl'!$AE$17*H18)+'PK kalkyl'!$AE$18+(('PK kalkyl'!$K$6-'PK kalkyl'!$AE$12)*'PK kalkyl'!$AE$13),1))","v":{"$error":"#VALUE!"}},{"$f":"IF(('PK kalkyl'!$AE$37*I18)+'PK kalkyl'!$AE$38+(('PK kalkyl'!$K$6-'PK kalkyl'!$AE$32)*'PK kalkyl'!$AE$33)<1,0,ROUND(('PK kalkyl'!$AE$37*I18)+'PK kalkyl'!$AE$38+(('PK kalkyl'!$K$6-'PK kalkyl'!$AE$32)*'PK kalkyl'!$AE$33),1))","v":{"$error":"#VALUE!"}},{"$error":"#VALUE!"},{"$error":"#VALUE!"},{"$f":"IF((Y18<W18),Y18-W18,0)*-'PK kalkyl'!$AE$15","v":{"$error":"#VALUE!"}},{"$f":"IF((Z18<X18),Z18-X18,0)*-'PK kalkyl'!$AE$35","v":{"$error":"#VALUE!"}},{"$f":"+AA18*Växtföljd!$G$18+AB18*Växtföljd!$G$18","v":{"$error":"#VALUE!"}}]
[{"$f":"IF(Import!A19=\"\",\"\",Import!A19)","v":""},{"$f":"IF(Import!B19=\"\",\"\",Import!B19)","v":""},{"$f":"IF(Import!C19=\"\",\"\",Import!C19)","v":""},{"$f":"IF(Import!D19=\"\",\"\",Import!D19)","v":""},{"$f":"IF(Import!E19=\"\",\"\",Import!E19)","v":""},{"$f":"IF(Import!F19=\"\",\"\",Import!F19)","v":""},{"$f":"IF(Import!G19=\"\",\"\",Import!G19)","v":""},{"$f":"IF(Import!H19=\"\",\"\",Import!H19)","v":""},{"$f":"IF(Import!J19=\"\",\"\",Import!J19)","v":""},{"$f":"IF(Import!K19=\"\",\"\",Import!K19)","v":""},{"$f":"IF(Import!L19=\"\",\"\",Import!L19)","v":""},{"$f":"IF(Import!M19=\"\",\"\",Import!M19)","v":""},{"$f":"IF(Import!P19=\"\",\"\",Import!P19)","v":""},{"$f":"IF(Import!Q19=\"\",\"\",Import!Q19)","v":""},{"$f":"IF(Import!R19=\"\",\"\",Import!R19)","v":""},325.25683122145676,3.9032774233884391,26.863460660124019,26.863460660124019,{"$f":"IF(Q19=\"\",\"\",(-0.00011*POWER(S19,2))+(0.01417*S19)+((0.00057*POWER(Q19,2))-(0.0529*Q19)+6.2018)+Kalkkalkyl!$AJ$2)","v":6.8052751323535681},{"$error":"#VALUE!"},null,{"$f":"IF(('PK kalkyl'!$AE$17*H19)+'PK kalkyl'!$AE$18+(('PK kalkyl'!$K$6-'PK kalkyl'!$AE$12)*'PK kalkyl'!$AE$13)<1,0,ROUND(('PK kalkyl'!$AE$17*H19)+'PK kalkyl'!$AE$18+(('PK kalkyl'!$K$6-'PK kalkyl'!$AE$12)*'PK kalkyl'!$AE$13),1))","v":{"$error":"#VALUE!"}},{"$f":"IF(('PK kalkyl'!$AE$37*I19)+'PK kalkyl'!$AE$38+(('PK kalkyl'!$K$6-'PK kalkyl'!$AE$32)*'PK kalkyl'!$AE$33)<1,0,ROUND(('PK kalkyl'!$AE$37*I19)+'PK kalkyl'!$AE$38+(('PK kalkyl'!$K$6-'PK kalkyl'!$AE$32)*'PK kalkyl'!$AE$33),1))","v":{"$error":"#VALUE!"}},{"$error":"#VALUE!"},{"$error":"#VALUE!"},{"$f":"IF((Y19<W19),Y19-W19,0)*-'PK kalkyl'!$AE$15","v":{"$error":"#VALUE!"}},{"$f":"IF((Z19<X19),Z19-X19,0)*-'PK kalkyl'!$AE$35","v":{"$error":"#VALUE!"}},{"$f":"+AA19*Växtföljd!$G$18+AB19*Växtföljd!$G$18","v":{"$error":"#VALUE!"}}]
[{"$f":"IF(Import!A20=\"\",\"\",Import!A20)","v":""},{"$f":"IF(Import!B20=\"\",\"\",Import!B20)","v":""},{"$f":"IF(Import!C20=\"\",\"\",Import!C20)","v":""},{"$f":"IF(Import!D20=\"\",\"\",Import!D20)","v":""},{"$f":"IF(Import!E20=\"\",\"\",Import!E20)","v":""},{"$f":"IF(Import!F20=\"\",\"\",Import!F20)","v":""},{"$f":"IF(Import!G20=\"\",\"\",Import!G20)","v":""},{"$f":"IF(Import!H20=\"\",\"\",Import!H20)","v":""},{"$f":"IF(Import!J20=\"\",\"\",Import!J20)","v":""},{"$f":"IF(Import!K20=\"\",\"\",Import!K20)","v":""},{"$f":"IF(Import!L20=\"\",\"\",Import!L20)","v":""},{"$f":"IF(Import!M20=\"\",\"\",Import!M20)","v":""},{"$f":"IF(Import!P20=\"\",\"\",Import!P20)","v":""},{"$f":"IF(Import!Q20=\"\",\"\",Import!Q20)","v":""},{"$f":"IF(Import!R20=\"\",\"\",Import!R20)","v":""},280,4.9000000000000004,24,24,{"$f":"IF(Q20=\"\",\"\",(-0.00011*POWER(S20,2))+(0.01417*S20)+((0.00057*POWER(Q20,2))-(0.0529*Q20)+6.2018)+Kalkkalkyl!$AJ$2)","v":6.7329957},{"$error":"#VALUE!"},null,{"$f":"IF(('PK kalkyl'!$AE$17*H20)+'PK kalkyl'!$AE$18+(('PK kalkyl'!$K$6-'PK kalkyl'!$AE$12)*'PK kalkyl'!$AE$13)<1,0,ROUND(('PK kalkyl'!$AE$17*H20)+'PK kalkyl'!$AE$18+(('PK kalkyl'!$K$6-'PK kalkyl'!$AE$12)*'PK kalkyl'!$AE$13),1))","v":{"$error":"#VALUE!"}},{"$f":"IF(('PK kalkyl'!$AE$37*I20)+'PK kalkyl'!$AE$38+(('PK kalkyl'!$K$6-'PK kalkyl'!$AE$32)*'PK kalkyl'!$AE$33)<1,0,ROUND(('PK kalkyl'!$AE$37*I20)+'PK kalkyl'!$AE$38+(('PK kalkyl'!$K$6-'PK kalkyl'!$AE$32)*'PK kalkyl'!$AE$33),1))","v":{"$error":"#VALUE!"}},{"$error":"#VALUE!"},{"$error":"#VALUE!"},{"$f":"IF((Y20<W20),Y20-W20,0)*-'PK kalkyl'!$AE$15","v":{"$error":"#VALUE!"}},{"$f":"IF((Z20<X20),Z20-X20,0)*-'PK kalkyl'!$AE$35","v":{"$error":"#VALUE!"}},{"$f":"+AA20*Växtföljd!$G$18+AB20*Växtföljd!$G$18","v":{"$error":"#VALUE!"}}]
[{"$f":"IF(Import!A21=\"\",\"\",Import!A21)","v":""},{"$f":"IF(Import!B21=\"\",\"\",Import!B21)","v":""},{"$f":"IF(Import!C21=\"\",\"\",Import!C21)","v":""},{"$f":"IF(Import!D21=\"\",\"\",Import!D21)","v":""},{"$f":"IF(Import!E21=\"\",\"\",Import!E21)","v":""},{"$f":"IF(Import!F21=\"\",\"\",Import!F21)","v":""},{"$f":"IF(Import!G21=\"\",\"\",Import!G21)","v":""},{"$f":"IF(Import!H21=\"\",\"\",Import!H21)","v":""},{"$f":"IF(Import!J21=\"\",\"\",Import!J21)","v":""},{"$f":"IF(Import!K21=\"\",\"\",Import!K21)","v":""},{"$f":"IF(Import!L21=\"\",\"\",Import!L21)","v":""},{"$f":"IF(Import!M21=\"\",\"\",Import!M21)","v":""},{"$f":"IF(Import!P21=\"\",\"\",Import!P21)","v":""},{"$f":"IF(Import!Q21=\"\",\"\",Import!Q21)","v":""},{"$f":"IF(Import!R21=\"\",\"\",Import!R21)","v":""},375.50510877433413,4.0996614080707774,24.752846421424827,24.752846421424827,{"$f":"IF(Q21=\"\",\"\",(-0.00011*POWER(S21,2))+(0.01417*S21)+((0.00057*POWER(Q21,2))-(0.0529*Q21)+6.2018)+Kalkkalkyl!$AJ$2)","v":6.7778584881354256},{"$error":"#VALUE!"},null,{"$f":"IF(('PK kalkyl'!$AE$17*H21)+'PK kalkyl'!$AE$18+(('PK kalkyl'!$K$6-'PK kalkyl'!$AE$12)*'PK kalkyl'!$AE$13)<1,0,ROUND(('PK kalkyl'!$AE$17*H21)+'PK kalkyl'!$AE$18+(('PK kalkyl'!$K$6-'PK kalkyl'!$AE$12)*'PK kalkyl'!$AE$13),1))","v":{"$error":"#VALUE!"}},{"$f":"IF(('PK kalkyl'!$AE$37*I21)+'PK kalkyl'!$AE$38+(('PK kalkyl'!$K$6-'PK kalkyl'!$AE$32)*'PK kalkyl'!$AE$33)<1,0,ROUND(('PK kalkyl'!$AE$37*I21)+'PK kalkyl'!$AE$38+(('PK kalkyl'!$K$6-'PK kalkyl'!$AE$32)*'PK kalkyl'!$AE$33),1))","v":{"$error":"#VALUE!"}},{"$error":"#VALUE!"},{"$error":"#VALUE!"},{"$f":"IF((Y21<W21),Y21-W21,0)*-'PK kalkyl'!$AE$15","v":{"$error":"#VALUE!"}},{"$f":"IF((Z21<X21),Z21-X21,0)*-'PK kalkyl'!$AE$35","v":{"$error":"#VALUE!"}},{"$f":"+AA21*Växtföljd!$G$18+AB21*Växtföljd!$G$18","v":{"$error":"#VALUE!"}}]
[{"$f":"IF(Import!A22=\"\",\"\",Import!A22)","v":""},{"$f":"IF(Import!B22=\"\",\"\",Import!B22)","v":""},{"$f":"IF(Import!C22=\"\",\"\",Import!C22)","v":""},{"$f":"IF(Import!D22=\"\",\"\",Import!D22)","v":""},{"$f":"IF(Import!E22=\"\",\"\",Import!E22)","v":""},{"$f":"IF(Import!F22=\"\",\"\",Import!F22)","v":""},{"$f":"IF(Import!G22=\"\",\"\",Import!G22)","v":""},{"$f":"IF(Import!H22=\"\",\"\",Import!H22)","v":""},{"$f":"IF(Import!J22=\"\",\"\",Import!J22)","v":""},{"$f":"IF(Import!K22=\"\",\"\",Import!K22)","v":""},{"$f":"IF(Import!L22=\"\",\"\",Import!L22)","v":""},{"$f":"IF(Import!M22=\"\",\"\",Import!M22)","v":""},{"$f":"IF(Import!P22=\"\",\"\",Import!P22)","v":""},{"$f":"IF(Import!Q22=\"\",\"\",Import!Q22)","v":""},{"$f":"IF(Import!R22=\"\",\"\",Import!R22)","v":""},370,4,23,23,{"$f":"IF(Q22=\"\",\"\",(-0.00011*POWER(S22,2))+(0.01417*S22)+((0.00057*POWER(Q22,2))-(0.0529*Q22)+6.2018)+Kalkkalkyl!$AJ$2)","v":6.7670399999999997},{"$error":"#VALUE!"},null,{"$f":"IF(('PK kalkyl'!$AE$17*H22)+'PK kalkyl'!$AE$18+(('PK kalkyl'!$K$6-'PK kalkyl'!$AE$12)*'PK kalkyl'!$AE$13)<1,0,ROUND(('PK kalkyl'!$AE$17*H22)+'PK kalkyl'!$AE$18+(('PK kalkyl'!$K$6-'PK kalkyl'!$AE$12)*'PK kalkyl'!$AE$13),1))","v":{"$error":"#VALUE!"}},{"$f":"IF(('PK kalkyl'!$AE$37*I22)+'PK kalkyl'!$AE$38+(('PK kalkyl'!$K$6-'PK kalkyl'!$AE$32)*'PK kalkyl'!$AE$33)<1,0,ROUND(('PK kalkyl'!$AE$37*I22)+'PK kalkyl'!$AE$38+(('PK kalkyl'!$K$6-'PK kalkyl'!$AE$32)*'PK kalkyl'!$AE$33),1))","v":{"$error":"#VALUE!"}},{"$error":"#VALUE!"},{"$error":"#VALUE!"},{"$f":"IF((Y22<W22),Y22-W22,0)*-'PK kalkyl'!$AE$15","v":{"$error":"#VALUE!"}},{"$f":"IF((Z22<X22),Z22-X22,0)*-'PK kalkyl'!$AE$35","v":{"$error":"#VALUE!"}},{"$f":"+AA22*Växtföljd!$G$18+AB22*Växtföljd!$G$18","v":{"$error":"#VALUE!"}}]
[{"$f":"IF(Import!A23=\"\",\"\",Import!A23)","v":""},{"$f":"IF(Import!B23=\"\",\"\",Import!B23)","v":""},{"$f":"IF(Import!C23=\"\",\"\",Import!C23)","v":""},{"$f":"IF(Import!D23=\"\",\"\",Import!D23)","v":""},{"$f":"IF(Import!E23=\"\",\"\",Import!E23)","v":""},{"$f":"IF(Import!F23=\"\",\"\",Import!F23)","v":""},{"$f":"IF(Import!G23=\"\",\"\",Import!G23)","v":""},{"$f":"IF(Import!H23=\"\",\"\",Import!H23)","v":""},{"$f":"IF(Import!J23=\"\",\"\",Import!J23)","v":""},{"$f":"IF(Import!K23=\"\",\"\",Import!K23)","v":""},{"$f":"IF(Import!L23=\"\",\"\",Import!L23)","v":""},{"$f":"IF(Import!M23=\"\",\"\",Import!M23)","v":""},{"$f":"IF(Import!P23=\"\",\"\",Import!P23)","v":""},{"$f":"IF(Import!Q23=\"\",\"\",Import!Q23)","v":""},{"$f":"IF(Import!R23=\"\",\"\",Import!R23)","v":""},384.55386140082663,3.8959480759243346,28.466054070206066,28.466054070206066,{"$f":"IF(Q23=\"\",\"\",(-0.00011*POWER(S23,2))+(0.01417*S23)+((0.00057*POWER(Q23,2))-(0.0529*Q23)+6.2018)+Kalkkalkyl!$AJ$2)","v":6.8185852416862254},{"$error":"#VALUE!"},null,{"$f":"IF(('PK kalkyl'!$AE$17*H23)+'PK kalkyl'!$AE$18+(('PK kalkyl'!$K$6-'PK kalkyl'!$AE$12)*'PK kalkyl'!$AE$13)<1,0,ROUND(('PK kalkyl'!$AE$17*H23)+'PK kalkyl'!$AE$18+(('PK kalkyl'!$K$6-'PK kalkyl'!$AE$12)*'PK kalkyl'!$AE$13),1))","v":{"$error":"#VALUE!"}},{"$f":"IF(('PK kalkyl'!$AE$37*I23)+'PK kalkyl'!$AE$38+(('PK kalkyl'!$K$6-'PK kalkyl'!$AE$32)*'PK kalkyl'!$AE$33)<1,0,ROUND(('PK kalkyl'!$AE$37*I23)+'PK kalkyl'!$AE$38+(('PK kalkyl'!$K$6-'PK kalkyl'!$AE$32)*'PK kalkyl'!$AE$33),1))","v":{"$error":"#VALUE!"}},{"$error":"#VALUE!"},{"$error":"#VALUE!"},{"$f":"IF((Y23<W23),Y23-W23,0)*-'PK kalkyl'!$AE$15","v":{"$error":"#VALUE!"}},{"$f":"IF((Z23<X23),Z23-X23,0)*-'PK kalkyl'!$AE$35","v":{"$error":"#VALUE!"}},{"$f":"+AA23*Växtföljd!$G$18+AB23*Växtföljd!$G$18","v":{"$error":"#VALUE!"}}]
[{"$f":"IF(Import!A24=\"\",\"\",Import!A24)","v":""},{"$f":"IF(Import!B24=\"\",\"\",Import!B24)","v":""},{"$f":"IF(Import!C24=\"\",\"\",Import!C24)","v":""},{"$f":"IF(Import!D24=\"\",\"\",Import!D24)","v":""},{"$f":"IF(Import!E24=\"\",\"\",Import!E24)","v":""},{"$f":"IF(Import!F24=\"\",\"\",Import!F24)","v":""},{"$f":"IF(Import!G24=\"\",\"\",Import!G24)","v":""},{"$f":"IF(Import!H24=\"\",\"\",Import!H24)","v":""},{"$f":"IF(Import!J24=\"\",\"\",Import!J24)","v":""},{"$f":"IF(Import!K24=\"\",\"\",Import!K24)","v":""},{"$f":"IF(Import!L24=\"\",\"\",Import!L24)","v":""},{"$f":"IF(Import!M24=\"\",\"\",Import!M24)","v":""},{"$f":"IF(Import!P24=\"\",\"\",Import!P24)","v":""},{"$f":"IF(Import!Q24=\"\",\"\",Import!Q24)","v":""},{"$f":"IF(Import!R24=\"\",\"\",Import!R24)","v":""},240,7.3,29,29,{"$f":"IF(Q24=\"\",\"\",(-0.00011*POWER(S24,2))+(0.01417*S24)+((0.00057*POWER(Q24,2))-(0.0529*Q24)+6.2018)+Kalkkalkyl!$AJ$2)","v":6.6644253000000004},{"$error":"#VALUE!"},null,{"$f":"IF(('PK kalkyl'!$AE$17*H24)+'PK kalkyl'!$AE$18+(('PK kalkyl'!$K$6-'PK kalkyl'!$AE$12)*'PK kalkyl'!$AE$13)<1,0,ROUND(('PK kalkyl'!$AE$17*H24)+'PK kalkyl'!$AE$18+(('PK kalkyl'!$K$6-'PK kalkyl'!$AE$12)*'PK kalkyl'!$AE$13),1))","v":{"$error":"#VALUE!"}},{"$f":"IF(('PK kalkyl'!$AE$37*I24)+'PK kalkyl'!$AE$38+(('PK kalkyl'!$K$6-'PK kalkyl'!$AE$32)*'PK kalkyl'!$AE$33)<1,0,ROUND(('PK kalkyl'!$AE$37*I24)+'PK kalkyl'!$AE$38+(('PK kalkyl'!$K$6-'PK kalkyl'!$AE$32)*'PK kalkyl'!$AE$33),1))","v":{"$error":"#VALUE!"}},{"$error":"#VALUE!"},{"$error":"#VALUE!"},{"$f":"IF((Y24<W24),Y24-W24,0)*-'PK kalkyl'!$AE$15","v":{"$error":"#VALUE!"}},{"$f":"IF((Z24<X24),Z24-X24,0)*-'PK kalkyl'!$AE$35","v":{"$error":"#VALUE!"}},{"$f":"+AA24*Växtföljd!$G$18+AB24*Växtföljd!$G$18","v":{"$error":"#VALUE!"}}]
[{"$f":"IF(Import!A25=\"\",\"\",Import!A25)","v":""},{"$f":"IF(Import!B25=\"\",\"\",Import!B25)","v":""},{"$f":"IF(Import!C25=\"\",\"\",Import!C25)","v":""},{"$f":"IF(Import!D25=\"\",\"\",Import!D25)","v":""},{"$f":"IF(Import!E25=\"\",\"\",Import!E25)","v":""},{"$f":"IF(Import!F25=\"\",\"\",Import!F25)","v":""},{"$f":"IF(Import!G25=\"\",\"\",Import!G25)","v":""},{"$f":"IF(Import!H25=\"\",\"\",Import!H25)","v":""},{"$f":"IF(Import!J25=\"\",\"\",Import!J25)","v":""},{"$f":"IF(Import!K25=\"\",\"\",Import!K25)","v":""},{"$f":"IF(Import!L25=\"\",\"\",Import!L25)","v":""},{"$f":"IF(Import!M25=\"\",\"\",Import!M25)","v":""},{"$f":"IF(Import!P25=\"\",\"\",Import!P25)","v":""},{"$f":"IF(Import!Q25=\"\",\"\",Import!Q25)","v":""},{"$f":"IF(Import!R25=\"\",\"\",Import!R25)","v":""},218.80778077611859,6.3223545316130592,27.790608560692981,27.790608560692981,{"$f":"IF(Q25=\"\",\"\",(-0.00011*POWER(S25,2))+(0.01417*S25)+((0.00057*POWER(Q25,2))-(0.0529*Q25)+6.2018)+Kalkkalkyl!$AJ$2)","v":6.6989695320129288},{"$error":"#VALUE!"},null,{"$f":"IF(('PK kalkyl'!$AE$17*H25)+'PK kalkyl'!$AE$18+(('PK kalkyl'!$K$6-'PK kalkyl'!$AE$12)*'PK kalkyl'!$AE$13)<1,0,ROUND(('PK kalkyl'!$AE$17*H25)+'PK kalkyl'!$AE$18+(('PK kalkyl'!$K$6-'PK kalkyl'!$AE$12)*'PK kalkyl'!$AE$13),1))","v":{"$error":"#VALUE!"}},{"$f":"IF(('PK kalkyl'!$AE$37*I25)+'PK kalkyl'!$AE$38+(('PK kalkyl'!$K$6-'PK kalkyl'!$AE$32)*'PK kalkyl'!$AE$33)<1,0,ROUND(('PK kalkyl'!$AE$37*I25)+'PK kalkyl'!$AE$38+(('PK kalkyl'!$K$6-'PK kalkyl'!$AE$32)*'PK kalkyl'!$AE$33),1))","v":{"$error":"#VALUE!"}},{"$error":"#VALUE!"},{"$error":"#VALUE!"},{"$f":"IF((Y25<W25),Y25-W25,0)*-'PK kalkyl'!$AE$15","v":{"$error":"#VALUE!"}},{"$f":"IF((Z25<X25),Z25-X25,0)*-'PK kalkyl'!$AE$35","v":{"$error":"#VALUE!"}},{"$f":"+AA25*Växtföljd!$G$18+AB25*Växtföljd!$G$18","v":{"$error":"#VALUE!"}}]
[{"$f":"IF(Import!A26=\"\",\"\",Import!A26)","v":""},{"$f":"IF(Import!B26=\"\",\"\",Import!B26)","v":""},{"$f":"IF(Import!C26=\"\",\"\",Import!C26)","v":""},{"$f":"IF(Import!D26=\"\",\"\",Import!D26)","v":""},{"$f":"IF(Import!E26=\"\",\"\",Import!E26)","v":""},{"$f":"IF(Import!F26=\"\",\"\",Import!F26)","v":""},{"$f":"IF(Import!G26=\"\",\"\",Import!G26)","v":""},{"$f":"IF(Import!H26=\"\",\"\",Import!H26)","v":""},{"$f":"IF(Import!J26=\"\",\"\",Import!J26)","v":""},{"$f":"IF(Import!K26=\"\",\"\",Import!K26)","v":""},{"$f":"IF(Import!L26=\"\",\"\",Import!L26)","v":""},{"$f":"IF(Import!M26=\"\",\"\",Import!M26)","v":""},{"$f":"IF(Import!P26=\"\",\"\",Import!P26)","v":""},{"$f":"IF(Import!Q26=\"\",\"\",Import!Q26)","v":""},{"$f":"IF(Import!R26=\"\",\"\",Import!R26)","v":""},200,5.7,26,26,{"$f":"IF(Q26=\"\",\"\",(-0.00011*POWER(S26,2))+(0.01417*S26)+((0.00057*POWER(Q26,2))-(0.0529*Q26)+6.2018)+Kalkkalkyl!$AJ$2)","v":6.7128493000000002},{"$error":"#VALUE!"},null,{"$f":"IF(('PK kalkyl'!$AE$17*H26)+'PK kalkyl'!$AE$18+(('PK kalkyl'!$K$6-'PK kalkyl'!$AE$12)*'PK kalkyl'!$AE$13)<1,0,ROUND(('PK kalkyl'!$AE$17*H26)+'PK kalkyl'!$AE$18+(('PK kalkyl'!$K$6-'PK kalkyl'!$AE$12)*'PK kalkyl'!$AE$13),1))","v":{"$error":"#VALUE!"}},{"$f":"IF(('PK kalkyl'!$AE$37*I26)+'PK kalkyl'!$AE$38+(('PK kalkyl'!$K$6-'PK kalkyl'!$AE$32)*'PK kalkyl'!$AE$33)<1,0,ROUND(('PK kalkyl'!$AE$37*I26)+'PK kalkyl'!$AE$38+(('PK kalkyl'!$K$6-'PK kalkyl'!$AE$32)*'PK kalkyl'!$AE$33),1))","v":{"$error":"#VALUE!"}},{"$error":"#VALUE!"},{"$error":"#VALUE!"},{"$f":"IF((Y26<W26),Y26-W26,0)*-'PK kalkyl'!$AE$15","v":{"$error":"#VALUE!"}},{"$f":"IF((Z26<X26),Z26-X26,0)*-'PK kalkyl'!$AE$35","v":{"$error":"#VALUE!"}},{"$f":"+AA26*Växtföljd!$G$18+AB26*Växtföljd!$G$18","v":{"$error":"#VALUE!"}}]
[{"$f":"IF(Import!A27=\"\",\"\",Import!A27)","v":""},{"$f":"IF(Import!B27=\"\",\"\",Import!B27)","v":""},{"$f":"IF(Import!C27=\"\",\"\",Import!C27)","v":""},{"$f":"IF(Import!D27=\"\",\"\",Import!D27)","v":""},{"$f":"IF(Import!E27=\"\",\"\",Import!E27)","v":""},{"$f":"IF(Import!F27=\"\",\"\",Import!F27)","v":""},{"$f":"IF(Import!G27=\"\",\"\",Import!G27)","v":""},{"$f":"IF(Import!H27=\"\",\"\",Import!H27)","v":""},{"$f":"IF(Import!J27=\"\",\"\",Import!J27)","v":""},{"$f":"IF(Import!K27=\"\",\"\",Import!K27)","v":""},{"$f":"IF(Import!L27=\"\",\"\",Import!L27)","v":""},{"$f":"IF(Import!M27=\"\",\"\",Import!M27)","v":""},{"$f":"IF(Import!P27=\"\",\"\",Import!P27)","v":""},{"$f":"IF(Import!Q27=\"\",\"\",Import!Q27)","v":""},{"$f":"IF(Import!R27=\"\",\"\",Import!R27)","v":""},194.67174996198648,5.5386435606765625,25.666724515854657,25.666724515854657,{"$f":"IF(Q27=\"\",\"\",(-0.00011*POWER(S27,2))+(0.01417*S27)+((0.00057*POWER(Q27,2))-(0.0529*Q27)+6.2018)+Kalkkalkyl!$AJ$2)","v":6.7175230061394329},{"$error":"#VALUE!"},null,{"$f":"IF(('PK kalkyl'!$AE$17*H27)+'PK kalkyl'!$AE$18+(('PK kalkyl'!$K$6-'PK kalkyl'!$AE$12)*'PK kalkyl'!$AE$13)<1,0,ROUND(('PK kalkyl'!$AE$17*H27)+'PK kalkyl'!$AE$18+(('PK kalkyl'!$K$6-'PK kalkyl'!$AE$12)*'PK kalkyl'!$AE$13),1))","v":{"$error":"#VALUE!"}},{"$f":"IF(('PK kalkyl'!$AE$37*I27)+'PK kalkyl'!$AE$38+(('PK kalkyl'!$K$6-'PK kalkyl'!$AE$32)*'PK kalkyl'!$AE$33)<1,0,ROUND(('PK kalkyl'!$AE$37*I27)+'PK kalkyl'!$AE$38+(('PK kalkyl'!$K$6-'PK kalkyl'!$AE$32)*'PK kalkyl'!$AE$33),1))","v":{"$error":"#VALUE!"}},{"$error":"#VALUE!"},{"$error":"#VALUE!"},{"$f":"IF((Y27<W27),Y27-W27,0)*-'PK kalkyl'!$AE$15","v":{"$error":"#VALUE!"}},{"$f":"IF((Z27<X27),Z27-X27,0)*-'PK kalkyl'!$AE$35","v":{"$error":"#VALUE!"}},{"$f":"+AA27*Växtföljd!$G$18+AB27*Växtföljd!$G$18","v":{"$error":"#VALUE!"}}]
[{"$f":"IF(Import!A28=\"\",\"\",Import!A28)","v":""},{"$f":"IF(Import!B28=\"\",\"\",Import!B28)","v":""},{"$f":"IF(Import!C28=\"\",\"\",Import!C28)","v":""},{"$f":"IF(Import!D28=\"\",\"\",Import!D28)","v":""},{"$f":"IF(Import!E28=\"\",\"\",Import!E28)","v":""},{"$f":"IF(Import!F28=\"\",\"\",Import!F28)","v":""},{"$f":"IF(Import!G28=\"\",\"\",Import!G28)","v":""},{"$f":"IF(Import!H28=\"\",\"\",Import!H28)","v":""},{"$f":"IF(Import!J28=\"\",\"\",Import!J28)","v":""},{"$f":"IF(Import!K28=\"\",\"\",Import!K28)","v":""},{"$f":"IF(Import!L28=\"\",\"\",Import!L28)","v":""},{"$f":"IF(Import!M28=\"\",\"\",Import!M28)","v":""},{"$f":"IF(Import!P28=\"\",\"\",Import!P28)","v":""},{"$f":"IF(Import!Q28=\"\",\"\",Import!Q28)","v":""},{"$f":"IF(Import!R28=\"\",\"\",Import!R28)","v":""},190,5.5,25,25,{"$f":"IF(Q28=\"\",\"\",(-0.00011*POWER(S28,2))+(0.01417*S28)+((0.00057*POWER(Q28,2))-(0.0529*Q28)+6.2018)+Kalkkalkyl!$AJ$2)","v":6.7135924999999999},{"$error":"#VALUE!"},null,{"$f":"IF(('PK kalkyl'!$AE$17*H28)+'PK kalkyl'!$AE$18+(('PK kalkyl'!$K$6-'PK kalkyl'!$AE$12)*'PK kalkyl'!$AE$13)<1,0,ROUND(('PK kalkyl'!$AE$17*H28)+'PK kalkyl'!$AE$18+(('PK kalkyl'!$K$6-'PK kalkyl'!$AE$12)*'PK kalkyl'!$AE$13),1))","v":{"$error":"#VALUE!"}},{"$f":"IF(('PK kalkyl'!$AE$37*I28)+'PK kalkyl'!$AE$38+(('PK kalkyl'!$K$6-'PK kalkyl'!$AE$32)*'PK kalkyl'!$AE$33)<1,0,ROUND(('PK kalkyl'!$AE$37*I28)+'PK kalkyl'!$AE$38+(('PK kalkyl'!$K$6-'PK kalkyl'!$AE$32)*'PK kalkyl'!$AE$33),1))","v":{"$error":"#VALUE!"}},{"$error":"#VALUE!"},{"$error":"#VALUE!"},{"$f":"IF((Y28<W28),Y28-W28,0)*-'PK kalkyl'!$AE$15","v":{"$error":"#VALUE!"}},{"$f":"IF((Z28<X28),Z28-X28,0)*-'PK kalkyl'!$AE$35","v":{"$error":"#VALUE!"}},{"$f":"+AA28*Växtföljd!$G$18+AB28*Växtföljd!$G$18","v":{"$error":"#VALUE!"}}]
[{"$f":"IF(Import!A29=\"\",\"\",Import!A29)","v":""},{"$f":"IF(Import!B29=\"\",\"\",Import!B29)","v":""},{"$f":"IF(Import!C29=\"\",\"\",Import!C29)","v":""},{"$f":"IF(Import!D29=\"\",\"\",Import!D29)","v":""},{"$f":"IF(Import!E29=\"\",\"\",Import!E29)","v":""},{"$f":"IF(Import!F29=\"\",\"\",Import!F29)","v":""},{"$f":"IF(Import!G29=\"\",\"\",Import!G29)","v":""},{"$f":"IF(Import!H29=\"\",\"\",Import!H29)","v":""},{"$f":"IF(Import!J29=\"\",\"\",Import!J29)","v":""},{"$f":"IF(Import!K29=\"\",\"\",Import!K29)","v":""},{"$f":"IF(Import!L29=\"\",\"\",Import!L29)","v":""},{"$f":"IF(Import!M29=\"\",\"\",Import!M29)","v":""},{"$f":"IF(Import!P29=\"\",\"\",Import!P29)","v":""},{"$f":"IF(Import!Q29=\"\",\"\",Import!Q29)","v":""},{"$f":"IF(Import!R29=\"\",\"\",Import!R29)","v":""},181.05385636917859,5.6276904265548735,30.054725940825072,30.054725940825072,{"$f":"IF(Q29=\"\",\"\",(-0.00011*POWER(S29,2))+(0.01417*S29)+((0.00057*POWER(Q29,2))-(0.0529*Q29)+6.2018)+Kalkkalkyl!$AJ$2)","v":6.7486615351013164},{"$error":"#VALUE!"},null,{"$f":"IF(('PK kalkyl'!$AE$17*H29)+'PK kalkyl'!$AE$18+(('PK kalkyl'!$K$6-'PK kalkyl'!$AE$12)*'PK kalkyl'!$AE$13)<1,0,ROUND(('PK kalkyl'!$AE$17*H29)+'PK kalkyl'!$AE$18+(('PK kalkyl'!$K$6-'PK kalkyl'!$AE$12)*'PK kalkyl'!$AE$13),1))","v":{"$error":"#VALUE!"}},{"$f":"IF(('PK kalkyl'!$AE$37*I29)+'PK kalkyl'!$AE$38+(('PK kalkyl'!$K$6-'PK kalkyl'!$AE$32)*'PK kalkyl'!$AE$33)<1,0,ROUND(('PK kalkyl'!$AE$37*I29)+'PK kalkyl'!$AE$38+(('PK kalkyl'!$K$6-'PK kalkyl'!$AE$32)*'PK kalkyl'!$AE$33),1))","v":{"$error":"#VALUE!"}},{"$error":"#VALUE!"},{"$error":"#VALUE!"},{"$f":"IF((Y29<W29),Y29-W29,0)*-'PK kalkyl'!$AE$15","v":{"$error":"#VALUE!"}},{"$f":"IF((Z29<X29),Z29-X29,0)*-'PK kalkyl'!$AE$35","v":{"$error":"#VALUE!"}},{"$f":"+AA29*Växtföljd!$G$18+AB29*Växtföljd!$G$18","v":{"$error":"#VALUE!"}}]
[{"$f":"IF(Import!A30=\"\",\"\",Import!A30)","v":""},{"$f":"IF(Import!B30=\"\",\"\",Import!B30)","v":""},{"$f":"IF(Import!C30=\"\",\"\",Import!C30)","v":""},{"$f":"IF(Import!D30=\"\",\"\",Import!D30)","v":""},{"$f":"IF(Import!E30=\"\",\"\",Import!E30)","v":""},{"$f":"IF(Import!F30=\"\",\"\",Import!F30)","v":""},{"$f":"IF(Import!G30=\"\",\"\",Import!G30)","v":""},{"$f":"IF(Import!H30=\"\",\"\",Import!H30)","v":""},{"$f":"IF(Import!J30=\"\",\"\",Import!J30)","v":""},{"$f":"IF(Import!K30=\"\",\"\",Import!K30)","v":""},{"$f":"IF(Import!L30=\"\",\"\",Import!L30)","v":""},{"$f":"IF(Import!M30=\"\",\"\",Import!M30)","v":""},{"$f":"IF(Import!P30=\"\",\"\",Import!P30)","v":""},{"$f":"IF(Import!Q30=\"\",\"\",Import!Q30)","v":""},{"$f":"IF(Import!R30=\"\",\"\",Import!R30)","v":""},170,5.8,34,34,{"$f":"IF(Q30=\"\",\"\",(-0.00011*POWER(S30,2))+(0.01417*S30)+((0.00057*POWER(Q30,2))-(0.0529*Q30)+6.2018)+Kalkkalkyl!$AJ$2)","v":6.7687748000000001},{"$error":"#VALUE!"},null,{"$f":"IF(('PK kalkyl'!$AE$17*H30)+'PK kalkyl'!$AE$18+(('PK kalkyl'!$K$6-'PK kalkyl'!$AE$12)*'PK kalkyl'!$AE$13)<1,0,ROUND(('PK kalkyl'!$AE$17*H30)+'PK kalkyl'!$AE$18+(('PK kalkyl'!$K$6-'PK kalkyl'!$AE$12)*'PK kalkyl'!$AE$13),1))","v":{"$error":"#VALUE!"}},{"$f":"IF(('PK kalkyl'!$AE$37*I30)+'PK kalkyl'!$AE$38+(('PK kalkyl'!$K$6-'PK kalkyl'!$AE$32)*'PK kalkyl'!$AE$33)<1,0,ROUND(('PK kalkyl'!$AE$37*I30)+'PK kalkyl'!$AE$38+(('PK kalkyl'!$K$6-'PK kalkyl'!$AE$32)*'PK kalkyl'!$AE$33),1))","v":{"$error":"#VALUE!"}},{"$error":"#VALUE!"},{"$error":"#VALUE!"},{"$f":"IF((Y30<W30),Y30-W30,0)*-'PK kalkyl'!$AE$15","v":{"$error":"#VALUE!"}},{"$f":"IF((Z30<X30),Z30-X30,0)*-'PK kalkyl'!$AE$35","v":{"$error":"#VALUE!"}},{"$f":"+AA30*Växtföljd!$G$18+AB30*Växtföljd!$G$18","v":{"$error":"#VALUE!"}}]
[{"$f":"IF(Import!A31=\"\",\"\",Import!A31)","v":""},{"$f":"IF(Import!B31=\"\",\"\",Import!B31)","v":""},{"$f":"IF(Import!C31=\"\",\"\",Import!C31)","v":""},{"$f":"IF(Import!D31=\"\",\"\",Import!D31)","v":""},{"$f":"IF(Import!E31=\"\",\"\",Import!E31)","v":""},{"$f":"IF(Import!F31=\"\",\"\",Import!F31)","v":""},{"$f":"IF(Import!G31=\"\",\"\",Import!G31)","v":""},{"$f":"IF(Import!H31=\"\",\"\",Import!H31)","v":""},{"$f":"IF(Import!J31=\"\",\"\",Import!J31)","v":""},{"$f":"IF(Import!K31=\"\",\"\",Import!K31)","v":""},{"$f":"IF(Import!L31=\"\",\"\",Import!L31)","v":""},{"$f":"IF(Import!M31=\"\",\"\",Import!M31)","v":""},{"$f":"IF(Import!P31=\"\",\"\",Import!P31)","v":""},{"$f":"IF(Import!Q31=\"\",\"\",Import!Q31)","v":""},{"$f":"IF(Import!R31=\"\",\"\",Import!R31)","v":""},226.42923267877441,5.0473460121299967,28.301590779990082,28.301590779990082,{"$f":"IF(Q31=\"\",\"\",(-0.00011*POWER(S31,2))+(0.01417*S31)+((0.00057*POWER(Q31,2))-(0.0529*Q31)+6.2018)+Kalkkalkyl!$AJ$2)","v":6.762242282842915},{"$error":"#VALUE!"},null,{"$f":"IF(('PK kalkyl'!$AE$17*H31)+'PK kalkyl'!$AE$18+(('PK kalkyl'!$K$6-'PK kalkyl'!$AE$12)*'PK kalkyl'!$AE$13)<1,0,ROUND(('PK kalkyl'!$AE$17*H31)+'PK kalkyl'!$AE$18+(('PK kalkyl'!$K$6-'PK kalkyl'!$AE$12)*'PK kalkyl'!$AE$13),1))","v":{"$error":"#VALUE!"}},{"$f":"IF(('PK kalkyl'!$AE$37*I31)+'PK kalkyl'!$AE$38+(('PK kalkyl'!$K$6-'PK kalkyl'!$AE$32)*'PK kalkyl'!$AE$33)<1,0,ROUND(('PK kalkyl'!$AE$37*I31)+'PK kalkyl'!$AE$38+(('PK kalkyl'!$K$6-'PK kalkyl'!$AE$32)*'PK kalkyl'!$AE$33),1))","v":{"$error":"#VALUE!"}},{"$error":"#VALUE!"},{"$error":"#VALUE!"},{"$f":"IF((Y31<W31),Y31-W31,0)*-'PK kalkyl'!$AE$15","v":{"$error":"#VALUE!"}},{"$f":"IF((Z31<X31),Z31-X31,0)*-'PK kalkyl'!$AE$35","v":{"$error":"#VALUE!"}},{"$f":"+AA31*Växtföljd!$G$18+AB31*Växtföljd!$G$18","v":{"$error":"#VALUE!"}}]
[{"$f":"IF(Import!A32=\"\",\"\",Import!A32)","v":""},{"$f":"IF(Import!B32=\"\",\"\",Import!B32)","v":""},{"$f":"IF(Import!C32=\"\",\"\",Import!C32)","v":""},{"$f":"IF(Import!D32=\"\",\"\",Import!D32)","v":""},{"$f":"IF(Import!E32=\"\",\"\",Import!E32)","v":""},{"$f":"IF(Import!F32=\"\",\"\",Import!F32)","v":""},{"$f":"IF(Import!G32=\"\",\"\",Import!G32)","v":""},{"$f":"IF(Import!H32=\"\",\"\",Import!H32)","v":""},{"$f":"IF(Import!J32=\"\",\"\",Import!J32)","v":""},{"$f":"IF(Import!K32=\"\",\"\",Import!K32)","v":""},{"$f":"IF(Import!L32=\"\",\"\",Import!L32)","v":""},{"$f":"IF(Import!M32=\"\",\"\",Import!M32)","v":""},{"$f":"IF(Import!P32=\"\",\"\",Import!P32)","v":""},{"$f":"IF(Import!Q32=\"\",\"\",Import!Q32)","v":""},{"$f":"IF(Import!R32=\"\",\"\",Import!R32)","v":""},230,5,28,28,{"$f":"IF(Q32=\"\",\"\",(-0.00011*POWER(S32,2))+(0.01417*S32)+((0.00057*POWER(Q32,2))-(0.0529*Q32)+6.2018)+Kalkkalkyl!$AJ$2)","v":6.7620700000000005},{"$error":"#VALUE!"},null,{"$f":"IF(('PK kalkyl'!$AE$17*H32)+'PK kalkyl'!$AE$18+(('PK kalkyl'!$K$6-'PK kalkyl'!$AE$12)*'PK kalkyl'!$AE$13)<1,0,ROUND(('PK kalkyl'!$AE$17*H32)+'PK kalkyl'!$AE$18+(('PK kalkyl'!$K$6-'PK kalkyl'!$AE$12)*'PK kalkyl'!$AE$13),1))","v":{"$error":"#VALUE!"}},{"$f":"IF(('PK kalkyl'!$AE$37*I32)+'PK kalkyl'!$AE$38+(('PK kalkyl'!$K$6-'PK kalkyl'!$AE$32)*'PK kalkyl'!$AE$33)<1,0,ROUND(('PK kalkyl'!$AE$37*I32)+'PK kalkyl'!$AE$38+(('PK kalkyl'!$K$6-'PK kalkyl'!$AE$32)*'PK kalkyl'!$AE$33),1))","v":{"$error":"#VALUE!"}},{"$error":"#VALUE!"},{"$error":"#VALUE!"},{"$f":"IF((Y32<W32),Y32-W32,0)*-'PK kalkyl'!$AE$15","v":{"$error":"#VALUE!"}},{"$f":"IF((Z32<X32),Z32-X32,0)*-'PK kalkyl'!$AE$35","v":{"$error":"#VALUE!"}},{"$f":"+AA32*Växtföljd!$G$18+AB32*Växtföljd!$G$18","v":{"$error":"#VALUE!"}}]
[{"$f":"IF(Import!A33=\"\",\"\",Import!A33)","v":""},{"$f":"IF(Import!B33=\"\",\"\",Import!B33)","v":""},{"$f":"IF(Import!C33=\"\",\"\",Import!C33)","v":""},{"$f":"IF(Import!D33=\"\",\"\",Import!D33)","v":""},{"$f":"IF(Import!E33=\"\",\"\",Import!E33)","v":""},{"$f":"IF(Import!F33=\"\",\"\",Import!F33)","v":""},{"$f":"IF(Import!G33=\"\",\"\",Import!G33)","v":""},{"$f":"IF(Import!H33=\"\",\"\",Import!H33)","v":""},{"$f":"IF(Import!J33=\"\",\"\",Import!J33)","v":""},{"$f":"IF(Import!K33=\"\",\"\",Import!K33)","v":""},{"$f":"IF(Import!L33=\"\",\"\",Import!L33)","v":""},{"$f":"IF(Import!M33=\"\",\"\",Import!M33)","v":""},{"$f":"IF(Import!P33=\"\",\"\",Import!P33)","v":""},{"$f":"IF(Import!Q33=\"\",\"\",Import!Q33)","v":""},{"$f":"IF(Import!R33=\"\",\"\",Import!R33)","v":""},209.32927032650645,4.8771571057577745,28.351701543170844,28.351701543170844,{"$f":"IF(Q33=\"\",\"\",(-0.00011*POWER(S33,2))+(0.01417*S33)+((0.00057*POWER(Q33,2))-(0.0529*Q33)+6.2018)+Kalkkalkyl!$AJ$2)","v":6.7706803091464298},{"$error":"#VALUE!"},null,{"$f":"IF(('PK kalkyl'!$AE$17*H33)+'PK kalkyl'!$AE$18+(('PK kalkyl'!$K$6-'PK kalkyl'!$AE$12)*'PK kalkyl'!$AE$13)<1,0,ROUND(('PK kalkyl'!$AE$17*H33)+'PK kalkyl'!$AE$18+(('PK kalkyl'!$K$6-'PK kalkyl'!$AE$12)*'PK kalkyl'!$AE$13),1))","v":{"$error":"#VALUE!"}},{"$f":"IF(('PK kalkyl'!$AE$37*I33)+'PK kalkyl'!$AE$38+(('PK kalkyl'!$K$6-'PK kalkyl'!$AE$32)*'PK kalkyl'!$AE$33)<1,0,ROUND(('PK kalkyl'!$AE$37*I33)+'PK kalkyl'!$AE$38+(('PK kalkyl'!$K$6-'PK kalkyl'!$AE$32)*'PK kalkyl'!$AE$33),1))","v":{"$error":"#VALUE!"}},{"$error":"#VALUE!"},{"$error":"#VALUE!"},{"$f":"IF((Y33<W33),Y33-W33,0)*-'PK kalkyl'!$AE$15","v":{"$error":"#VALUE!"}},{"$f":"IF((Z33<X33),Z33-X33,0)*-'PK kalkyl'!$AE$35","v":{"$error":"#VALUE!"}},{"$f":"+AA33*Växtföljd!$G$18+AB33*Växtföljd!$G$18","v":{"$error":"#VALUE!"}}]
[{"$f":"IF(Import!A34=\"\",\"\",Import!A34)","v":""},{"$f":"IF(Import!B34=\"\",\"\",Import!B34)","v":""},{"$f":"IF(Import!C34=\"\",\"\",Import!C34)","v":""},{"$f":"IF(Import!D34=\"\",\"\",Import!D34)","v":""},{"$f":"IF(Import!E34=\"\",\"\",Import!E34)","v":""},{"$f":"IF(Import!F34=\"\",\"\",Import!F34)","v":""},{"$f":"IF(Import!G34=\"\",\"\",Import!G34)","v":""},{"$f":"IF(Import!H34=\"\",\"\",Import!H34)","v":""},{"$f":"IF(Import!J34=\"\",\"\",Import!J34)","v":""},{"$f":"IF(Import!K34=\"\",\"\",Import!K34)","v":""},{"$f":"IF(Import!L34=\"\",\"\",Import!L34)","v":""},{"$f":"IF(Import!M34=\"\",\"\",Import!M34)","v":""},{"$f":"IF(Import!P34=\"\",\"\",Import!P34)","v":""},{"$f":"IF(Import!Q34=\"\",\"\",Import!Q34)","v":""},{"$f":"IF(Import!R34=\"\",\"\",Import!R34)","v":""},190,4.5999999999999996,29,29,{"$f":"IF(Q34=\"\",\"\",(-0.00011*POWER(S34,2))+(0.01417*S34)+((0.00057*POWER(Q34,2))-(0.0529*Q34)+6.2018)+Kalkkalkyl!$AJ$2)","v":6.7889412},{"$error":"#VALUE!"},null,{"$f":"IF(('PK kalkyl'!$AE$17*H34)+'PK kalkyl'!$AE$18+(('PK kalkyl'!$K$6-'PK kalkyl'!$AE$12)*'PK kalkyl'!$AE$13)<1,0,ROUND(('PK kalkyl'!$AE$17*H34)+'PK kalkyl'!$AE$18+(('PK kalkyl'!$K$6-'PK kalkyl'!$AE$12)*'PK kalkyl'!$AE$13),1))","v":{"$error":"#VALUE!"}},{"$f":"IF(('PK kalkyl'!$AE$37*I34)+'PK kalkyl'!$AE$38+(('PK kalkyl'!$K$6-'PK kalkyl'!$AE$32)*'PK kalkyl'!$AE$33)<1,0,ROUND(('PK kalkyl'!$AE$37*I34)+'PK kalkyl'!$AE$38+(('PK kalkyl'!$K$6-'PK kalkyl'!$AE$32)*'PK kalkyl'!$AE$33),1))","v":{"$error":"#VALUE!"}},{"$error":"#VALUE!"},{"$error":"#VALUE!"},{"$f":"IF((Y34<W34),Y34-W34,0)*-'PK kalkyl'!$AE$15","v":{"$error":"#VALUE!"}},{"$f":"IF((Z34<X34),Z34-X34,0)*-'PK kalkyl'!$AE$35","v":{"$error":"#VALUE!"}},{"$f":"+AA34*Växtföljd!$G$18+AB34*Växtföljd!$G$18","v":{"$error":"#VALUE!"}}]
[{"$f":"IF(Import!A35=\"\",\"\",Import!A35)","v":""},{"$f":"IF(Import!B35=\"\",\"\",Import!B35)","v":""},{"$f":"IF(Import!C35=\"\",\"\",Import!C35)","v":""},{"$f":"IF(Import!D35=\"\",\"\",Import!D35)","v":""},{"$f":"IF(Import!E35=\"\",\"\",Import!E35)","v":""},{"$f":"IF(Import!F35=\"\",\"\",Import!F35)","v":""},{"$f":"IF(Import!G35=\"\",\"\",Import!G35)","v":""},{"$f":"IF(Import!H35=\"\",\"\",Import!H35)","v":""},{"$f":"IF(Import!J35=\"\",\"\",Import!J35)","v":""},{"$f":"IF(Import!K35=\"\",\"\",Import!K35)","v":""},{"$f":"IF(Import!L35=\"\",\"\",Import!L35)","v":""},{"$f":"IF(Import!M35=\"\",\"\",Import!M35)","v":""},{"$f":"IF(Import!P35=\"\",\"\",Import!P35)","v":""},{"$f":"IF(Import!Q35=\"\",\"\",Import!Q35)","v":""},{"$f":"IF(Import!R35=\"\",\"\",Import!R35)","v":""},199.35085335833963,4.7247842353847931,29.681782135301443,29.681782135301443,{"$f":"IF(Q35=\"\",\"\",(-0.00011*POWER(S35,2))+(0.01417*S35)+((0.00057*POWER(Q35,2))-(0.0529*Q35)+6.2018)+Kalkkalkyl!$AJ$2)","v":6.7882633098857781},{"$error":"#VALUE!"},null,{"$f":"IF(('PK kalkyl'!$AE$17*H35)+'PK kalkyl'!$AE$18+(('PK kalkyl'!$K$6-'PK kalkyl'!$AE$12)*'PK kalkyl'!$AE$13)<1,0,ROUND(('PK kalkyl'!$AE$17*H35)+'PK kalkyl'!$AE$18+(('PK kalkyl'!$K$6-'PK kalkyl'!$AE$12)*'PK kalkyl'!$AE$13),1))","v":{"$error":"#VALUE!"}},{"$f":"IF(('PK kalkyl'!$AE$37*I35)+'PK kalkyl'!$AE$38+(('PK kalkyl'!$K$6-'PK kalkyl'!$AE$32)*'PK kalkyl'!$AE$33)<1,0,ROUND(('PK kalkyl'!$AE$37*I35)+'PK kalkyl'!$AE$38+(('PK kalkyl'!$K$6-'PK kalkyl'!$AE$32)*'PK kalkyl'!$AE$33),1))","v":{"$error":"#VALUE!"}},{"$error":"#VALUE!"},{"$error":"#VALUE!"},{"$f":"IF((Y35<W35),Y35-W35,0)*-'PK kalkyl'!$AE$15","v":{"$error":"#VALUE!"}},{"$f":"IF((Z35<X35),Z35-X35,0)*-'PK kalkyl'!$AE$35","v":{"$error":"#VALUE!"}},{"$f":"+AA35*Växtföljd!$G$18+AB35*Växtföljd!$G$18","v":{"$error":"#VALUE!"}}]
[{"$f":"IF(Import!A36=\"\",\"\",Import!A36)","v":""},{"$f":"IF(Import!B36=\"\",\"\",Import!B36)","v":""},{"$f":"IF(Import!C36=\"\",\"\",Import!C36)","v":""},{"$f":"IF(Import!D36=\"\",\"\",Import!D36)","v":""},{"$f":"IF(Import!E36=\"\",\"\",Import!E36)","v":""},{"$f":"IF(Import!F36=\"\",\"\",Import!F36)","v":""},{"$f":"IF(Import!G36=\"\",\"\",Import!G36)","v":""},{"$f":"IF(Import!H36=\"\",\"\",Import!H36)","v":""},{"$f":"IF(Import!J36=\"\",\"\",Import!J36)","v":""},{"$f":"IF(Import!K36=\"\",\"\",Import!K36)","v":""},{"$f":"IF(Import!L36=\"\",\"\",Import!L36)","v":""},{"$f":"IF(Import!M36=\"\",\"\",Import!M36)","v":""},{"$f":"IF(Import!P36=\"\",\"\",Import!P36)","v":""},{"$f":"IF(Import!Q36=\"\",\"\",Import!Q36)","v":""},{"$f":"IF(Import!R36=\"\",\"\",Import!R36)","v":""},220,4.2,34,34,{"$f":"IF(Q36=\"\",\"\",(-0.00011*POWER(S36,2))+(0.01417*S36)+((0.00057*POWER(Q36,2))-(0.0529*Q36)+6.2018)+Kalkkalkyl!$AJ$2)","v":6.8442948000000001},{"$error":"#VALUE!"},null,{"$f":"IF(('PK kalkyl'!$AE$17*H36)+'PK kalkyl'!$AE$18+(('PK kalkyl'!$K$6-'PK kalkyl'!$AE$12)*'PK kalkyl'!$AE$13)<1,0,ROUND(('PK kalkyl'!$AE$17*H36)+'PK kalkyl'!$AE$18+(('PK kalkyl'!$K$6-'PK kalkyl'!$AE$12)*'PK kalkyl'!$AE$13),1))","v":{"$error":"#VALUE!"}},{"$f":"IF(('PK kalkyl'!$AE$37*I36)+'PK kalkyl'!$AE$38+(('PK kalkyl'!$K$6-'PK kalkyl'!$AE$32)*'PK kalkyl'!$AE$33)<1,0,ROUND(('PK kalkyl'!$AE$37*I36)+'PK kalkyl'!$AE$38+(('PK kalkyl'!$K$6-'PK kalkyl'!$AE$32)*'PK kalkyl'!$AE$33),1))","v":{"$error":"#VALUE!"}},{"$error":"#VALUE!"},{"$error":"#VALUE!"},{"$f":"IF((Y36<W36),Y36-W36,0)*-'PK kalkyl'!$AE$15","v":{"$error":"#VALUE!"}},{"$f":"IF((Z36<X36),Z36-X36,0)*-'PK kalkyl'!$AE$35","v":{"$error":"#VALUE!"}},{"$f":"+AA36*Växtföljd!$G$18+AB36*Växtföljd!$G$18","v":{"$error":"#VALUE!"}}]
[{"$f":"IF(Import!A37=\"\",\"\",Import!A37)","v":""},{"$f":"IF(Import!B37=\"\",\"\",Import!B37)","v":""},{"$f":"IF(Import!C37=\"\",\"\",Import!C37)","v":""},{"$f":"IF(Import!D37=\"\",\"\",Import!D37)","v":""},{"$f":"IF(Import!E37=\"\",\"\",Import!E37)","v":""},{"$f":"IF(Import!F37=\"\",\"\",Import!F37)","v":""},{"$f":"IF(Import!G37=\"\",\"\",Import!G37)","v":""},{"$f":"IF(Import!H37=\"\",\"\",Import!H37)","v":""},{"$f":"IF(Import!J37=\"\",\"\",Import!J37)","v":""},{"$f":"IF(Import!K37=\"\",\"\",Import!K37)","v":""},{"$f":"IF(Import!L37=\"\",\"\",Import!L37)","v":""},{"$f":"IF(Import!M37=\"\",\"\",Import!M37)","v":""},{"$f":"IF(Import!P37=\"\",\"\",Import!P37)","v":""},{"$f":"IF(Import!Q37=\"\",\"\",Import!Q37)","v":""},{"$f":"IF(Import!R37=\"\",\"\",Import!R37)","v":""},223.65512873158281,4.7665449533953295,33.086217817104313,33.086217817104313,{"$f":"IF(Q37=\"\",\"\",(-0.00011*POWER(S37,2))+(0.01417*S37)+((0.00057*POWER(Q37,2))-(0.0529*Q37)+6.2018)+Kalkkalkyl!$AJ$2)","v":6.8110150913471204},{"$error":"#VALUE!"},null,{"$f":"IF(('PK kalkyl'!$AE$17*H37)+'PK kalkyl'!$AE$18+(('PK kalkyl'!$K$6-'PK kalkyl'!$AE$12)*'PK kalkyl'!$AE$13)<1,0,ROUND(('PK kalkyl'!$AE$17*H37)+'PK kalkyl'!$AE$18+(('PK kalkyl'!$K$6-'PK kalkyl'!$AE$12)*'PK kalkyl'!$AE$13),1))","v":{"$error":"#VALUE!"}},{"$f":"IF(('PK kalkyl'!$AE$37*I37)+'PK kalkyl'!$AE$38+(('PK kalkyl'!$K$6-'PK kalkyl'!$AE$32)*'PK kalkyl'!$AE$33)<1,0,ROUND(('PK kalkyl'!$AE$37*I37)+'PK kalkyl'!$AE$38+(('PK kalkyl'!$K$6-'PK kalkyl'!$AE$32)*'PK kalkyl'!$AE$33),1))","v":{"$error":"#VALUE!"}},{"$error":"#VALUE!"},{"$error":"#VALUE!"},{"$f":"IF((Y37<W37),Y37-W37,0)*-'PK kalkyl'!$AE$15","v":{"$error":"#VALUE!"}},{"$f":"IF((Z37<X37),Z37-X37,0)*-'PK kalkyl'!$AE$35","v":{"$error":"#VALUE!"}},{"$f":"+AA37*Växtföljd!$G$18+AB37*Växtföljd!$G$18","v":{"$error":"#VALUE!"}}]
[{"$f":"IF(Import!A38=\"\",\"\",Import!A38)","v":""},{"$f":"IF(Import!B38=\"\",\"\",Import!B38)","v":""},{"$f":"IF(Import!C38=\"\",\"\",Import!C38)","v":""},{"$f":"IF(Import!D38=\"\",\"\",Import!D38)","v":""},{"$f":"IF(Import!E38=\"\",\"\",Import!E38)","v":""},{"$f":"IF(Import!F38=\"\",\"\",Import!F38)","v":""},{"$f":"IF(Import!G38=\"\",\"\",Import!G38)","v":""},{"$f":"IF(Import!H38=\"\",\"\",Import!H38)","v":""},{"$f":"IF(Import!J38=\"\",\"\",Import!J38)","v":""},{"$f":"IF(Import!K38=\"\",\"\",Import!K38)","v":""},{"$f":"IF(Import!L38=\"\",\"\",Import!L38)","v":""},{"$f":"IF(Import!M38=\"\",\"\",Import!M38)","v":""},{"$f":"IF(Import!P38=\"\",\"\",Import!P38)","v":""},{"$f":"IF(Import!Q38=\"\",\"\",Import!Q38)","v":""},{"$f":"IF(Import!R38=\"\",\"\",Import!R38)","v":""},290,2.7,22,22,{"$f":"IF(Q38=\"\",\"\",(-0.00011*POWER(S38,2))+(0.01417*S38)+((0.00057*POWER(Q38,2))-(0.0529*Q38)+6.2018)+Kalkkalkyl!$AJ$2)","v":6.8216253},{"$error":"#VALUE!"},null,{"$f":"IF(('PK kalkyl'!$AE$17*H38)+'PK kalkyl'!$AE$18+(('PK kalkyl'!$K$6-'PK kalkyl'!$AE$12)*'PK kalkyl'!$AE$13)<1,0,ROUND(('PK kalkyl'!$AE$17*H38)+'PK kalkyl'!$AE$18+(('PK kalkyl'!$K$6-'PK kalkyl'!$AE$12)*'PK kalkyl'!$AE$13),1))","v":{"$error":"#VALUE!"}},{"$f":"IF(('PK kalkyl'!$AE$37*I38)+'PK kalkyl'!$AE$38+(('PK kalkyl'!$K$6-'PK kalkyl'!$AE$32)*'PK kalkyl'!$AE$33)<1,0,ROUND(('PK kalkyl'!$AE$37*I38)+'PK kalkyl'!$AE$38+(('PK kalkyl'!$K$6-'PK kalkyl'!$AE$32)*'PK kalkyl'!$AE$33),1))","v":{"$error":"#VALUE!"}},{"$error":"#VALUE!"},{"$error":"#VALUE!"},{"$f":"IF((Y38<W38),Y38-W38,0)*-'PK kalkyl'!$AE$15","v":{"$error":"#VALUE!"}},{"$f":"IF((Z38<X38),Z38-X38,0)*-'PK kalkyl'!$AE$35","v":{"$error":"#VALUE!"}},{"$f":"+AA38*Växtföljd!$G$18+AB38*Växtföljd!$G$18","v":{"$error":"#VALUE!"}}]
[{"$f":"IF(Import!A39=\"\",\"\",Import!A39)","v":""},{"$f":"IF(Import!B39=\"\",\"\",Import!B39)","v":""},{"$f":"IF(Import!C39=\"\",\"\",Import!C39)","v":""},{"$f":"IF(Import!D39=\"\",\"\",Import!D39)","v":""},{"$f":"IF(Import!E39=\"\",\"\",Import!E39)","v":""},{"$f":"IF(Import!F39=\"\",\"\",Import!F39)","v":""},{"$f":"IF(Import!G39=\"\",\"\",Import!G39)","v":""},{"$f":"IF(Import!H39=\"\",\"\",Import!H39)","v":""},{"$f":"IF(Import!J39=\"\",\"\",Import!J39)","v":""},{"$f":"IF(Import!K39=\"\",\"\",Import!K39)","v":""},{"$f":"IF(Import!L39=\"\",\"\",Import!L39)","v":""},{"$f":"IF(Import!M39=\"\",\"\",Import!M39)","v":""},{"$f":"IF(Import!P39=\"\",\"\",Import!P39)","v":""},{"$f":"IF(Import!Q39=\"\",\"\",Import!Q39)","v":""},{"$f":"IF(Import!R39=\"\",\"\",Import!R39)","v":""},268.72339473395107,2.3371624106800524,20.276370764448981,20.276370764448981,{"$f":"IF(Q39=\"\",\"\",(-0.00011*POWER(S39,2))+(0.01417*S39)+((0.00057*POWER(Q39,2))-(0.0529*Q39)+6.2018)+Kalkkalkyl!$AJ$2)","v":6.8233693759920744},{"$error":"#VALUE!"},null,{"$f":"IF(('PK kalkyl'!$AE$17*H39)+'PK kalkyl'!$AE$18+(('PK kalkyl'!$K$6-'PK kalkyl'!$AE$12)*'PK kalkyl'!$AE$13)<1,0,ROUND(('PK kalkyl'!$AE$17*H39)+'PK kalkyl'!$AE$18+(('PK kalkyl'!$K$6-'PK kalkyl'!$AE$12)*'PK kalkyl'!$AE$13),1))","v":{"$error":"#VALUE!"}},{"$f":"IF(('PK kalkyl'!$AE$37*I39)+'PK kalkyl'!$AE$38+(('PK kalkyl'!$K$6-'PK kalkyl'!$AE$32)*'PK kalkyl'!$AE$33)<1,0,ROUND(('PK kalkyl'!$AE$37*I39)+'PK kalkyl'!$AE$38+(('PK kalkyl'!$K$6-'PK kalkyl'!$AE$32)*'PK kalkyl'!$AE$33),1))","v":{"$error":"#VALUE!"}},{"$error":"#VALUE!"},{"$error":"#VALUE!"},{"$f":"IF((Y39<W39),Y39-W39,0)*-'PK kalkyl'!$AE$15","v":{"$error":"#VALUE!"}},{"$f":"IF((Z39<X39),Z39-X39,0)*-'PK kalkyl'!$AE$35","v":{"$error":"#VALUE!"}},{"$f":"+AA39*Växtföljd!$G$18+AB39*Växtföljd!$G$18","v":{"$error":"#VALUE!"}}]
[{"$f":"IF(Import!A40=\"\",\"\",Import!A40)","v":""},{"$f":"IF(Import!B40=\"\",\"\",Import!B40)","v":""},{"$f":"IF(Import!C40=\"\",\"\",Import!C40)","v":""},{"$f":"IF(Import!D40=\"\",\"\",Import!D40)","v":""},{"$f":"IF(Import!E40=\"\",\"\",Import!E40)","v":""},{"$f":"IF(Import!F40=\"\",\"\",Import!F40)","v":""},{"$f":"IF(Import!G40=\"\",\"\",Import!G40)","v":""},{"$f":"IF(Import!H40=\"\",\"\",Import!H40)","v":""},{"$f":"IF(Import!J40=\"\",\"\",Import!J40)","v":""},{"$f":"IF(Import!K40=\"\",\"\",Import!K40)","v":""},{"$f":"IF(Import!L40=\"\",\"\",Import!L40)","v":""},{"$f":"IF(Import!M40=\"\",\"\",Import!M40)","v":""},{"$f":"IF(Import!P40=\"\",\"\",Import!P40)","v":""},{"$f":"IF(Import!Q40=\"\",\"\",Import!Q40)","v":""},{"$f":"IF(Import!R40=\"\",\"\",Import!R40)","v":""},260,2.2999999999999998,19,19,{"$f":"IF(Q40=\"\",\"\",(-0.00011*POWER(S40,2))+(0.01417*S40)+((0.00057*POWER(Q40,2))-(0.0529*Q40)+6.2018)+Kalkkalkyl!$AJ$2)","v":6.8126652999999999},{"$error":"#VALUE!"},null,{"$f":"IF(('PK kalkyl'!$AE$17*H40)+'PK kalkyl'!$AE$18+(('PK kalkyl'!$K$6-'PK kalkyl'!$AE$12)*'PK kalkyl'!$AE$13)<1,0,ROUND(('PK kalkyl'!$AE$17*H40)+'PK kalkyl'!$AE$18+(('PK kalkyl'!$K$6-'PK kalkyl'!$AE$12)*'PK kalkyl'!$AE$13),1))","v":{"$error":"#VALUE!"}},{"$f":"IF(('PK kalkyl'!$AE$37*I40)+'PK kalkyl'!$AE$38+(('PK kalkyl'!$K$6-'PK kalkyl'!$AE$32)*'PK kalkyl'!$AE$33)<1,0,ROUND(('PK kalkyl'!$AE$37*I40)+'PK kalkyl'!$AE$38+(('PK kalkyl'!$K$6-'PK kalkyl'!$AE$32)*'PK kalkyl'!$AE$33),1))","v":{"$error":"#VALUE!"}},{"$error":"#VALUE!"},{"$error":"#VALUE!"},{"$f":"IF((Y40<W40),Y40-W40,0)*-'PK kalkyl'!$AE$15","v":{"$error":"#VALUE!"}},{"$f":"IF((Z40<X40),Z40-X40,0)*-'PK kalkyl'!$AE$35","v":{"$error":"#VALUE!"}},{"$f":"+AA40*Växtföljd!$G$18+AB40*Växtföljd!$G$18","v":{"$error":"#VALUE!"}}]
[{"$f":"IF(Import!A41=\"\",\"\",Import!A41)","v":""},{"$f":"IF(Import!B41=\"\",\"\",Import!B41)","v":""},{"$f":"IF(Import!C41=\"\",\"\",Import!C41)","v":""},{"$f":"IF(Import!D41=\"\",\"\",Import!D41)","v":""},{"$f":"IF(Import!E41=\"\",\"\",Import!E41)","v":""},{"$f":"IF(Import!F41=\"\",\"\",Import!F41)","v":""},{"$f":"IF(Import!G41=\"\",\"\",Import!G41)","v":""},{"$f":"IF(Import!H41=\"\",\"\",Import!H41)","v":""},{"$f":"IF(Import!J41=\"\",\"\",Import!J41)","v":""},{"$f":"IF(Import!K41=\"\",\"\",Import!K41)","v":""},{"$f":"IF(Import!L41=\"\",\"\",Import!L41)","v":""},{"$f":"IF(Import!M41=\"\",\"\",Import!M41)","v":""},{"$f":"IF(Import!P41=\"\",\"\",Import!P41)","v":""},{"$f":"IF(Import!Q41=\"\",\"\",Import!Q41)","v":""},{"$f":"IF(Import!R41=\"\",\"\",Import!R41)","v":""},176.8403449398381,2.236371759181786,14.773819033051421,14.773819033051421,{"$f":"IF(Q41=\"\",\"\",(-0.00011*POWER(S41,2))+(0.01417*S41)+((0.00057*POWER(Q41,2))-(0.0529*Q41)+6.2018)+Kalkkalkyl!$AJ$2)","v":6.7716824938950753},{"$error":"#VALUE!"},null,{"$f":"IF(('PK kalkyl'!$AE$17*H41)+'PK kalkyl'!$AE$18+(('PK kalkyl'!$K$6-'PK kalkyl'!$AE$12)*'PK kalkyl'!$AE$13)<1,0,ROUND(('PK kalkyl'!$AE$17*H41)+'PK kalkyl'!$AE$18+(('PK kalkyl'!$K$6-'PK kalkyl'!$AE$12)*'PK kalkyl'!$AE$13),1))","v":{"$error":"#VALUE!"}},{"$f":"IF(('PK kalkyl'!$AE$37*I41)+'PK kalkyl'!$AE$38+(('PK kalkyl'!$K$6-'PK kalkyl'!$AE$32)*'PK kalkyl'!$AE$33)<1,0,ROUND(('PK kalkyl'!$AE$37*I41)+'PK kalkyl'!$AE$38+(('PK kalkyl'!$K$6-'PK kalkyl'!$AE$32)*'PK kalkyl'!$AE$33),1))","v":{"$error":"#VALUE!"}},{"$error":"#VALUE!"},{"$error":"#VALUE!"},{"$f":"IF((Y41<W41),Y41-W41,0)*-'PK kalkyl'!$AE$15","v":{"$error":"#VALUE!"}},{"$f":"IF((Z41<X41),Z41-X41,0)*-'PK kalkyl'!$AE$35","v":{"$error":"#VALUE!"}},{"$f":"+AA41*Växtföljd!$G$18+AB41*Växtföljd!$G$18","v":{"$error":"#VALUE!"}}]
[{"$f":"IF(Import!A42=\"\",\"\",Import!A42)","v":""},{"$f":"IF(Import!B42=\"\",\"\",Import!B42)","v":""},{"$f":"IF(Import!C42=\"\",\"\",Import!C42)","v":""},{"$f":"IF(Import!D42=\"\",\"\",Import!D42)","v":""},{"$f":"IF(Import!E42=\"\",\"\",Import!E42)","v":""},{"$f":"IF(Import!F42=\"\",\"\",Import!F42)","v":""},{"$f":"IF(Import!G42=\"\",\"\",Import!G42)","v":""},{"$f":"IF(Import!H42=\"\",\"\",Import!H42)","v":""},{"$f":"IF(Import!J42=\"\",\"\",Import!J42)","v":""},{"$f":"IF(Import!K42=\"\",\"\",Import!K42)","v":""},{"$f":"IF(Import!L42=\"\",\"\",Import!L42)","v":""},{"$f":"IF(Import!M42=\"\",\"\",Import!M42)","v":""},{"$f":"IF(Import!P42=\"\",\"\",Import!P42)","v":""},{"$f":"IF(Import!Q42=\"\",\"\",Import!Q42)","v":""},{"$f":"IF(Import!R42=\"\",\"\",Import!R42)","v":""},130,2.1,12,12,{"$f":"IF(Q42=\"\",\"\",(-0.00011*POWER(S42,2))+(0.01417*S42)+((0.00057*POWER(Q42,2))-(0.0529*Q42)+6.2018)+Kalkkalkyl!$AJ$2)","v":6.7474237000000006},{"$error":"#VALUE!"},null,{"$f":"IF(('PK kalkyl'!$AE$17*H42)+'PK kalkyl'!$AE$18+(('PK kalkyl'!$K$6-'PK kalkyl'!$AE$12)*'PK kalkyl'!$AE$13)<1,0,ROUND(('PK kalkyl'!$AE$17*H42)+'PK kalkyl'!$AE$18+(('PK kalkyl'!$K$6-'PK kalkyl'!$AE$12)*'PK kalkyl'!$AE$13),1))","v":{"$error":"#VALUE!"}},{"$f":"IF(('PK kalkyl'!$AE$37*I42)+'PK kalkyl'!$AE$38+(('PK kalkyl'!$K$6-'PK kalkyl'!$AE$32)*'PK kalkyl'!$AE$33)<1,0,ROUND(('PK kalkyl'!$AE$37*I42)+'PK kalkyl'!$AE$38+(('PK kalkyl'!$K$6-'PK kalkyl'!$AE$32)*'PK kalkyl'!$AE$33),1))","v":{"$error":"#VALUE!"}},{"$error":"#VALUE!"},{"$error":"#VALUE!"},{"$f":"IF((Y42<W42),Y42-W42,0)*-'PK kalkyl'!$AE$15","v":{"$error":"#VALUE!"}},{"$f":"IF((Z42<X42),Z42-X42,0)*-'PK kalkyl'!$AE$35","v":{"$error":"#VALUE!"}},{"$f":"+AA42*Växtföljd!$G$18+AB42*Växtföljd!$G$18","v":{"$error":"#VALUE!"}}]
[{"$f":"IF(Import!A43=\"\",\"\",Import!A43)","v":""},{"$f":"IF(Import!B43=\"\",\"\",Import!B43)","v":""},{"$f":"IF(Import!C43=\"\",\"\",Import!C43)","v":""},{"$f":"IF(Import!D43=\"\",\"\",Import!D43)","v":""},{"$f":"IF(Import!E43=\"\",\"\",Import!E43)","v":""},{"$f":"IF(Import!F43=\"\",\"\",Import!F43)","v":""},{"$f":"IF(Import!G43=\"\",\"\",Import!G43)","v":""},{"$f":"IF(Import!H43=\"\",\"\",Import!H43)","v":""},{"$f":"IF(Import!J43=\"\",\"\",Import!J43)","v":""},{"$f":"IF(Import!K43=\"\",\"\",Import!K43)","v":""},{"$f":"IF(Import!L43=\"\",\"\",Import!L43)","v":""},{"$f":"IF(Import!M43=\"\",\"\",Import!M43)","v":""},{"$f":"IF(Import!P43=\"\",\"\",Import!P43)","v":""},{"$f":"IF(Import!Q43=\"\",\"\",Import!Q43)","v":""},{"$f":"IF(Import!R43=\"\",\"\",Import!R43)","v":""},207.54000372039525,2.2199507560025475,16.583465373223941,16.583465373223941,{"$f":"IF(Q43=\"\",\"\",(-0.00011*POWER(S43,2))+(0.01417*S43)+((0.00057*POWER(Q43,2))-(0.0529*Q43)+6.2018)+Kalkkalkyl!$AJ$2)","v":6.7919101271043809},{"$error":"#VALUE!"},null,{"$f":"IF(('PK kalkyl'!$AE$17*H43)+'PK kalkyl'!$AE$18+(('PK kalkyl'!$K$6-'PK kalkyl'!$AE$12)*'PK kalkyl'!$AE$13)<1,0,ROUND(('PK kalkyl'!$AE$17*H43)+'PK kalkyl'!$AE$18+(('PK kalkyl'!$K$6-'PK kalkyl'!$AE$12)*'PK kalkyl'!$AE$13),1))","v":{"$error":"#VALUE!"}},{"$f":"IF(('PK kalkyl'!$AE$37*I43)+'PK kalkyl'!$AE$38+(('PK kalkyl'!$K$6-'PK kalkyl'!$AE$32)*'PK kalkyl'!$AE$33)<1,0,ROUND(('PK kalkyl'!$AE$37*I43)+'PK kalkyl'!$AE$38+(('PK kalkyl'!$K$6-'PK kalkyl'!$AE$32)*'PK kalkyl'!$AE$33),1))","v":{"$error":"#VALUE!"}},{"$error":"#VALUE!"},{"$error":"#VALUE!"},{"$f":"IF((Y43<W43),Y43-W43,0)*-'PK kalkyl'!$AE$15","v":{"$error":"#VALUE!"}},{"$f":"IF((Z43<X43),Z43-X43,0)*-'PK kalkyl'!$AE$35","v":{"$error":"#VALUE!"}},{"$f":"+AA43*Växtföljd!$G$18+AB43*Växtföljd!$G$18","v":{"$error":"#VALUE!"}}]
[{"$f":"IF(Import!A44=\"\",\"\",Import!A44)","v":""},{"$f":"IF(Import!B44=\"\",\"\",Import!B44)","v":""},{"$f":"IF(Import!C44=\"\",\"\",Import!C44)","v":""},{"$f":"IF(Import!D44=\"\",\"\",Import!D44)","v":""},{"$f":"IF(Import!E44=\"\",\"\",Import!E44)","v":""},{"$f":"IF(Import!F44=\"\",\"\",Import!F44)","v":""},{"$f":"IF(Import!G44=\"\",\"\",Import!G44)","v":""},{"$f":"IF(Import!H44=\"\",\"\",Import!H44)","v":""},{"$f":"IF(Import!J44=\"\",\"\",Import!J44)","v":""},{"$f":"IF(Import!K44=\"\",\"\",Import!K44)","v":""},{"$f":"IF(Import!L44=\"\",\"\",Import!L44)","v":""},{"$f":"IF(Import!M44=\"\",\"\",Import!M44)","v":""},{"$f":"IF(Import!P44=\"\",\"\",Import!P44)","v":""},{"$f":"IF(Import!Q44=\"\",\"\",Import!Q44)","v":""},{"$f":"IF(Import!R44=\"\",\"\",Import!R44)","v":""},260,1.8,20,20,{"$f":"IF(Q44=\"\",\"\",(-0.00011*POWER(S44,2))+(0.01417*S44)+((0.00057*POWER(Q44,2))-(0.0529*Q44)+6.2018)+Kalkkalkyl!$AJ$2)","v":6.8478268},{"$error":"#VALUE!"},null,{"$f":"IF(('PK kalkyl'!$AE$17*H44)+'PK kalkyl'!$AE$18+(('PK kalkyl'!$K$6-'PK kalkyl'!$AE$12)*'PK kalkyl'!$AE$13)<1,0,ROUND(('PK kalkyl'!$AE$17*H44)+'PK kalkyl'!$AE$18+(('PK kalkyl'!$K$6-'PK kalkyl'!$AE$12)*'PK kalkyl'!$AE$13),1))","v":{"$error":"#VALUE!"}},{"$f":"IF(('PK kalkyl'!$AE$37*I44)+'PK kalkyl'!$AE$38+(('PK kalkyl'!$K$6-'PK kalkyl'!$AE$32)*'PK kalkyl'!$AE$33)<1,0,ROUND(('PK kalkyl'!$AE$37*I44)+'PK kalkyl'!$AE$38+(('PK kalkyl'!$K$6-'PK kalkyl'!$AE$32)*'PK kalkyl'!$AE$33),1))","v":{"$error":"#VALUE!"}},{"$error":"#VALUE!"},{"$error":"#VALUE!"},{"$f":"IF((Y44<W44),Y44-W44,0)*-'PK kalkyl'!$AE$15","v":{"$error":"#VALUE!"}},{"$f":"IF((Z44<X44),Z44-X44,0)*-'PK kalkyl'!$AE$35","v":{"$error":"#VALUE!"}},{"$f":"+AA44*Växtföljd!$G$18+AB44*Växtföljd!$G$18","v":{"$error":"#VALUE!"}}]
[{"$f":"IF(Import!A45=\"\",\"\",Import!A45)","v":""},{"$f":"IF(Import!B45=\"\",\"\",Import!B45)","v":""},{"$f":"IF(Import!C45=\"\",\"\",Import!C45)","v":""},{"$f":"IF(Import!D45=\"\",\"\",Import!D45)","v":""},{"$f":"IF(Import!E45=\"\",\"\",Import!E45)","v":""},{"$f":"IF(Import!F45=\"\",\"\",Import!F45)","v":""},{"$f":"IF(Import!G45=\"\",\"\",Import!G45)","v":""},{"$f":"IF(Import!H45=\"\",\"\",Import!H45)","v":""},{"$f":"IF(Import!J45=\"\",\"\",Import!J45)","v":""},{"$f":"IF(Import!K45=\"\",\"\",Import!K45)","v":""},{"$f":"IF(Import!L45=\"\",\"\",Import!L45)","v":""},{"$f":"IF(Import!M45=\"\",\"\",Import!M45)","v":""},{"$f":"IF(Import!P45=\"\",\"\",Import!P45)","v":""},{"$f":"IF(Import!Q45=\"\",\"\",Import!Q45)","v":""},{"$f":"IF(Import!R45=\"\",\"\",Import!R45)","v":""},303.12651431821268,2.3261338901481858,24.633110933822344,24.633110933822344,{"$f":"IF(Q45=\"\",\"\",(-0.00011*POWER(S45,2))+(0.01417*S45)+((0.00057*POWER(Q45,2))-(0.0529*Q45)+6.2018)+Kalkkalkyl!$AJ$2)","v":6.8641359945315346},{"$error":"#VALUE!"},null,{"$f":"IF(('PK kalkyl'!$AE$17*H45)+'PK kalkyl'!$AE$18+(('PK kalkyl'!$K$6-'PK kalkyl'!$AE$12)*'PK kalkyl'!$AE$13)<1,0,ROUND(('PK kalkyl'!$AE$17*H45)+'PK kalkyl'!$AE$18+(('PK kalkyl'!$K$6-'PK kalkyl'!$AE$12)*'PK kalkyl'!$AE$13),1))","v":{"$error":"#VALUE!"}},{"$f":"IF(('PK kalkyl'!$AE$37*I45)+'PK kalkyl'!$AE$38+(('PK kalkyl'!$K$6-'PK kalkyl'!$AE$32)*'PK kalkyl'!$AE$33)<1,0,ROUND(('PK kalkyl'!$AE$37*I45)+'PK kalkyl'!$AE$38+(('PK kalkyl'!$K$6-'PK kalkyl'!$AE$32)*'PK kalkyl'!$AE$33),1))","v":{"$error":"#VALUE!"}},{"$error":"#VALUE!"},{"$error":"#VALUE!"},{"$f":"IF((Y45<W45),Y45-W45,0)*-'PK kalkyl'!$AE$15","v":{"$error":"#VALUE!"}},{"$f":"IF((Z45<X45),Z45-X45,0)*-'PK kalkyl'!$AE$35","v":{"$error":"#VALUE!"}},{"$f":"+AA45*Växtföljd!$G$18+AB45*Växtföljd!$G$18","v":{"$error":"#VALUE!"}}]
[{"$f":"IF(Import!A46=\"\",\"\",Import!A46)","v":""},{"$f":"IF(Import!B46=\"\",\"\",Import!B46)","v":""},{"$f":"IF(Import!C46=\"\",\"\",Import!C46)","v":""},{"$f":"IF(Import!D46=\"\",\"\",Import!D46)","v":""},{"$f":"IF(Import!E46=\"\",\"\",Import!E46)","v":""},{"$f":"IF(Import!F46=\"\",\"\",Import!F46)","v":""},{"$f":"IF(Import!G46=\"\",\"\",Import!G46)","v":""},{"$f":"IF(Import!H46=\"\",\"\",Import!H46)","v":""},{"$f":"IF(Import!J46=\"\",\"\",Import!J46)","v":""},{"$f":"IF(Import!K46=\"\",\"\",Import!K46)","v":""},{"$f":"IF(Import!L46=\"\",\"\",Import!L46)","v":""},{"$f":"IF(Import!M46=\"\",\"\",Import!M46)","v":""},{"$f":"IF(Import!P46=\"\",\"\",Import!P46)","v":""},{"$f":"IF(Import!Q46=\"\",\"\",Import!Q46)","v":""},{"$f":"IF(Import!R46=\"\",\"\",Import!R46)","v":""},320,2.4,27,27,{"$f":"IF(Q46=\"\",\"\",(-0.00011*POWER(S46,2))+(0.01417*S46)+((0.00057*POWER(Q46,2))-(0.0529*Q46)+6.2018)+Kalkkalkyl!$AJ$2)","v":6.8805232000000007},{"$error":"#VALUE!"},null,{"$f":"IF(('PK kalkyl'!$AE$17*H46)+'PK kalkyl'!$AE$18+(('PK kalkyl'!$K$6-'PK kalkyl'!$AE$12)*'PK kalkyl'!$AE$13)<1,0,ROUND(('PK kalkyl'!$AE$17*H46)+'PK kalkyl'!$AE$18+(('PK kalkyl'!$K$6-'PK kalkyl'!$AE$12)*'PK kalkyl'!$AE$13),1))","v":{"$error":"#VALUE!"}},{"$f":"IF(('PK kalkyl'!$AE$37*I46)+'PK kalkyl'!$AE$38+(('PK kalkyl'!$K$6-'PK kalkyl'!$AE$32)*'PK kalkyl'!$AE$33)<1,0,ROUND(('PK kalkyl'!$AE$37*I46)+'PK kalkyl'!$AE$38+(('PK kalkyl'!$K$6-'PK kalkyl'!$AE$32)*'PK kalkyl'!$AE$33),1))","v":{"$error":"#VALUE!"}},{"$error":"#VALUE!"},{"$error":"#VALUE!"},{"$f":"IF((Y46<W46),Y46-W46,0)*-'PK kalkyl'!$AE$15","v":{"$error":"#VALUE!"}},{"$f":"IF((Z46<X46),Z46-X46,0)*-'PK kalkyl'!$AE$35","v":{"$error":"#VALUE!"}},{"$f":"+AA46*Växtföljd!$G$18+AB46*Växtföljd!$G$18","v":{"$error":"#VALUE!"}}]
[{"$f":"IF(Import!A47=\"\",\"\",Import!A47)","v":""},{"$f":"IF(Import!B47=\"\",\"\",Import!B47)","v":""},{"$f":"IF(Import!C47=\"\",\"\",Import!C47)","v":""},{"$f":"IF(Import!D47=\"\",\"\",Import!D47)","v":""},{"$f":"IF(Import!E47=\"\",\"\",Import!E47)","v":""},{"$f":"IF(Import!F47=\"\",\"\",Import!F47)","v":""},{"$f":"IF(Import!G47=\"\",\"\",Import!G47)","v":""},{"$f":"IF(Import!H47=\"\",\"\",Import!H47)","v":""},{"$f":"IF(Import!J47=\"\",\"\",Import!J47)","v":""},{"$f":"IF(Import!K47=\"\",\"\",Import!K47)","v":""},{"$f":"IF(Import!L47=\"\",\"\",Import!L47)","v":""},{"$f":"IF(Import!M47=\"\",\"\",Import!M47)","v":""},{"$f":"IF(Import!P47=\"\",\"\",Import!P47)","v":""},{"$f":"IF(Import!Q47=\"\",\"\",Import!Q47)","v":""},{"$f":"IF(Import!R47=\"\",\"\",Import!R47)","v":""},332.18357093790939,2.4913767820343202,28.218357093790935,28.218357093790935,{"$f":"IF(Q47=\"\",\"\",(-0.00011*POWER(S47,2))+(0.01417*S47)+((0.00057*POWER(Q47,2))-(0.0529*Q47)+6.2018)+Kalkkalkyl!$AJ$2)","v":6.8858079299853392},{"$error":"#VALUE!"},null,{"$f":"IF(('PK kalkyl'!$AE$17*H47)+'PK kalkyl'!$AE$18+(('PK kalkyl'!$K$6-'PK kalkyl'!$AE$12)*'PK kalkyl'!$AE$13)<1,0,ROUND(('PK kalkyl'!$AE$17*H47)+'PK kalkyl'!$AE$18+(('PK kalkyl'!$K$6-'PK kalkyl'!$AE$12)*'PK kalkyl'!$AE$13),1))","v":{"$error":"#VALUE!"}},{"$f":"IF(('PK kalkyl'!$AE$37*I47)+'PK kalkyl'!$AE$38+(('PK kalkyl'!$K$6-'PK kalkyl'!$AE$32)*'PK kalkyl'!$AE$33)<1,0,ROUND(('PK kalkyl'!$AE$37*I47)+'PK kalkyl'!$AE$38+(('PK kalkyl'!$K$6-'PK kalkyl'!$AE$32)*'PK kalkyl'!$AE$33),1))","v":{"$error":"#VALUE!"}},{"$error":"#VALUE!"},{"$error":"#VALUE!"},{"$f":"IF((Y47<W47),Y47-W47,0)*-'PK kalkyl'!$AE$15","v":{"$error":"#VALUE!"}},{"$f":"IF((Z47<X47),Z47-X47,0)*-'PK kalkyl'!$AE$35","v":{"$error":"#VALUE!"}},{"$f":"+AA47*Växtföljd!$G$18+AB47*Växtföljd!$G$18","v":{"$error":"#VALUE!"}}]
[{"$f":"IF(Import!A48=\"\",\"\",Import!A48)","v":""},{"$f":"IF(Import!B48=\"\",\"\",Import!B48)","v":""},{"$f":"IF(Import!C48=\"\",\"\",Import!C48)","v":""},{"$f":"IF(Import!D48=\"\",\"\",Import!D48)","v":""},{"$f":"IF(Import!E48=\"\",\"\",Import!E48)","v":""},{"$f":"IF(Import!F48=\"\",\"\",Import!F48)","v":""},{"$f":"IF(Import!G48=\"\",\"\",Import!G48)","v":""},{"$f":"IF(Import!H48=\"\",\"\",Import!H48)","v":""},{"$f":"IF(Import!J48=\"\",\"\",Import!J48)","v":""},{"$f":"IF(Import!K48=\"\",\"\",Import!K48)","v":""},{"$f":"IF(Import!L48=\"\",\"\",Import!L48)","v":""},{"$f":"IF(Import!M48=\"\",\"\",Import!M48)","v":""},{"$f":"IF(Import!P48=\"\",\"\",Import!P48)","v":""},{"$f":"IF(Import!Q48=\"\",\"\",Import!Q48)","v":""},{"$f":"IF(Import!R48=\"\",\"\",Import!R48)","v":""},360,2.7,31,31,{"$f":"IF(Q48=\"\",\"\",(-0.00011*POWER(S48,2))+(0.01417*S48)+((0.00057*POWER(Q48,2))-(0.0529*Q48)+6.2018)+Kalkkalkyl!$AJ$2)","v":6.8966853000000006},{"$error":"#VALUE!"},null,{"$f":"IF(('PK kalkyl'!$AE$17*H48)+'PK kalkyl'!$AE$18+(('PK kalkyl'!$K$6-'PK kalkyl'!$AE$12)*'PK kalkyl'!$AE$13)<1,0,ROUND(('PK kalkyl'!$AE$17*H48)+'PK kalkyl'!$AE$18+(('PK kalkyl'!$K$6-'PK kalkyl'!$AE$12)*'PK kalkyl'!$AE$13),1))","v":{"$error":"#VALUE!"}},{"$f":"IF(('PK kalkyl'!$AE$37*I48)+'PK kalkyl'!$AE$38+(('PK kalkyl'!$K$6-'PK kalkyl'!$AE$32)*'PK kalkyl'!$AE$33)<1,0,ROUND(('PK kalkyl'!$AE$37*I48)+'PK kalkyl'!$AE$38+(('PK kalkyl'!$K$6-'PK kalkyl'!$AE$32)*'PK kalkyl'!$AE$33),1))","v":{"$error":"#VALUE!"}},{"$error":"#VALUE!"},{"$error":"#VALUE!"},{"$f":"IF((Y48<W48),Y48-W48,0)*-'PK kalkyl'!$AE$15","v":{"$error":"#VALUE!"}},{"$f":"IF((Z48<X48),Z48-X48,0)*-'PK kalkyl'!$AE$35","v":{"$error":"#VALUE!"}},{"$f":"+AA48*Växtföljd!$G$18+AB48*Växtföljd!$G$18","v":{"$error":"#VALUE!"}}]
[{"$f":"IF(Import!A49=\"\",\"\",Import!A49)","v":""},{"$f":"IF(Import!B49=\"\",\"\",Import!B49)","v":""},{"$f":"IF(Import!C49=\"\",\"\",Import!C49)","v":""},{"$f":"IF(Import!D49=\"\",\"\",Import!D49)","v":""},{"$f":"IF(Import!E49=\"\",\"\",Import!E49)","v":""},{"$f":"IF(Import!F49=\"\",\"\",Import!F49)","v":""},{"$f":"IF(Import!G49=\"\",\"\",Import!G49)","v":""},{"$f":"IF(Import!H49=\"\",\"\",Import!H49)","v":""},{"$f":"IF(Import!J49=\"\",\"\",Import!J49)","v":""},{"$f":"IF(Import!K49=\"\",\"\",Import!K49)","v":""},{"$f":"IF(Import!L49=\"\",\"\",Import!L49)","v":""},{"$f":"IF(Import!M49=\"\",\"\",Import!M49)","v":""},{"$f":"IF(Import!P49=\"\",\"\",Import!P49)","v":""},{"$f":"IF(Import!Q49=\"\",\"\",Import!Q49)","v":""},{"$f":"IF(Import!R49=\"\",\"\",Import!R49)","v":""},274.9649020223705,4.4384479098534113,28.416786544319866,28.416786544319866,{"$f":"IF(Q49=\"\",\"\",(-0.00011*POWER(S49,2))+(0.01417*S49)+((0.00057*POWER(Q49,2))-(0.0529*Q49)+6.2018)+Kalkkalkyl!$AJ$2)","v":6.7920743548898042},{"$error":"#VALUE!"},null,{"$f":"IF(('PK kalkyl'!$AE$17*H49)+'PK kalkyl'!$AE$18+(('PK kalkyl'!$K$6-'PK kalkyl'!$AE$12)*'PK kalkyl'!$AE$13)<1,0,ROUND(('PK kalkyl'!$AE$17*H49)+'PK kalkyl'!$AE$18+(('PK kalkyl'!$K$6-'PK kalkyl'!$AE$12)*'PK kalkyl'!$AE$13),1))","v":{"$error":"#VALUE!"}},{"$f":"IF(('PK kalkyl'!$AE$37*I49)+'PK kalkyl'!$AE$38+(('PK kalkyl'!$K$6-'PK kalkyl'!$AE$32)*'PK kalkyl'!$AE$33)<1,0,ROUND(('PK kalkyl'!$AE$37*I49)+'PK kalkyl'!$AE$38+(('PK kalkyl'!$K$6-'PK kalkyl'!$AE$32)*'PK kalkyl'!$AE$33),1))","v":{"$error":"#VALUE!"}},{"$error":"#VALUE!"},{"$error":"#VALUE!"},{"$f":"IF((Y49<W49),Y49-W49,0)*-'PK kalkyl'!$AE$15","v":{"$error":"#VALUE!"}},{"$f":"IF((Z49<X49),Z49-X49,0)*-'PK kalkyl'!$AE$35","v":{"$error":"#VALUE!"}},{"$f":"+AA49*Växtföljd!$G$18+AB49*Växtföljd!$G$18","v":{"$error":"#VALUE!"}}]
[{"$f":"IF(Import!A50=\"\",\"\",Import!A50)","v":""},{"$f":"IF(Import!B50=\"\",\"\",Import!B50)","v":""},{"$f":"IF(Import!C50=\"\",\"\",Import!C50)","v":""},{"$f":"IF(Import!D50=\"\",\"\",Import!D50)","v":""},{"$f":"IF(Import!E50=\"\",\"\",Import!E50)","v":""},{"$f":"IF(Import!F50=\"\",\"\",Import!F50)","v":""},{"$f":"IF(Import!G50=\"\",\"\",Import!G50)","v":""},{"$f":"IF(Import!H50=\"\",\"\",Import!H50)","v":""},{"$f":"IF(Import!J50=\"\",\"\",Import!J50)","v":""},{"$f":"IF(Import!K50=\"\",\"\",Import!K50)","v":""},{"$f":"IF(Import!L50=\"\",\"\",Import!L50)","v":""},{"$f":"IF(Import!M50=\"\",\"\",Import!M50)","v":""},{"$f":"IF(Import!P50=\"\",\"\",Import!P50)","v":""},{"$f":"IF(Import!Q50=\"\",\"\",Import!Q50)","v":""},{"$f":"IF(Import!R50=\"\",\"\",Import!R50)","v":""},280,4.5999999999999996,29,29,{"$f":"IF(Q50=\"\",\"\",(-0.00011*POWER(S50,2))+(0.01417*S50)+((0.00057*POWER(Q50,2))-(0.0529*Q50)+6.2018)+Kalkkalkyl!$AJ$2)","v":6.7889412},{"$error":"#VALUE!"},null,{"$f":"IF(('PK kalkyl'!$AE$17*H50)+'PK kalkyl'!$AE$18+(('PK kalkyl'!$K$6-'PK kalkyl'!$AE$12)*'PK kalkyl'!$AE$13)<1,0,ROUND(('PK kalkyl'!$AE$17*H50)+'PK kalkyl'!$AE$18+(('PK kalkyl'!$K$6-'PK kalkyl'!$AE$12)*'PK kalkyl'!$AE$13),1))","v":{"$error":"#VALUE!"}},{"$f":"IF(('PK kalkyl'!$AE$37*I50)+'PK kalkyl'!$AE$38+(('PK kalkyl'!$K$6-'PK kalkyl'!$AE$32)*'PK kalkyl'!$AE$33)<1,0,ROUND(('PK kalkyl'!$AE$37*I50)+'PK kalkyl'!$AE$38+(('PK kalkyl'!$K$6-'PK kalkyl'!$AE$32)*'PK kalkyl'!$AE$33),1))","v":{"$error":"#VALUE!"}},{"$error":"#VALUE!"},{"$error":"#VALUE!"},{"$f":"IF((Y50<W50),Y50-W50,0)*-'PK kalkyl'!$AE$15","v":{"$error":"#VALUE!"}},{"$f":"IF((Z50<X50),Z50-X50,0)*-'PK kalkyl'!$AE$35","v":{"$error":"#VALUE!"}},{"$f":"+AA50*Växtföljd!$G$18+AB50*Växtföljd!$G$18","v":{"$error":"#VALUE!"}}]
[{"$f":"IF(Import!A51=\"\",\"\",Import!A51)","v":""},{"$f":"IF(Import!B51=\"\",\"\",Import!B51)","v":""},{"$f":"IF(Import!C51=\"\",\"\",Import!C51)","v":""},{"$f":"IF(Import!D51=\"\",\"\",Import!D51)","v":""},{"$f":"IF(Import!E51=\"\",\"\",Import!E51)","v":""},{"$f":"IF(Import!F51=\"\",\"\",Import!F51)","v":""},{"$f":"IF(Import!G51=\"\",\"\",Import!G51)","v":""},{"$f":"IF(Import!H51=\"\",\"\",Import!H51)","v":""},{"$f":"IF(Import!J51=\"\",\"\",Import!J51)","v":""},{"$f":"IF(Import!K51=\"\",\"\",Import!K51)","v":""},{"$f":"IF(Import!L51=\"\",\"\",Import!L51)","v":""},{"$f":"IF(Import!M51=\"\",\"\",Import!M51)","v":""},{"$f":"IF(Import!P51=\"\",\"\",Import!P51)","v":""},{"$f":"IF(Import!Q51=\"\",\"\",Import!Q51)","v":""},{"$f":"IF(Import!R51=\"\",\"\",Import!R51)","v":""},278.7186345472777,4.5487453818911074,28.871863454727769,28.871863454727769,{"$f":"IF(Q51=\"\",\"\",(-0.00011*POWER(S51,2))+(0.01417*S51)+((0.00057*POWER(Q51,2))-(0.0529*Q51)+6.2018)+Kalkkalkyl!$AJ$2)","v":6.7903852977162114},{"$error":"#VALUE!"},null,{"$f":"IF(('PK kalkyl'!$AE$17*H51)+'PK kalkyl'!$AE$18+(('PK kalkyl'!$K$6-'PK kalkyl'!$AE$12)*'PK kalkyl'!$AE$13)<1,0,ROUND(('PK kalkyl'!$AE$17*H51)+'PK kalkyl'!$AE$18+(('PK kalkyl'!$K$6-'PK kalkyl'!$AE$12)*'PK kalkyl'!$AE$13),1))","v":{"$error":"#VALUE!"}},{"$f":"IF(('PK kalkyl'!$AE$37*I51)+'PK kalkyl'!$AE$38+(('PK kalkyl'!$K$6-'PK kalkyl'!$AE$32)*'PK kalkyl'!$AE$33)<1,0,ROUND(('PK kalkyl'!$AE$37*I51)+'PK kalkyl'!$AE$38+(('PK kalkyl'!$K$6-'PK kalkyl'!$AE$32)*'PK kalkyl'!$AE$33),1))","v":{"$error":"#VALUE!"}},{"$error":"#VALUE!"},{"$error":"#VALUE!"},{"$f":"IF((Y51<W51),Y51-W51,0)*-'PK kalkyl'!$AE$15","v":{"$error":"#VALUE!"}},{"$f":"IF((Z51<X51),Z51-X51,0)*-'PK kalkyl'!$AE$35","v":{"$error":"#VALUE!"}},{"$f":"+AA51*Växtföljd!$G$18+AB51*Växtföljd!$G$18","v":{"$error":"#VALUE!"}}]
[{"$f":"IF(Import!A52=\"\",\"\",Import!A52)","v":""},{"$f":"IF(Import!B52=\"\",\"\",Import!B52)","v":""},{"$f":"IF(Import!C52=\"\",\"\",Import!C52)","v":""},{"$f":"IF(Import!D52=\"\",\"\",Import!D52)","v":""},{"$f":"IF(Import!E52=\"\",\"\",Import!E52)","v":""},{"$f":"IF(Import!F52=\"\",\"\",Import!F52)","v":""},{"$f":"IF(Import!G52=\"\",\"\",Import!G52)","v":""},{"$f":"IF(Import!H52=\"\",\"\",Import!H52)","v":""},{"$f":"IF(Import!J52=\"\",\"\",Import!J52)","v":""},{"$f":"IF(Import!K52=\"\",\"\",Import!K52)","v":""},{"$f":"IF(Import!L52=\"\",\"\",Import!L52)","v":""},{"$f":"IF(Import!M52=\"\",\"\",Import!M52)","v":""},{"$f":"IF(Import!P52=\"\",\"\",Import!P52)","v":""},{"$f":"IF(Import!Q52=\"\",\"\",Import!Q52)","v":""},{"$f":"IF(Import!R52=\"\",\"\",Import!R52)","v":""},270,4.2,28,28,{"$f":"IF(Q52=\"\",\"\",(-0.00011*POWER(S52,2))+(0.01417*S52)+((0.00057*POWER(Q52,2))-(0.0529*Q52)+6.2018)+Kalkkalkyl!$AJ$2)","v":6.8001948000000008},{"$error":"#VALUE!"},null,{"$f":"IF(('PK kalkyl'!$AE$17*H52)+'PK kalkyl'!$AE$18+(('PK kalkyl'!$K$6-'PK kalkyl'!$AE$12)*'PK kalkyl'!$AE$13)<1,0,ROUND(('PK kalkyl'!$AE$17*H52)+'PK kalkyl'!$AE$18+(('PK kalkyl'!$K$6-'PK kalkyl'!$AE$12)*'PK kalkyl'!$AE$13),1))","v":{"$error":"#VALUE!"}},{"$f":"IF(('PK kalkyl'!$AE$37*I52)+'PK kalkyl'!$AE$38+(('PK kalkyl'!$K$6-'PK kalkyl'!$AE$32)*'PK kalkyl'!$AE$33)<1,0,ROUND(('PK kalkyl'!$AE$37*I52)+'PK kalkyl'!$AE$38+(('PK kalkyl'!$K$6-'PK kalkyl'!$AE$32)*'PK kalkyl'!$AE$33),1))","v":{"$error":"#VALUE!"}},{"$error":"#VALUE!"},{"$error":"#VALUE!"},{"$f":"IF((Y52<W52),Y52-W52,0)*-'PK kalkyl'!$AE$15","v":{"$error":"#VALUE!"}},{"$f":"IF((Z52<X52),Z52-X52,0)*-'PK kalkyl'!$AE$35","v":{"$error":"#VALUE!"}},{"$f":"+AA52*Växtföljd!$G$18+AB52*Växtföljd!$G$18","v":{"$error":"#VALUE!"}}]
[{"$f":"IF(Import!A53=\"\",\"\",Import!A53)","v":""},{"$f":"IF(Import!B53=\"\",\"\",Import!B53)","v":""},{"$f":"IF(Import!C53=\"\",\"\",Import!C53)","v":""},{"$f":"IF(Import!D53=\"\",\"\",Import!D53)","v":""},{"$f":"IF(Import!E53=\"\",\"\",Import!E53)","v":""},{"$f":"IF(Import!F53=\"\",\"\",Import!F53)","v":""},{"$f":"IF(Import!G53=\"\",\"\",Import!G53)","v":""},{"$f":"IF(Import!H53=\"\",\"\",Import!H53)","v":""},{"$f":"IF(Import!J53=\"\",\"\",Import!J53)","v":""},{"$f":"IF(Import!K53=\"\",\"\",Import!K53)","v":""},{"$f":"IF(Import!L53=\"\",\"\",Import!L53)","v":""},{"$f":"IF(Import!M53=\"\",\"\",Import!M53)","v":""},{"$f":"IF(Import!P53=\"\",\"\",Import!P53)","v":""},{"$f":"IF(Import!Q53=\"\",\"\",Import!Q53)","v":""},{"$f":"IF(Import!R53=\"\",\"\",Import!R53)","v":""},254.53600770069087,4.1129642535983963,25.562978227630559,25.562978227630559,{"$f":"IF(Q53=\"\",\"\",(-0.00011*POWER(S53,2))+(0.01417*S53)+((0.00057*POWER(Q53,2))-(0.0529*Q53)+6.2018)+Kalkkalkyl!$AJ$2)","v":6.7842127390471614},{"$error":"#VALUE!"},null,{"$f":"IF(('PK kalkyl'!$AE$17*H53)+'PK kalkyl'!$AE$18+(('PK kalkyl'!$K$6-'PK kalkyl'!$AE$12)*'PK kalkyl'!$AE$13)<1,0,ROUND(('PK kalkyl'!$AE$17*H53)+'PK kalkyl'!$AE$18+(('PK kalkyl'!$K$6-'PK kalkyl'!$AE$12)*'PK kalkyl'!$AE$13),1))","v":{"$error":"#VALUE!"}},{"$f":"IF(('PK kalkyl'!$AE$37*I53)+'PK kalkyl'!$AE$38+(('PK kalkyl'!$K$6-'PK kalkyl'!$AE$32)*'PK kalkyl'!$AE$33)<1,0,ROUND(('PK kalkyl'!$AE$37*I53)+'PK kalkyl'!$AE$38+(('PK kalkyl'!$K$6-'PK kalkyl'!$AE$32)*'PK kalkyl'!$AE$33),1))","v":{"$error":"#VALUE!"}},{"$error":"#VALUE!"},{"$error":"#VALUE!"},{"$f":"IF((Y53<W53),Y53-W53,0)*-'PK kalkyl'!$AE$15","v":{"$error":"#VALUE!"}},{"$f":"IF((Z53<X53),Z53-X53,0)*-'PK kalkyl'!$AE$35","v":{"$error":"#VALUE!"}},{"$f":"+AA53*Växtföljd!$G$18+AB53*Växtföljd!$G$18","v":{"$error":"#VALUE!"}}]
[{"$f":"IF(Import!A54=\"\",\"\",Import!A54)","v":""},{"$f":"IF(Import!B54=\"\",\"\",Import!B54)","v":""},{"$f":"IF(Import!C54=\"\",\"\",Import!C54)","v":""},{"$f":"IF(Import!D54=\"\",\"\",Import!D54)","v":""},{"$f":"IF(Import!E54=\"\",\"\",Import!E54)","v":""},{"$f":"IF(Import!F54=\"\",\"\",Import!F54)","v":""},{"$f":"IF(Import!G54=\"\",\"\",Import!G54)","v":""},{"$f":"IF(Import!H54=\"\",\"\",Import!H54)","v":""},{"$f":"IF(Import!J54=\"\",\"\",Import!J54)","v":""},{"$f":"IF(Import!K54=\"\",\"\",Import!K54)","v":""},{"$f":"IF(Import!L54=\"\",\"\",Import!L54)","v":""},{"$f":"IF(Import!M54=\"\",\"\",Import!M54)","v":""},{"$f":"IF(Import!P54=\"\",\"\",Import!P54)","v":""},{"$f":"IF(Import!Q54=\"\",\"\",Import!Q54)","v":""},{"$f":"IF(Import!R54=\"\",\"\",Import!R54)","v":""},240,4,23,23,{"$f":"IF(Q54=\"\",\"\",(-0.00011*POWER(S54,2))+(0.01417*S54)+((0.00057*POWER(Q54,2))-(0.0529*Q54)+6.2018)+Kalkkalkyl!$AJ$2)","v":6.7670399999999997},{"$error":"#VALUE!"},null,{"$f":"IF(('PK kalkyl'!$AE$17*H54)+'PK kalkyl'!$AE$18+(('PK kalkyl'!$K$6-'PK kalkyl'!$AE$12)*'PK kalkyl'!$AE$13)<1,0,ROUND(('PK kalkyl'!$AE$17*H54)+'PK kalkyl'!$AE$18+(('PK kalkyl'!$K$6-'PK kalkyl'!$AE$12)*'PK kalkyl'!$AE$13),1))","v":{"$error":"#VALUE!"}},{"$f":"IF(('PK kalkyl'!$AE$37*I54)+'PK kalkyl'!$AE$38+(('PK kalkyl'!$K$6-'PK kalkyl'!$AE$32)*'PK kalkyl'!$AE$33)<1,0,ROUND(('PK kalkyl'!$AE$37*I54)+'PK kalkyl'!$AE$38+(('PK kalkyl'!$K$6-'PK kalkyl'!$AE$32)*'PK kalkyl'!$AE$33),1))","v":{"$error":"#VALUE!"}},{"$error":"#VALUE!"},{"$error":"#VALUE!"},{"$f":"IF((Y54<W54),Y54-W54,0)*-'PK kalkyl'!$AE$15","v":{"$error":"#VALUE!"}},{"$f":"IF((Z54<X54),Z54-X54,0)*-'PK kalkyl'!$AE$35","v":{"$error":"#VALUE!"}},{"$f":"+AA54*Växtföljd!$G$18+AB54*Växtföljd!$G$18","v":{"$error":"#VALUE!"}}]
[{"$f":"IF(Import!A55=\"\",\"\",Import!A55)","v":""},{"$f":"IF(Import!B55=\"\",\"\",Import!B55)","v":""},{"$f":"IF(Import!C55=\"\",\"\",Import!C55)","v":""},{"$f":"IF(Import!D55=\"\",\"\",Import!D55)","v":""},{"$f":"IF(Import!E55=\"\",\"\",Import!E55)","v":""},{"$f":"IF(Import!F55=\"\",\"\",Import!F55)","v":""},{"$f":"IF(Import!G55=\"\",\"\",Import!G55)","v":""},{"$f":"IF(Import!H55=\"\",\"\",Import!H55)","v":""},{"$f":"IF(Import!J55=\"\",\"\",Import!J55)","v":""},{"$f":"IF(Import!K55=\"\",\"\",Import!K55)","v":""},{"$f":"IF(Import!L55=\"\",\"\",Import!L55)","v":""},{"$f":"IF(Import!M55=\"\",\"\",Import!M55)","v":""},{"$f":"IF(Import!P55=\"\",\"\",Import!P55)","v":""},{"$f":"IF(Import!Q55=\"\",\"\",Import!Q55)","v":""},{"$f":"IF(Import!R55=\"\",\"\",Import!R55)","v":""},278.64466222176446,4.172444287347683,28.602923019320563,28.602923019320563,{"$f":"IF(Q55=\"\",\"\",(-0.00011*POWER(S55,2))+(0.01417*S55)+((0.00057*POWER(Q55,2))-(0.0529*Q55)+6.2018)+Kalkkalkyl!$AJ$2)","v":6.806310419864352},{"$error":"#VALUE!"},null,{"$f":"IF(('PK kalkyl'!$AE$17*H55)+'PK kalkyl'!$AE$18+(('PK kalkyl'!$K$6-'PK kalkyl'!$AE$12)*'PK kalkyl'!$AE$13)<1,0,ROUND(('PK kalkyl'!$AE$17*H55)+'PK kalkyl'!$AE$18+(('PK kalkyl'!$K$6-'PK kalkyl'!$AE$12)*'PK kalkyl'!$AE$13),1))","v":{"$error":"#VALUE!"}},{"$f":"IF(('PK kalkyl'!$AE$37*I55)+'PK kalkyl'!$AE$38+(('PK kalkyl'!$K$6-'PK kalkyl'!$AE$32)*'PK kalkyl'!$AE$33)<1,0,ROUND(('PK kalkyl'!$AE$37*I55)+'PK kalkyl'!$AE$38+(('PK kalkyl'!$K$6-'PK kalkyl'!$AE$32)*'PK kalkyl'!$AE$33),1))","v":{"$error":"#VALUE!"}},{"$error":"#VALUE!"},{"$error":"#VALUE!"},{"$f":"IF((Y55<W55),Y55-W55,0)*-'PK kalkyl'!$AE$15","v":{"$error":"#VALUE!"}},{"$f":"IF((Z55<X55),Z55-X55,0)*-'PK kalkyl'!$AE$35","v":{"$error":"#VALUE!"}},{"$f":"+AA55*Växtföljd!$G$18+AB55*Växtföljd!$G$18","v":{"$error":"#VALUE!"}}]
[{"$f":"IF(Import!A56=\"\",\"\",Import!A56)","v":""},{"$f":"IF(Import!B56=\"\",\"\",Import!B56)","v":""},{"$f":"IF(Import!C56=\"\",\"\",Import!C56)","v":""},{"$f":"IF(Import!D56=\"\",\"\",Import!D56)","v":""},{"$f":"IF(Import!E56=\"\",\"\",Import!E56)","v":""},{"$f":"IF(Import!F56=\"\",\"\",Import!F56)","v":""},{"$f":"IF(Import!G56=\"\",\"\",Import!G56)","v":""},{"$f":"IF(Import!H56=\"\",\"\",Import!H56)","v":""},{"$f":"IF(Import!J56=\"\",\"\",Import!J56)","v":""},{"$f":"IF(Import!K56=\"\",\"\",Import!K56)","v":""},{"$f":"IF(Import!L56=\"\",\"\",Import!L56)","v":""},{"$f":"IF(Import!M56=\"\",\"\",Import!M56)","v":""},{"$f":"IF(Import!P56=\"\",\"\",Import!P56)","v":""},{"$f":"IF(Import!Q56=\"\",\"\",Import!Q56)","v":""},{"$f":"IF(Import!R56=\"\",\"\",Import!R56)","v":""},310,4.3,33,33,{"$f":"IF(Q56=\"\",\"\",(-0.00011*POWER(S56,2))+(0.01417*S56)+((0.00057*POWER(Q56,2))-(0.0529*Q56)+6.2018)+Kalkkalkyl!$AJ$2)","v":6.8326893000000002},{"$error":"#VALUE!"},null,{"$f":"IF(('PK kalkyl'!$AE$17*H56)+'PK kalkyl'!$AE$18+(('PK kalkyl'!$K$6-'PK kalkyl'!$AE$12)*'PK kalkyl'!$AE$13)<1,0,ROUND(('PK kalkyl'!$AE$17*H56)+'PK kalkyl'!$AE$18+(('PK kalkyl'!$K$6-'PK kalkyl'!$AE$12)*'PK kalkyl'!$AE$13),1))","v":{"$error":"#VALUE!"}},{"$f":"IF(('PK kalkyl'!$AE$37*I56)+'PK kalkyl'!$AE$38+(('PK kalkyl'!$K$6-'PK kalkyl'!$AE$32)*'PK kalkyl'!$AE$33)<1,0,ROUND(('PK kalkyl'!$AE$37*I56)+'PK kalkyl'!$AE$38+(('PK kalkyl'!$K$6-'PK kalkyl'!$AE$32)*'PK kalkyl'!$AE$33),1))","v":{"$error":"#VALUE!"}},{"$error":"#VALUE!"},{"$error":"#VALUE!"},{"$f":"IF((Y56<W56),Y56-W56,0)*-'PK kalkyl'!$AE$15","v":{"$error":"#VALUE!"}},{"$f":"IF((Z56<X56),Z56-X56,0)*-'PK kalkyl'!$AE$35","v":{"$error":"#VALUE!"}},{"$f":"+AA56*Växtföljd!$G$18+AB56*Växtföljd!$G$18","v":{"$error":"#VALUE!"}}]
[{"$f":"IF(Import!A57=\"\",\"\",Import!A57)","v":""},{"$f":"IF(Import!B57=\"\",\"\",Import!B57)","v":""},{"$f":"IF(Import!C57=\"\",\"\",Import!C57)","v":""},{"$f":"IF(Import!D57=\"\",\"\",Import!D57)","v":""},{"$f":"IF(Import!E57=\"\",\"\",Import!E57)","v":""},{"$f":"IF(Import!F57=\"\",\"\",Import!F57)","v":""},{"$f":"IF(Import!G57=\"\",\"\",Import!G57)","v":""},{"$f":"IF(Import!H57=\"\",\"\",Import!H57)","v":""},{"$f":"IF(Import!J57=\"\",\"\",Import!J57)","v":""},{"$f":"IF(Import!K57=\"\",\"\",Import!K57)","v":""},{"$f":"IF(Import!L57=\"\",\"\",Import!L57)","v":""},{"$f":"IF(Import!M57=\"\",\"\",Import!M57)","v":""},{"$f":"IF(Import!P57=\"\",\"\",Import!P57)","v":""},{"$f":"IF(Import!Q57=\"\",\"\",Import!Q57)","v":""},{"$f":"IF(Import!R57=\"\",\"\",Import!R57)","v":""},286.55071387817651,3.9878028720266396,27.688433503176068,27.688433503176068,{"$f":"IF(Q57=\"\",\"\",(-0.00011*POWER(S57,2))+(0.01417*S57)+((0.00057*POWER(Q57,2))-(0.0529*Q57)+6.2018)+Kalkkalkyl!$AJ$2)","v":6.8079233682205196},{"$error":"#VALUE!"},null,{"$f":"IF(('PK kalkyl'!$AE$17*H57)+'PK kalkyl'!$AE$18+(('PK kalkyl'!$K$6-'PK kalkyl'!$AE$12)*'PK kalkyl'!$AE$13)<1,0,ROUND(('PK kalkyl'!$AE$17*H57)+'PK kalkyl'!$AE$18+(('PK kalkyl'!$K$6-'PK kalkyl'!$AE$12)*'PK kalkyl'!$AE$13),1))","v":{"$error":"#VALUE!"}},{"$f":"IF(('PK kalkyl'!$AE$37*I57)+'PK kalkyl'!$AE$38+(('PK kalkyl'!$K$6-'PK kalkyl'!$AE$32)*'PK kalkyl'!$AE$33)<1,0,ROUND(('PK kalkyl'!$AE$37*I57)+'PK kalkyl'!$AE$38+(('PK kalkyl'!$K$6-'PK kalkyl'!$AE$32)*'PK kalkyl'!$AE$33),1))","v":{"$error":"#VALUE!"}},{"$error":"#VALUE!"},{"$error":"#VALUE!"},{"$f":"IF((Y57<W57),Y57-W57,0)*-'PK kalkyl'!$AE$15","v":{"$error":"#VALUE!"}},{"$f":"IF((Z57<X57),Z57-X57,0)*-'PK kalkyl'!$AE$35","v":{"$error":"#VALUE!"}},{"$f":"+AA57*Växtföljd!$G$18+AB57*Växtföljd!$G$18","v":{"$error":"#VALUE!"}}]
[{"$f":"IF(Import!A58=\"\",\"\",Import!A58)","v":""},{"$f":"IF(Import!B58=\"\",\"\",Import!B58)","v":""},{"$f":"IF(Import!C58=\"\",\"\",Import!C58)","v":""},{"$f":"IF(Import!D58=\"\",\"\",Import!D58)","v":""},{"$f":"IF(Import!E58=\"\",\"\",Import!E58)","v":""},{"$f":"IF(Import!F58=\"\",\"\",Import!F58)","v":""},{"$f":"IF(Import!G58=\"\",\"\",Import!G58)","v":""},{"$f":"IF(Import!H58=\"\",\"\",Import!H58)","v":""},{"$f":"IF(Import!J58=\"\",\"\",Import!J58)","v":""},{"$f":"IF(Import!K58=\"\",\"\",Import!K58)","v":""},{"$f":"IF(Import!L58=\"\",\"\",Import!L58)","v":""},{"$f":"IF(Import!M58=\"\",\"\",Import!M58)","v":""},{"$f":"IF(Import!P58=\"\",\"\",Import!P58)","v":""},{"$f":"IF(Import!Q58=\"\",\"\",Import!Q58)","v":""},{"$f":"IF(Import!R58=\"\",\"\",Import!R58)","v":""},210,3.7,23,23,{"$f":"IF(Q58=\"\",\"\",(-0.00011*POWER(S58,2))+(0.01417*S58)+((0.00057*POWER(Q58,2))-(0.0529*Q58)+6.2018)+Kalkkalkyl!$AJ$2)","v":6.7815932999999999},{"$error":"#VALUE!"},null,{"$f":"IF(('PK kalkyl'!$AE$17*H58)+'PK kalkyl'!$AE$18+(('PK kalkyl'!$K$6-'PK kalkyl'!$AE$12)*'PK kalkyl'!$AE$13)<1,0,ROUND(('PK kalkyl'!$AE$17*H58)+'PK kalkyl'!$AE$18+(('PK kalkyl'!$K$6-'PK kalkyl'!$AE$12)*'PK kalkyl'!$AE$13),1))","v":{"$error":"#VALUE!"}},{"$f":"IF(('PK kalkyl'!$AE$37*I58)+'PK kalkyl'!$AE$38+(('PK kalkyl'!$K$6-'PK kalkyl'!$AE$32)*'PK kalkyl'!$AE$33)<1,0,ROUND(('PK kalkyl'!$AE$37*I58)+'PK kalkyl'!$AE$38+(('PK kalkyl'!$K$6-'PK kalkyl'!$AE$32)*'PK kalkyl'!$AE$33),1))","v":{"$error":"#VALUE!"}},{"$error":"#VALUE!"},{"$error":"#VALUE!"},{"$f":"IF((Y58<W58),Y58-W58,0)*-'PK kalkyl'!$AE$15","v":{"$error":"#VALUE!"}},{"$f":"IF((Z58<X58),Z58-X58,0)*-'PK kalkyl'!$AE$35","v":{"$error":"#VALUE!"}},{"$f":"+AA58*Växtföljd!$G$18+AB58*Växtföljd!$G$18","v":{"$error":"#VALUE!"}}]
[{"$f":"IF(Import!A59=\"\",\"\",Import!A59)","v":""},{"$f":"IF(Import!B59=\"\",\"\",Import!B59)","v":""},{"$f":"IF(Import!C59=\"\",\"\",Import!C59)","v":""},{"$f":"IF(Import!D59=\"\",\"\",Import!D59)","v":""},{"$f":"IF(Import!E59=\"\",\"\",Import!E59)","v":""},{"$f":"IF(Import!F59=\"\",\"\",Import!F59)","v":""},{"$f":"IF(Import!G59=\"\",\"\",Import!G59)","v":""},{"$f":"IF(Import!H59=\"\",\"\",Import!H59)","v":""},{"$f":"IF(Import!J59=\"\",\"\",Import!J59)","v":""},{"$f":"IF(Import!K59=\"\",\"\",Import!K59)","v":""},{"$f":"IF(Import!L59=\"\",\"\",Import!L59)","v":""},{"$f":"IF(Import!M59=\"\",\"\",Import!M59)","v":""},{"$f":"IF(Import!P59=\"\",\"\",Import!P59)","v":""},{"$f":"IF(Import!Q59=\"\",\"\",Import!Q59)","v":""},{"$f":"IF(Import!R59=\"\",\"\",Import!R59)","v":""},317.65553546011773,4.2277591731626547,32.583813150031254,32.583813150031254,{"$f":"IF(Q59=\"\",\"\",(-0.00011*POWER(S59,2))+(0.01417*S59)+((0.00057*POWER(Q59,2))-(0.0529*Q59)+6.2018)+Kalkkalkyl!$AJ$2)","v":6.8332647854890318},{"$error":"#VALUE!"},null,{"$f":"IF(('PK kalkyl'!$AE$17*H59)+'PK kalkyl'!$AE$18+(('PK kalkyl'!$K$6-'PK kalkyl'!$AE$12)*'PK kalkyl'!$AE$13)<1,0,ROUND(('PK kalkyl'!$AE$17*H59)+'PK kalkyl'!$AE$18+(('PK kalkyl'!$K$6-'PK kalkyl'!$AE$12)*'PK kalkyl'!$AE$13),1))","v":{"$error":"#VALUE!"}},{"$f":"IF(('PK kalkyl'!$AE$37*I59)+'PK kalkyl'!$AE$38+(('PK kalkyl'!$K$6-'PK kalkyl'!$AE$32)*'PK kalkyl'!$AE$33)<1,0,ROUND(('PK kalkyl'!$AE$37*I59)+'PK kalkyl'!$AE$38+(('PK kalkyl'!$K$6-'PK kalkyl'!$AE$32)*'PK kalkyl'!$AE$33),1))","v":{"$error":"#VALUE!"}},{"$error":"#VALUE!"},{"$error":"#VALUE!"},{"$f":"IF((Y59<W59),Y59-W59,0)*-'PK kalkyl'!$AE$15","v":{"$error":"#VALUE!"}},{"$f":"IF((Z59<X59),Z59-X59,0)*-'PK kalkyl'!$AE$35","v":{"$error":"#VALUE!"}},{"$f":"+AA59*Växtföljd!$G$18+AB59*Växtföljd!$G$18","v":{"$error":"#VALUE!"}}]
[{"$f":"IF(Import!A60=\"\",\"\",Import!A60)","v":""},{"$f":"IF(Import!B60=\"\",\"\",Import!B60)","v":""},{"$f":"IF(Import!C60=\"\",\"\",Import!C60)","v":""},{"$f":"IF(Import!D60=\"\",\"\",Import!D60)","v":""},{"$f":"IF(Import!E60=\"\",\"\",Import!E60)","v":""},{"$f":"IF(Import!F60=\"\",\"\",Import!F60)","v":""},{"$f":"IF(Import!G60=\"\",\"\",Import!G60)","v":""},{"$f":"IF(Import!H60=\"\",\"\",Import!H60)","v":""},{"$f":"IF(Import!J60=\"\",\"\",Import!J60)","v":""},{"$f":"IF(Import!K60=\"\",\"\",Import!K60)","v":""},{"$f":"IF(Import!L60=\"\",\"\",Import!L60)","v":""},{"$f":"IF(Import!M60=\"\",\"\",Import!M60)","v":""},{"$f":"IF(Import!P60=\"\",\"\",Import!P60)","v":""},{"$f":"IF(Import!Q60=\"\",\"\",Import!Q60)","v":""},{"$f":"IF(Import!R60=\"\",\"\",Import!R60)","v":""},360,3.9,31,31,{"$f":"IF(Q60=\"\",\"\",(-0.00011*POWER(S60,2))+(0.01417*S60)+((0.00057*POWER(Q60,2))-(0.0529*Q60)+6.2018)+Kalkkalkyl!$AJ$2)","v":6.837719700000001},{"$error":"#VALUE!"},null,{"$f":"IF(('PK kalkyl'!$AE$17*H60)+'PK kalkyl'!$AE$18+(('PK kalkyl'!$K$6-'PK kalkyl'!$AE$12)*'PK kalkyl'!$AE$13)<1,0,ROUND(('PK kalkyl'!$AE$17*H60)+'PK kalkyl'!$AE$18+(('PK kalkyl'!$K$6-'PK kalkyl'!$AE$12)*'PK kalkyl'!$AE$13),1))","v":{"$error":"#VALUE!"}},{"$f":"IF(('PK kalkyl'!$AE$37*I60)+'PK kalkyl'!$AE$38+(('PK kalkyl'!$K$6-'PK kalkyl'!$AE$32)*'PK kalkyl'!$AE$33)<1,0,ROUND(('PK kalkyl'!$AE$37*I60)+'PK kalkyl'!$AE$38+(('PK kalkyl'!$K$6-'PK kalkyl'!$AE$32)*'PK kalkyl'!$AE$33),1))","v":{"$error":"#VALUE!"}},{"$error":"#VALUE!"},{"$error":"#VALUE!"},{"$f":"IF((Y60<W60),Y60-W60,0)*-'PK kalkyl'!$AE$15","v":{"$error":"#VALUE!"}},{"$f":"IF((Z60<X60),Z60-X60,0)*-'PK kalkyl'!$AE$35","v":{"$error":"#VALUE!"}},{"$f":"+AA60*Växtföljd!$G$18+AB60*Växtföljd!$G$18","v":{"$error":"#VALUE!"}}]
[{"$f":"IF(Import!A61=\"\",\"\",Import!A61)","v":""},{"$f":"IF(Import!B61=\"\",\"\",Import!B61)","v":""},{"$f":"IF(Import!C61=\"\",\"\",Import!C61)","v":""},{"$f":"IF(Import!D61=\"\",\"\",Import!D61)","v":""},{"$f":"IF(Import!E61=\"\",\"\",Import!E61)","v":""},{"$f":"IF(Import!F61=\"\",\"\",Import!F61)","v":""},{"$f":"IF(Import!G61=\"\",\"\",Import!G61)","v":""},{"$f":"IF(Import!H61=\"\",\"\",Import!H61)","v":""},{"$f":"IF(Import!J61=\"\",\"\",Import!J61)","v":""},{"$f":"IF(Import!K61=\"\",\"\",Import!K61)","v":""},{"$f":"IF(Import!L61=\"\",\"\",Import!L61)","v":""},{"$f":"IF(Import!M61=\"\",\"\",Import!M61)","v":""},{"$f":"IF(Import!P61=\"\",\"\",Import!P61)","v":""},{"$f":"IF(Import!Q61=\"\",\"\",Import!Q61)","v":""},{"$f":"IF(Import!R61=\"\",\"\",Import!R61)","v":""},296.49177849406783,4.1367240545173729,28.40775327927161,28.40775327927161,{"$f":"IF(Q61=\"\",\"\",(-0.00011*POWER(S61,2))+(0.01417*S61)+((0.00057*POWER(Q61,2))-(0.0529*Q61)+6.2018)+Kalkkalkyl!$AJ$2)","v":6.8064892293467913},{"$error":"#VALUE!"},null,{"$f":"IF(('PK kalkyl'!$AE$17*H61)+'PK kalkyl'!$AE$18+(('PK kalkyl'!$K$6-'PK kalkyl'!$AE$12)*'PK kalkyl'!$AE$13)<1,0,ROUND(('PK kalkyl'!$AE$17*H61)+'PK kalkyl'!$AE$18+(('PK kalkyl'!$K$6-'PK kalkyl'!$AE$12)*'PK kalkyl'!$AE$13),1))","v":{"$error":"#VALUE!"}},{"$f":"IF(('PK kalkyl'!$AE$37*I61)+'PK kalkyl'!$AE$38+(('PK kalkyl'!$K$6-'PK kalkyl'!$AE$32)*'PK kalkyl'!$AE$33)<1,0,ROUND(('PK kalkyl'!$AE$37*I61)+'PK kalkyl'!$AE$38+(('PK kalkyl'!$K$6-'PK kalkyl'!$AE$32)*'PK kalkyl'!$AE$33),1))","v":{"$error":"#VALUE!"}},{"$error":"#VALUE!"},{"$error":"#VALUE!"},{"$f":"IF((Y61<W61),Y61-W61,0)*-'PK kalkyl'!$AE$15","v":{"$error":"#VALUE!"}},{"$f":"IF((Z61<X61),Z61-X61,0)*-'PK kalkyl'!$AE$35","v":{"$error":"#VALUE!"}},{"$f":"+AA61*Växtföljd!$G$18+AB61*Växtföljd!$G$18","v":{"$error":"#VALUE!"}}]
[{"$f":"IF(Import!A62=\"\",\"\",Import!A62)","v":""},{"$f":"IF(Import!B62=\"\",\"\",Import!B62)","v":""},{"$f":"IF(Import!C62=\"\",\"\",Import!C62)","v":""},{"$f":"IF(Import!D62=\"\",\"\",Import!D62)","v":""},{"$f":"IF(Import!E62=\"\",\"\",Import!E62)","v":""},{"$f":"IF(Import!F62=\"\",\"\",Import!F62)","v":""},{"$f":"IF(Import!G62=\"\",\"\",Import!G62)","v":""},{"$f":"IF(Import!H62=\"\",\"\",Import!H62)","v":""},{"$f":"IF(Import!J62=\"\",\"\",Import!J62)","v":""},{"$f":"IF(Import!K62=\"\",\"\",Import!K62)","v":""},{"$f":"IF(Import!L62=\"\",\"\",Import!L62)","v":""},{"$f":"IF(Import!M62=\"\",\"\",Import!M62)","v":""},{"$f":"IF(Import!P62=\"\",\"\",Import!P62)","v":""},{"$f":"IF(Import!Q62=\"\",\"\",Import!Q62)","v":""},{"$f":"IF(Import!R62=\"\",\"\",Import!R62)","v":""},310,4.9000000000000004,31,31,{"$f":"IF(Q62=\"\",\"\",(-0.00011*POWER(S62,2))+(0.01417*S62)+((0.00057*POWER(Q62,2))-(0.0529*Q62)+6.2018)+Kalkkalkyl!$AJ$2)","v":6.7898357000000003},{"$error":"#VALUE!"},null,{"$f":"IF(('PK kalkyl'!$AE$17*H62)+'PK kalkyl'!$AE$18+(('PK kalkyl'!$K$6-'PK kalkyl'!$AE$12)*'PK kalkyl'!$AE$13)<1,0,ROUND(('PK kalkyl'!$AE$17*H62)+'PK kalkyl'!$AE$18+(('PK kalkyl'!$K$6-'PK kalkyl'!$AE$12)*'PK kalkyl'!$AE$13),1))","v":{"$error":"#VALUE!"}},{"$f":"IF(('PK kalkyl'!$AE$37*I62)+'PK kalkyl'!$AE$38+(('PK kalkyl'!$K$6-'PK kalkyl'!$AE$32)*'PK kalkyl'!$AE$33)<1,0,ROUND(('PK kalkyl'!$AE$37*I62)+'PK kalkyl'!$AE$38+(('PK kalkyl'!$K$6-'PK kalkyl'!$AE$32)*'PK kalkyl'!$AE$33),1))","v":{"$error":"#VALUE!"}},{"$error":"#VALUE!"},{"$error":"#VALUE!"},{"$f":"IF((Y62<W62),Y62-W62,0)*-'PK kalkyl'!$AE$15","v":{"$error":"#VALUE!"}},{"$f":"IF((Z62<X62),Z62-X62,0)*-'PK kalkyl'!$AE$35","v":{"$error":"#VALUE!"}},{"$f":"+AA62*Växtföljd!$G$18+AB62*Växtföljd!$G$18","v":{"$error":"#VALUE!"}}]
[{"$f":"IF(Import!A63=\"\",\"\",Import!A63)","v":""},{"$f":"IF(Import!B63=\"\",\"\",Import!B63)","v":""},{"$f":"IF(Import!C63=\"\",\"\",Import!C63)","v":""},{"$f":"IF(Import!D63=\"\",\"\",Import!D63)","v":""},{"$f":"IF(Import!E63=\"\",\"\",Import!E63)","v":""},{"$f":"IF(Import!F63=\"\",\"\",Import!F63)","v":""},{"$f":"IF(Import!G63=\"\",\"\",Import!G63)","v":""},{"$f":"IF(Import!H63=\"\",\"\",Import!H63)","v":""},{"$f":"IF(Import!J63=\"\",\"\",Import!J63)","v":""},{"$f":"IF(Import!K63=\"\",\"\",Import!K63)","v":""},{"$f":"IF(Import!L63=\"\",\"\",Import!L63)","v":""},{"$f":"IF(Import!M63=\"\",\"\",Import!M63)","v":""},{"$f":"IF(Import!P63=\"\",\"\",Import!P63)","v":""},{"$f":"IF(Import!Q63=\"\",\"\",Import!Q63)","v":""},{"$f":"IF(Import!R63=\"\",\"\",Import!R63)","v":""},260.89428407314415,4.6286725686303107,28.17213165544473,28.17213165544473,{"$f":"IF(Q63=\"\",\"\",(-0.00011*POWER(S63,2))+(0.01417*S63)+((0.00057*POWER(Q63,2))-(0.0529*Q63)+6.2018)+Kalkkalkyl!$AJ$2)","v":6.7810507640119475},{"$error":"#VALUE!"},null,{"$f":"IF(('PK kalkyl'!$AE$17*H63)+'PK kalkyl'!$AE$18+(('PK kalkyl'!$K$6-'PK kalkyl'!$AE$12)*'PK kalkyl'!$AE$13)<1,0,ROUND(('PK kalkyl'!$AE$17*H63)+'PK kalkyl'!$AE$18+(('PK kalkyl'!$K$6-'PK kalkyl'!$AE$12)*'PK kalkyl'!$AE$13),1))","v":{"$error":"#VALUE!"}},{"$f":"IF(('PK kalkyl'!$AE$37*I63)+'PK kalkyl'!$AE$38+(('PK kalkyl'!$K$6-'PK kalkyl'!$AE$32)*'PK kalkyl'!$AE$33)<1,0,ROUND(('PK kalkyl'!$AE$37*I63)+'PK kalkyl'!$AE$38+(('PK kalkyl'!$K$6-'PK kalkyl'!$AE$32)*'PK kalkyl'!$AE$33),1))","v":{"$error":"#VALUE!"}},{"$error":"#VALUE!"},{"$error":"#VALUE!"},{"$f":"IF((Y63<W63),Y63-W63,0)*-'PK kalkyl'!$AE$15","v":{"$error":"#VALUE!"}},{"$f":"IF((Z63<X63),Z63-X63,0)*-'PK kalkyl'!$AE$35","v":{"$error":"#VALUE!"}},{"$f":"+AA63*Växtföljd!$G$18+AB63*Växtföljd!$G$18","v":{"$error":"#VALUE!"}}]
[{"$f":"IF(Import!A64=\"\",\"\",Import!A64)","v":""},{"$f":"IF(Import!B64=\"\",\"\",Import!B64)","v":""},{"$f":"IF(Import!C64=\"\",\"\",Import!C64)","v":""},{"$f":"IF(Import!D64=\"\",\"\",Import!D64)","v":""},{"$f":"IF(Import!E64=\"\",\"\",Import!E64)","v":""},{"$f":"IF(Import!F64=\"\",\"\",Import!F64)","v":""},{"$f":"IF(Import!G64=\"\",\"\",Import!G64)","v":""},{"$f":"IF(Import!H64=\"\",\"\",Import!H64)","v":""},{"$f":"IF(Import!J64=\"\",\"\",Import!J64)","v":""},{"$f":"IF(Import!K64=\"\",\"\",Import!K64)","v":""},{"$f":"IF(Import!L64=\"\",\"\",Import!L64)","v":""},{"$f":"IF(Import!M64=\"\",\"\",Import!M64)","v":""},{"$f":"IF(Import!P64=\"\",\"\",Import!P64)","v":""},{"$f":"IF(Import!Q64=\"\",\"\",Import!Q64)","v":""},{"$f":"IF(Import!R64=\"\",\"\",Import!R64)","v":""},230,4.2,27,27,{"$f":"IF(Q64=\"\",\"\",(-0.00011*POWER(S64,2))+(0.01417*S64)+((0.00057*POWER(Q64,2))-(0.0529*Q64)+6.2018)+Kalkkalkyl!$AJ$2)","v":6.7920748},{"$error":"#VALUE!"},null,{"$f":"IF(('PK kalkyl'!$AE$17*H64)+'PK kalkyl'!$AE$18+(('PK kalkyl'!$K$6-'PK kalkyl'!$AE$12)*'PK kalkyl'!$AE$13)<1,0,ROUND(('PK kalkyl'!$AE$17*H64)+'PK kalkyl'!$AE$18+(('PK kalkyl'!$K$6-'PK kalkyl'!$AE$12)*'PK kalkyl'!$AE$13),1))","v":{"$error":"#VALUE!"}},{"$f":"IF(('PK kalkyl'!$AE$37*I64)+'PK kalkyl'!$AE$38+(('PK kalkyl'!$K$6-'PK kalkyl'!$AE$32)*'PK kalkyl'!$AE$33)<1,0,ROUND(('PK kalkyl'!$AE$37*I64)+'PK kalkyl'!$AE$38+(('PK kalkyl'!$K$6-'PK kalkyl'!$AE$32)*'PK kalkyl'!$AE$33),1))","v":{"$error":"#VALUE!"}},{"$error":"#VALUE!"},{"$error":"#VALUE!"},{"$f":"IF((Y64<W64),Y64-W64,0)*-'PK kalkyl'!$AE$15","v":{"$error":"#VALUE!"}},{"$f":"IF((Z64<X64),Z64-X64,0)*-'PK kalkyl'!$AE$35","v":{"$error":"#VALUE!"}},{"$f":"+AA64*Växtföljd!$G$18+AB64*Växtföljd!$G$18","v":{"$error":"#VALUE!"}}]
[{"$f":"IF(Import!A65=\"\",\"\",Import!A65)","v":""},{"$f":"IF(Import!B65=\"\",\"\",Import!B65)","v":""},{"$f":"IF(Import!C65=\"\",\"\",Import!C65)","v":""},{"$f":"IF(Import!D65=\"\",\"\",Import!D65)","v":""},{"$f":"IF(Import!E65=\"\",\"\",Import!E65)","v":""},{"$f":"IF(Import!F65=\"\",\"\",Import!F65)","v":""},{"$f":"IF(Import!G65=\"\",\"\",Import!G65)","v":""},{"$f":"IF(Import!H65=\"\",\"\",Import!H65)","v":""},{"$f":"IF(Import!J65=\"\",\"\",Import!J65)","v":""},{"$f":"IF(Import!K65=\"\",\"\",Import!K65)","v":""},{"$f":"IF(Import!L65=\"\",\"\",Import!L65)","v":""},{"$f":"IF(Import!M65=\"\",\"\",Import!M65)","v":""},{"$f":"IF(Import!P65=\"\",\"\",Import!P65)","v":""},{"$f":"IF(Import!Q65=\"\",\"\",Import!Q65)","v":""},{"$f":"IF(Import!R65=\"\",\"\",Import!R65)","v":""},160.26072593930013,4.0935278258615275,21.676391293076346,21.676391293076346,{"$f":"IF(Q65=\"\",\"\",(-0.00011*POWER(S65,2))+(0.01417*S65)+((0.00057*POWER(Q65,2))-(0.0529*Q65)+6.2018)+Kalkkalkyl!$AJ$2)","v":6.750273062225685},{"$error":"#VALUE!"},null,{"$f":"IF(('PK kalkyl'!$AE$17*H65)+'PK kalkyl'!$AE$18+(('PK kalkyl'!$K$6-'PK kalkyl'!$AE$12)*'PK kalkyl'!$AE$13)<1,0,ROUND(('PK kalkyl'!$AE$17*H65)+'PK kalkyl'!$AE$18+(('PK kalkyl'!$K$6-'PK kalkyl'!$AE$12)*'PK kalkyl'!$AE$13),1))","v":{"$error":"#VALUE!"}},{"$f":"IF(('PK kalkyl'!$AE$37*I65)+'PK kalkyl'!$AE$38+(('PK kalkyl'!$K$6-'PK kalkyl'!$AE$32)*'PK kalkyl'!$AE$33)<1,0,ROUND(('PK kalkyl'!$AE$37*I65)+'PK kalkyl'!$AE$38+(('PK kalkyl'!$K$6-'PK kalkyl'!$AE$32)*'PK kalkyl'!$AE$33),1))","v":{"$error":"#VALUE!"}},{"$error":"#VALUE!"},{"$error":"#VALUE!"},{"$f":"IF((Y65<W65),Y65-W65,0)*-'PK kalkyl'!$AE$15","v":{"$error":"#VALUE!"}},{"$f":"IF((Z65<X65),Z65-X65,0)*-'PK kalkyl'!$AE$35","v":{"$error":"#VALUE!"}},{"$f":"+AA65*Växtföljd!$G$18+AB65*Växtföljd!$G$18","v":{"$error":"#VALUE!"}}]
[{"$f":"IF(Import!A66=\"\",\"\",Import!A66)","v":""},{"$f":"IF(Import!B66=\"\",\"\",Import!B66)","v":""},{"$f":"IF(Import!C66=\"\",\"\",Import!C66)","v":""},{"$f":"IF(Import!D66=\"\",\"\",Import!D66)","v":""},{"$f":"IF(Import!E66=\"\",\"\",Import!E66)","v":""},{"$f":"IF(Import!F66=\"\",\"\",Import!F66)","v":""},{"$f":"IF(Import!G66=\"\",\"\",Import!G66)","v":""},{"$f":"IF(Import!H66=\"\",\"\",Import!H66)","v":""},{"$f":"IF(Import!J66=\"\",\"\",Import!J66)","v":""},{"$f":"IF(Import!K66=\"\",\"\",Import!K66)","v":""},{"$f":"IF(Import!L66=\"\",\"\",Import!L66)","v":""},{"$f":"IF(Import!M66=\"\",\"\",Import!M66)","v":""},{"$f":"IF(Import!P66=\"\",\"\",Import!P66)","v":""},{"$f":"IF(Import!Q66=\"\",\"\",Import!Q66)","v":""},{"$f":"IF(Import!R66=\"\",\"\",Import!R66)","v":""},99,4,17,17,{"$f":"IF(Q66=\"\",\"\",(-0.00011*POWER(S66,2))+(0.01417*S66)+((0.00057*POWER(Q66,2))-(0.0529*Q66)+6.2018)+Kalkkalkyl!$AJ$2)","v":6.7084200000000003},{"$error":"#VALUE!"},null,{"$f":"IF(('PK kalkyl'!$AE$17*H66)+'PK kalkyl'!$AE$18+(('PK kalkyl'!$K$6-'PK kalkyl'!$AE$12)*'PK kalkyl'!$AE$13)<1,0,ROUND(('PK kalkyl'!$AE$17*H66)+'PK kalkyl'!$AE$18+(('PK kalkyl'!$K$6-'PK kalkyl'!$AE$12)*'PK kalkyl'!$AE$13),1))","v":{"$error":"#VALUE!"}},{"$f":"IF(('PK kalkyl'!$AE$37*I66)+'PK kalkyl'!$AE$38+(('PK kalkyl'!$K$6-'PK kalkyl'!$AE$32)*'PK kalkyl'!$AE$33)<1,0,ROUND(('PK kalkyl'!$AE$37*I66)+'PK kalkyl'!$AE$38+(('PK kalkyl'!$K$6-'PK kalkyl'!$AE$32)*'PK kalkyl'!$AE$33),1))","v":{"$error":"#VALUE!"}},{"$error":"#VALUE!"},{"$error":"#VALUE!"},{"$f":"IF((Y66<W66),Y66-W66,0)*-'PK kalkyl'!$AE$15","v":{"$error":"#VALUE!"}},{"$f":"IF((Z66<X66),Z66-X66,0)*-'PK kalkyl'!$AE$35","v":{"$error":"#VALUE!"}},{"$f":"+AA66*Växtföljd!$G$18+AB66*Växtföljd!$G$18","v":{"$error":"#VALUE!"}}]
[{"$f":"IF(Import!A67=\"\",\"\",Import!A67)","v":""},{"$f":"IF(Import!B67=\"\",\"\",Import!B67)","v":""},{"$f":"IF(Import!C67=\"\",\"\",Import!C67)","v":""},{"$f":"IF(Import!D67=\"\",\"\",Import!D67)","v":""},{"$f":"IF(Import!E67=\"\",\"\",Import!E67)","v":""},{"$f":"IF(Import!F67=\"\",\"\",Import!F67)","v":""},{"$f":"IF(Import!G67=\"\",\"\",Import!G67)","v":""},{"$f":"IF(Import!H67=\"\",\"\",Import!H67)","v":""},{"$f":"IF(Import!J67=\"\",\"\",Import!J67)","v":""},{"$f":"IF(Import!K67=\"\",\"\",Import!K67)","v":""},{"$f":"IF(Import!L67=\"\",\"\",Import!L67)","v":""},{"$f":"IF(Import!M67=\"\",\"\",Import!M67)","v":""},{"$f":"IF(Import!P67=\"\",\"\",Import!P67)","v":""},{"$f":"IF(Import!Q67=\"\",\"\",Import!Q67)","v":""},{"$f":"IF(Import!R67=\"\",\"\",Import!R67)","v":""},145.71556871166447,4.5963568666510879,19.574688625044615,{"$f":"IF(R67=\"\",( 0.0977*P67 )+ 4.135,R67)","v":19.574688625044615},{"$f":"IF(Q67=\"\",\"\",(-0.00011*POWER(S67,2))+(0.01417*S67)+((0.00057*POWER(Q67,2))-(0.0529*Q67)+6.2018)+Kalkkalkyl!$AJ$2)","v":6.7059196347206189},{"$f":"IF(Q67=\"\",\"\",IF(T67-G67<0,0,(T67-G67)*(1.9+(3.5*Q67+S67)/3.8)/2))","v":{"$error":"#VALUE!"}},null,{"$f":"IF(('PK kalkyl'!$AE$17*H67)+'PK kalkyl'!$AE$18+(('PK kalkyl'!$K$6-'PK kalkyl'!$AE$12)*'PK kalkyl'!$AE$13)<1,0,ROUND(('PK kalkyl'!$AE$17*H67)+'PK kalkyl'!$AE$18+(('PK kalkyl'!$K$6-'PK kalkyl'!$AE$12)*'PK kalkyl'!$AE$13),1))","v":{"$error":"#VALUE!"}},{"$f":"IF(('PK kalkyl'!$AE$37*I67)+'PK kalkyl'!$AE$38+(('PK kalkyl'!$K$6-'PK kalkyl'!$AE$32)*'PK kalkyl'!$AE$33)<1,0,ROUND(('PK kalkyl'!$AE$37*I67)+'PK kalkyl'!$AE$38+(('PK kalkyl'!$K$6-'PK kalkyl'!$AE$32)*'PK kalkyl'!$AE$33),1))","v":{"$error":"#VALUE!"}},{"$f":"AVERAGEIF(A:A,A67,W:W)","v":{"$error":"#VALUE!"}},{"$f":"AVERAGEIF(A:A,A67,X:X)","v":{"$error":"#VALUE!"}},{"$f":"IF((Y67<W67),Y67-W67,0)*-'PK kalkyl'!$AE$15","v":{"$error":"#VALUE!"}},{"$f":"IF((Z67<X67),Z67-X67,0)*-'PK kalkyl'!$AE$35","v":{"$error":"#VALUE!"}},{"$f":"+AA67*Växtföljd!$G$18+AB67*Växtföljd!$G$18","v":{"$error":"#VALUE!"}}]
[{"$f":"IF(Import!A68=\"\",\"\",Import!A68)","v":""},{"$f":"IF(Import!B68=\"\",\"\",Import!B68)","v":""},{"$f":"IF(Import!C68=\"\",\"\",Import!C68)","v":""},{"$f":"IF(Import!D68=\"\",\"\",Import!D68)","v":""},{"$f":"IF(Import!E68=\"\",\"\",Import!E68)","v":""},{"$f":"IF(Import!F68=\"\",\"\",Import!F68)","v":""},{"$f":"IF(Import!G68=\"\",\"\",Import!G68)","v":""},{"$f":"IF(Import!H68=\"\",\"\",Import!H68)","v":""},{"$f":"IF(Import!J68=\"\",\"\",Import!J68)","v":""},{"$f":"IF(Import!K68=\"\",\"\",Import!K68)","v":""},{"$f":"IF(Import!L68=\"\",\"\",Import!L68)","v":""},{"$f":"IF(Import!M68=\"\",\"\",Import!M68)","v":""},{"$f":"IF(Import!P68=\"\",\"\",Import!P68)","v":""},{"$f":"IF(Import!Q68=\"\",\"\",Import!Q68)","v":""},{"$f":"IF(Import!R68=\"\",\"\",Import!R68)","v":""},160,5.5,19,19,{"$f":"IF(Q68=\"\",\"\",(-0.00011*POWER(S68,2))+(0.01417*S68)+((0.00057*POWER(Q68,2))-(0.0529*Q68)+6.2018)+Kalkkalkyl!$AJ$2)","v":6.6576124999999999},{"$error":"#VALUE!"},null,{"$f":"IF(('PK kalkyl'!$AE$17*H68)+'PK kalkyl'!$AE$18+(('PK kalkyl'!$K$6-'PK kalkyl'!$AE$12)*'PK kalkyl'!$AE$13)<1,0,ROUND(('PK kalkyl'!$AE$17*H68)+'PK kalkyl'!$AE$18+(('PK kalkyl'!$K$6-'PK kalkyl'!$AE$12)*'PK kalkyl'!$AE$13),1))","v":{"$error":"#VALUE!"}},{"$f":"IF(('PK kalkyl'!$AE$37*I68)+'PK kalkyl'!$AE$38+(('PK kalkyl'!$K$6-'PK kalkyl'!$AE$32)*'PK kalkyl'!$AE$33)<1,0,ROUND(('PK kalkyl'!$AE$37*I68)+'PK kalkyl'!$AE$38+(('PK kalkyl'!$K$6-'PK kalkyl'!$AE$32)*'PK kalkyl'!$AE$33),1))","v":{"$error":"#VALUE!"}},{"$error":"#VALUE!"},{"$error":"#VALUE!"},{"$f":"IF((Y68<W68),Y68-W68,0)*-'PK kalkyl'!$AE$15","v":{"$error":"#VALUE!"}},{"$f":"IF((Z68<X68),Z68-X68,0)*-'PK kalkyl'!$AE$35","v":{"$error":"#VALUE!"}},{"$f":"+AA68*Växtföljd!$G$18+AB68*Växtföljd!$G$18","v":{"$error":"#VALUE!"}}]
[{"$f":"IF(Import!A69=\"\",\"\",Import!A69)","v":""},{"$f":"IF(Import!B69=\"\",\"\",Import!B69)","v":""},{"$f":"IF(Import!C69=\"\",\"\",Import!C69)","v":""},{"$f":"IF(Import!D69=\"\",\"\",Import!D69)","v":""},{"$f":"IF(Import!E69=\"\",\"\",Import!E69)","v":""},{"$f":"IF(Import!F69=\"\",\"\",Import!F69)","v":""},{"$f":"IF(Import!G69=\"\",\"\",Import!G69)","v":""},{"$f":"IF(Import!H69=\"\",\"\",Import!H69)","v":""},{"$f":"IF(Import!J69=\"\",\"\",Import!J69)","v":""},{"$f":"IF(Import!K69=\"\",\"\",Import!K69)","v":""},{"$f":"IF(Import!L69=\"\",\"\",Import!L69)","v":""},{"$f":"IF(Import!M69=\"\",\"\",Import!M69)","v":""},{"$f":"IF(Import!P69=\"\",\"\",Import!P69)","v":""},{"$f":"IF(Import!Q69=\"\",\"\",Import!Q69)","v":""},{"$f":"IF(Import!R69=\"\",\"\",Import!R69)","v":""},202.88593384241156,5.1732924257612609,22.498947364469075,22.498947364469075,{"$f":"IF(Q69=\"\",\"\",(-0.00011*POWER(S69,2))+(0.01417*S69)+((0.00057*POWER(Q69,2))-(0.0529*Q69)+6.2018)+Kalkkalkyl!$AJ$2)","v":6.7065155093335402},{"$error":"#VALUE!"},null,{"$f":"IF(('PK kalkyl'!$AE$17*H69)+'PK kalkyl'!$AE$18+(('PK kalkyl'!$K$6-'PK kalkyl'!$AE$12)*'PK kalkyl'!$AE$13)<1,0,ROUND(('PK kalkyl'!$AE$17*H69)+'PK kalkyl'!$AE$18+(('PK kalkyl'!$K$6-'PK kalkyl'!$AE$12)*'PK kalkyl'!$AE$13),1))","v":{"$error":"#VALUE!"}},{"$f":"IF(('PK kalkyl'!$AE$37*I69)+'PK kalkyl'!$AE$38+(('PK kalkyl'!$K$6-'PK kalkyl'!$AE$32)*'PK kalkyl'!$AE$33)<1,0,ROUND(('PK kalkyl'!$AE$37*I69)+'PK kalkyl'!$AE$38+(('PK kalkyl'!$K$6-'PK kalkyl'!$AE$32)*'PK kalkyl'!$AE$33),1))","v":{"$error":"#VALUE!"}},{"$error":"#VALUE!"},{"$error":"#VALUE!"},{"$f":"IF((Y69<W69),Y69-W69,0)*-'PK kalkyl'!$AE$15","v":{"$error":"#VALUE!"}},{"$f":"IF((Z69<X69),Z69-X69,0)*-'PK kalkyl'!$AE$35","v":{"$error":"#VALUE!"}},{"$f":"+AA69*Växtföljd!$G$18+AB69*Växtföljd!$G$18","v":{"$error":"#VALUE!"}}]
[{"$f":"IF(Import!A70=\"\",\"\",Import!A70)","v":""},{"$f":"IF(Import!B70=\"\",\"\",Import!B70)","v":""},{"$f":"IF(Import!C70=\"\",\"\",Import!C70)","v":""},{"$f":"IF(Import!D70=\"\",\"\",Import!D70)","v":""},{"$f":"IF(Import!E70=\"\",\"\",Import!E70)","v":""},{"$f":"IF(Import!F70=\"\",\"\",Import!F70)","v":""},{"$f":"IF(Import!G70=\"\",\"\",Import!G70)","v":""},{"$f":"IF(Import!H70=\"\",\"\",Import!H70)","v":""},{"$f":"IF(Import!J70=\"\",\"\",Import!J70)","v":""},{"$f":"IF(Import!K70=\"\",\"\",Import!K70)","v":""},{"$f":"IF(Import!L70=\"\",\"\",Import!L70)","v":""},{"$f":"IF(Import!M70=\"\",\"\",Import!M70)","v":""},{"$f":"IF(Import!P70=\"\",\"\",Import!P70)","v":""},{"$f":"IF(Import!Q70=\"\",\"\",Import!Q70)","v":""},{"$f":"IF(Import!R70=\"\",\"\",Import!R70)","v":""},310,3.5,29,29,{"$f":"IF(Q70=\"\",\"\",(-0.00011*POWER(S70,2))+(0.01417*S70)+((0.00057*POWER(Q70,2))-(0.0529*Q70)+6.2018)+Kalkkalkyl!$AJ$2)","v":6.8420525000000003},{"$error":"#VALUE!"},null,{"$f":"IF(('PK kalkyl'!$AE$17*H70)+'PK kalkyl'!$AE$18+(('PK kalkyl'!$K$6-'PK kalkyl'!$AE$12)*'PK kalkyl'!$AE$13)<1,0,ROUND(('PK kalkyl'!$AE$17*H70)+'PK kalkyl'!$AE$18+(('PK kalkyl'!$K$6-'PK kalkyl'!$AE$12)*'PK kalkyl'!$AE$13),1))","v":{"$error":"#VALUE!"}},{"$f":"IF(('PK kalkyl'!$AE$37*I70)+'PK kalkyl'!$AE$38+(('PK kalkyl'!$K$6-'PK kalkyl'!$AE$32)*'PK kalkyl'!$AE$33)<1,0,ROUND(('PK kalkyl'!$AE$37*I70)+'PK kalkyl'!$AE$38+(('PK kalkyl'!$K$6-'PK kalkyl'!$AE$32)*'PK kalkyl'!$AE$33),1))","v":{"$error":"#VALUE!"}},{"$error":"#VALUE!"},{"$error":"#VALUE!"},{"$f":"IF((Y70<W70),Y70-W70,0)*-'PK kalkyl'!$AE$15","v":{"$error":"#VALUE!"}},{"$f":"IF((Z70<X70),Z70-X70,0)*-'PK kalkyl'!$AE$35","v":{"$error":"#VALUE!"}},{"$f":"+AA70*Växtföljd!$G$18+AB70*Växtföljd!$G$18","v":{"$error":"#VALUE!"}}]
[{"$f":"IF(Import!A71=\"\",\"\",Import!A71)","v":""},{"$f":"IF(Import!B71=\"\",\"\",Import!B71)","v":""},{"$f":"IF(Import!C71=\"\",\"\",Import!C71)","v":""},{"$f":"IF(Import!D71=\"\",\"\",Import!D71)","v":""},{"$f":"IF(Import!E71=\"\",\"\",Import!E71)","v":""},{"$f":"IF(Import!F71=\"\",\"\",Import!F71)","v":""},{"$f":"IF(Import!G71=\"\",\"\",Import!G71)","v":""},{"$f":"IF(Import!H71=\"\",\"\",Import!H71)","v":""},{"$f":"IF(Import!J71=\"\",\"\",Import!J71)","v":""},{"$f":"IF(Import!K71=\"\",\"\",Import!K71)","v":""},{"$f":"IF(Import!L71=\"\",\"\",Import!L71)","v":""},{"$f":"IF(Import!M71=\"\",\"\",Import!M71)","v":""},{"$f":"IF(Import!P71=\"\",\"\",Import!P71)","v":""},{"$f":"IF(Import!Q71=\"\",\"\",Import!Q71)","v":""},{"$f":"IF(Import!R71=\"\",\"\",Import!R71)","v":""},278.22365998079243,3.7368698246530121,34.851994095189553,34.851994095189553,{"$f":"IF(Q71=\"\",\"\",(-0.00011*POWER(S71,2))+(0.01417*S71)+((0.00057*POWER(Q71,2))-(0.0529*Q71)+6.2018)+Kalkkalkyl!$AJ$2)","v":6.8723191702087174},{"$error":"#VALUE!"},null,{"$f":"IF(('PK kalkyl'!$AE$17*H71)+'PK kalkyl'!$AE$18+(('PK kalkyl'!$K$6-'PK kalkyl'!$AE$12)*'PK kalkyl'!$AE$13)<1,0,ROUND(('PK kalkyl'!$AE$17*H71)+'PK kalkyl'!$AE$18+(('PK kalkyl'!$K$6-'PK kalkyl'!$AE$12)*'PK kalkyl'!$AE$13),1))","v":{"$error":"#VALUE!"}},{"$f":"IF(('PK kalkyl'!$AE$37*I71)+'PK kalkyl'!$AE$38+(('PK kalkyl'!$K$6-'PK kalkyl'!$AE$32)*'PK kalkyl'!$AE$33)<1,0,ROUND(('PK kalkyl'!$AE$37*I71)+'PK kalkyl'!$AE$38+(('PK kalkyl'!$K$6-'PK kalkyl'!$AE$32)*'PK kalkyl'!$AE$33),1))","v":{"$error":"#VALUE!"}},{"$error":"#VALUE!"},{"$error":"#VALUE!"},{"$f":"IF((Y71<W71),Y71-W71,0)*-'PK kalkyl'!$AE$15","v":{"$error":"#VALUE!"}},{"$f":"IF((Z71<X71),Z71-X71,0)*-'PK kalkyl'!$AE$35","v":{"$error":"#VALUE!"}},{"$f":"+AA71*Växtföljd!$G$18+AB71*Växtföljd!$G$18","v":{"$error":"#VALUE!"}}]
[{"$f":"IF(Import!A72=\"\",\"\",Import!A72)","v":""},{"$f":"IF(Import!B72=\"\",\"\",Import!B72)","v":""},{"$f":"IF(Import!C72=\"\",\"\",Import!C72)","v":""},{"$f":"IF(Import!D72=\"\",\"\",Import!D72)","v":""},{"$f":"IF(Import!E72=\"\",\"\",Import!E72)","v":""},{"$f":"IF(Import!F72=\"\",\"\",Import!F72)","v":""},{"$f":"IF(Import!G72=\"\",\"\",Import!G72)","v":""},{"$f":"IF(Import!H72=\"\",\"\",Import!H72)","v":""},{"$f":"IF(Import!J72=\"\",\"\",Import!J72)","v":""},{"$f":"IF(Import!K72=\"\",\"\",Import!K72)","v":""},{"$f":"IF(Import!L72=\"\",\"\",Import!L72)","v":""},{"$f":"IF(Import!M72=\"\",\"\",Import!M72)","v":""},{"$f":"IF(Import!P72=\"\",\"\",Import!P72)","v":""},{"$f":"IF(Import!Q72=\"\",\"\",Import!Q72)","v":""},{"$f":"IF(Import!R72=\"\",\"\",Import!R72)","v":""},310,3.1,34,34,{"$f":"IF(Q72=\"\",\"\",(-0.00011*POWER(S72,2))+(0.01417*S72)+((0.00057*POWER(Q72,2))-(0.0529*Q72)+6.2018)+Kalkkalkyl!$AJ$2)","v":6.8979077000000002},{"$error":"#VALUE!"},null,{"$f":"IF(('PK kalkyl'!$AE$17*H72)+'PK kalkyl'!$AE$18+(('PK kalkyl'!$K$6-'PK kalkyl'!$AE$12)*'PK kalkyl'!$AE$13)<1,0,ROUND(('PK kalkyl'!$AE$17*H72)+'PK kalkyl'!$AE$18+(('PK kalkyl'!$K$6-'PK kalkyl'!$AE$12)*'PK kalkyl'!$AE$13),1))","v":{"$error":"#VALUE!"}},{"$f":"IF(('PK kalkyl'!$AE$37*I72)+'PK kalkyl'!$AE$38+(('PK kalkyl'!$K$6-'PK kalkyl'!$AE$32)*'PK kalkyl'!$AE$33)<1,0,ROUND(('PK kalkyl'!$AE$37*I72)+'PK kalkyl'!$AE$38+(('PK kalkyl'!$K$6-'PK kalkyl'!$AE$32)*'PK kalkyl'!$AE$33),1))","v":{"$error":"#VALUE!"}},{"$error":"#VALUE!"},{"$error":"#VALUE!"},{"$f":"IF((Y72<W72),Y72-W72,0)*-'PK kalkyl'!$AE$15","v":{"$error":"#VALUE!"}},{"$f":"IF((Z72<X72),Z72-X72,0)*-'PK kalkyl'!$AE$35","v":{"$error":"#VALUE!"}},{"$f":"+AA72*Växtföljd!$G$18+AB72*Växtföljd!$G$18","v":{"$error":"#VALUE!"}}]
[{"$f":"IF(Import!A73=\"\",\"\",Import!A73)","v":""},{"$f":"IF(Import!B73=\"\",\"\",Import!B73)","v":""},{"$f":"IF(Import!C73=\"\",\"\",Import!C73)","v":""},{"$f":"IF(Import!D73=\"\",\"\",Import!D73)","v":""},{"$f":"IF(Import!E73=\"\",\"\",Import!E73)","v":""},{"$f":"IF(Import!F73=\"\",\"\",Import!F73)","v":""},{"$f":"IF(Import!G73=\"\",\"\",Import!G73)","v":""},{"$f":"IF(Import!H73=\"\",\"\",Import!H73)","v":""},{"$f":"IF(Import!J73=\"\",\"\",Import!J73)","v":""},{"$f":"IF(Import!K73=\"\",\"\",Import!K73)","v":""},{"$f":"IF(Import!L73=\"\",\"\",Import!L73)","v":""},{"$f":"IF(Import!M73=\"\",\"\",Import!M73)","v":""},{"$f":"IF(Import!P73=\"\",\"\",Import!P73)","v":""},{"$f":"IF(Import!Q73=\"\",\"\",Import!Q73)","v":""},{"$f":"IF(Import!R73=\"\",\"\",Import!R73)","v":""},287.52008417397104,3.2530647800615622,34.017462381646354,34.017462381646354,{"$f":"IF(Q73=\"\",\"\",(-0.00011*POWER(S73,2))+(0.01417*S73)+((0.00057*POWER(Q73,2))-(0.0529*Q73)+6.2018)+Kalkkalkyl!$AJ$2)","v":6.8904816482892013},{"$error":"#VALUE!"},null,{"$f":"IF(('PK kalkyl'!$AE$17*H73)+'PK kalkyl'!$AE$18+(('PK kalkyl'!$K$6-'PK kalkyl'!$AE$12)*'PK kalkyl'!$AE$13)<1,0,ROUND(('PK kalkyl'!$AE$17*H73)+'PK kalkyl'!$AE$18+(('PK kalkyl'!$K$6-'PK kalkyl'!$AE$12)*'PK kalkyl'!$AE$13),1))","v":{"$error":"#VALUE!"}},{"$f":"IF(('PK kalkyl'!$AE$37*I73)+'PK kalkyl'!$AE$38+(('PK kalkyl'!$K$6-'PK kalkyl'!$AE$32)*'PK kalkyl'!$AE$33)<1,0,ROUND(('PK kalkyl'!$AE$37*I73)+'PK kalkyl'!$AE$38+(('PK kalkyl'!$K$6-'PK kalkyl'!$AE$32)*'PK kalkyl'!$AE$33),1))","v":{"$error":"#VALUE!"}},{"$error":"#VALUE!"},{"$error":"#VALUE!"},{"$f":"IF((Y73<W73),Y73-W73,0)*-'PK kalkyl'!$AE$15","v":{"$error":"#VALUE!"}},{"$f":"IF((Z73<X73),Z73-X73,0)*-'PK kalkyl'!$AE$35","v":{"$error":"#VALUE!"}},{"$f":"+AA73*Växtföljd!$G$18+AB73*Växtföljd!$G$18","v":{"$error":"#VALUE!"}}]
[{"$f":"IF(Import!A74=\"\",\"\",Import!A74)","v":""},{"$f":"IF(Import!B74=\"\",\"\",Import!B74)","v":""},{"$f":"IF(Import!C74=\"\",\"\",Import!C74)","v":""},{"$f":"IF(Import!D74=\"\",\"\",Import!D74)","v":""},{"$f":"IF(Import!E74=\"\",\"\",Import!E74)","v":""},{"$f":"IF(Import!F74=\"\",\"\",Import!F74)","v":""},{"$f":"IF(Import!G74=\"\",\"\",Import!G74)","v":""},{"$f":"IF(Import!H74=\"\",\"\",Import!H74)","v":""},{"$f":"IF(Import!J74=\"\",\"\",Import!J74)","v":""},{"$f":"IF(Import!K74=\"\",\"\",Import!K74)","v":""},{"$f":"IF(Import!L74=\"\",\"\",Import!L74)","v":""},{"$f":"IF(Import!M74=\"\",\"\",Import!M74)","v":""},{"$f":"IF(Import!P74=\"\",\"\",Import!P74)","v":""},{"$f":"IF(Import!Q74=\"\",\"\",Import!Q74)","v":""},{"$f":"IF(Import!R74=\"\",\"\",Import!R74)","v":""},270,3.4,34,34,{"$f":"IF(Q74=\"\",\"\",(-0.00011*POWER(S74,2))+(0.01417*S74)+((0.00057*POWER(Q74,2))-(0.0529*Q74)+6.2018)+Kalkkalkyl!$AJ$2)","v":6.8831492000000001},{"$error":"#VALUE!"},null,{"$f":"IF(('PK kalkyl'!$AE$17*H74)+'PK kalkyl'!$AE$18+(('PK kalkyl'!$K$6-'PK kalkyl'!$AE$12)*'PK kalkyl'!$AE$13)<1,0,ROUND(('PK kalkyl'!$AE$17*H74)+'PK kalkyl'!$AE$18+(('PK kalkyl'!$K$6-'PK kalkyl'!$AE$12)*'PK kalkyl'!$AE$13),1))","v":{"$error":"#VALUE!"}},{"$f":"IF(('PK kalkyl'!$AE$37*I74)+'PK kalkyl'!$AE$38+(('PK kalkyl'!$K$6-'PK kalkyl'!$AE$32)*'PK kalkyl'!$AE$33)<1,0,ROUND(('PK kalkyl'!$AE$37*I74)+'PK kalkyl'!$AE$38+(('PK kalkyl'!$K$6-'PK kalkyl'!$AE$32)*'PK kalkyl'!$AE$33),1))","v":{"$error":"#VALUE!"}},{"$error":"#VALUE!"},{"$error":"#VALUE!"},{"$f":"IF((Y74<W74),Y74-W74,0)*-'PK kalkyl'!$AE$15","v":{"$error":"#VALUE!"}},{"$f":"IF((Z74<X74),Z74-X74,0)*-'PK kalkyl'!$AE$35","v":{"$error":"#VALUE!"}},{"$f":"+AA74*Växtföljd!$G$18+AB74*Växtföljd!$G$18","v":{"$error":"#VALUE!"}}]
[{"$f":"IF(Import!A75=\"\",\"\",Import!A75)","v":""},{"$f":"IF(Import!B75=\"\",\"\",Import!B75)","v":""},{"$f":"IF(Import!C75=\"\",\"\",Import!C75)","v":""},{"$f":"IF(Import!D75=\"\",\"\",Import!D75)","v":""},{"$f":"IF(Import!E75=\"\",\"\",Import!E75)","v":""},{"$f":"IF(Import!F75=\"\",\"\",Import!F75)","v":""},{"$f":"IF(Import!G75=\"\",\"\",Import!G75)","v":""},{"$f":"IF(Import!H75=\"\",\"\",Import!H75)","v":""},{"$f":"IF(Import!J75=\"\",\"\",Import!J75)","v":""},{"$f":"IF(Import!K75=\"\",\"\",Import!K75)","v":""},{"$f":"IF(Import!L75=\"\",\"\",Import!L75)","v":""},{"$f":"IF(Import!M75=\"\",\"\",Import!M75)","v":""},{"$f":"IF(Import!P75=\"\",\"\",Import!P75)","v":""},{"$f":"IF(Import!Q75=\"\",\"\",Import!Q75)","v":""},{"$f":"IF(Import!R75=\"\",\"\",Import!R75)","v":""},317.85432989809141,3.2180959716862314,33.124929163671013,33.124929163671013,{"$f":"IF(Q75=\"\",\"\",(-0.00011*POWER(S75,2))+(0.01417*S75)+((0.00057*POWER(Q75,2))-(0.0529*Q75)+6.2018)+Kalkkalkyl!$AJ$2)","v":6.8861472675755122},{"$error":"#VALUE!"},null,{"$f":"IF(('PK kalkyl'!$AE$17*H75)+'PK kalkyl'!$AE$18+(('PK kalkyl'!$K$6-'PK kalkyl'!$AE$12)*'PK kalkyl'!$AE$13)<1,0,ROUND(('PK kalkyl'!$AE$17*H75)+'PK kalkyl'!$AE$18+(('PK kalkyl'!$K$6-'PK kalkyl'!$AE$12)*'PK kalkyl'!$AE$13),1))","v":{"$error":"#VALUE!"}},{"$f":"IF(('PK kalkyl'!$AE$37*I75)+'PK kalkyl'!$AE$38+(('PK kalkyl'!$K$6-'PK kalkyl'!$AE$32)*'PK kalkyl'!$AE$33)<1,0,ROUND(('PK kalkyl'!$AE$37*I75)+'PK kalkyl'!$AE$38+(('PK kalkyl'!$K$6-'PK kalkyl'!$AE$32)*'PK kalkyl'!$AE$33),1))","v":{"$error":"#VALUE!"}},{"$error":"#VALUE!"},{"$error":"#VALUE!"},{"$f":"IF((Y75<W75),Y75-W75,0)*-'PK kalkyl'!$AE$15","v":{"$error":"#VALUE!"}},{"$f":"IF((Z75<X75),Z75-X75,0)*-'PK kalkyl'!$AE$35","v":{"$error":"#VALUE!"}},{"$f":"+AA75*Växtföljd!$G$18+AB75*Växtföljd!$G$18","v":{"$error":"#VALUE!"}}]
[{"$f":"IF(Import!A76=\"\",\"\",Import!A76)","v":""},{"$f":"IF(Import!B76=\"\",\"\",Import!B76)","v":""},{"$f":"IF(Import!C76=\"\",\"\",Import!C76)","v":""},{"$f":"IF(Import!D76=\"\",\"\",Import!D76)","v":""},{"$f":"IF(Import!E76=\"\",\"\",Import!E76)","v":""},{"$f":"IF(Import!F76=\"\",\"\",Import!F76)","v":""},{"$f":"IF(Import!G76=\"\",\"\",Import!G76)","v":""},{"$f":"IF(Import!H76=\"\",\"\",Import!H76)","v":""},{"$f":"IF(Import!J76=\"\",\"\",Import!J76)","v":""},{"$f":"IF(Import!K76=\"\",\"\",Import!K76)","v":""},{"$f":"IF(Import!L76=\"\",\"\",Import!L76)","v":""},{"$f":"IF(Import!M76=\"\",\"\",Import!M76)","v":""},{"$f":"IF(Import!P76=\"\",\"\",Import!P76)","v":""},{"$f":"IF(Import!Q76=\"\",\"\",Import!Q76)","v":""},{"$f":"IF(Import!R76=\"\",\"\",Import!R76)","v":""},380,3.1,34,34,{"$f":"IF(Q76=\"\",\"\",(-0.00011*POWER(S76,2))+(0.01417*S76)+((0.00057*POWER(Q76,2))-(0.0529*Q76)+6.2018)+Kalkkalkyl!$AJ$2)","v":6.8979077000000002},{"$error":"#VALUE!"},null,{"$f":"IF(('PK kalkyl'!$AE$17*H76)+'PK kalkyl'!$AE$18+(('PK kalkyl'!$K$6-'PK kalkyl'!$AE$12)*'PK kalkyl'!$AE$13)<1,0,ROUND(('PK kalkyl'!$AE$17*H76)+'PK kalkyl'!$AE$18+(('PK kalkyl'!$K$6-'PK kalkyl'!$AE$12)*'PK kalkyl'!$AE$13),1))","v":{"$error":"#VALUE!"}},{"$f":"IF(('PK kalkyl'!$AE$37*I76)+'PK kalkyl'!$AE$38+(('PK kalkyl'!$K$6-'PK kalkyl'!$AE$32)*'PK kalkyl'!$AE$33)<1,0,ROUND(('PK kalkyl'!$AE$37*I76)+'PK kalkyl'!$AE$38+(('PK kalkyl'!$K$6-'PK kalkyl'!$AE$32)*'PK kalkyl'!$AE$33),1))","v":{"$error":"#VALUE!"}},{"$error":"#VALUE!"},{"$error":"#VALUE!"},{"$f":"IF((Y76<W76),Y76-W76,0)*-'PK kalkyl'!$AE$15","v":{"$error":"#VALUE!"}},{"$f":"IF((Z76<X76),Z76-X76,0)*-'PK kalkyl'!$AE$35","v":{"$error":"#VALUE!"}},{"$f":"+AA76*Växtföljd!$G$18+AB76*Växtföljd!$G$18","v":{"$error":"#VALUE!"}}]
[{"$f":"IF(Import!A77=\"\",\"\",Import!A77)","v":""},{"$f":"IF(Import!B77=\"\",\"\",Import!B77)","v":""},{"$f":"IF(Import!C77=\"\",\"\",Import!C77)","v":""},{"$f":"IF(Import!D77=\"\",\"\",Import!D77)","v":""},{"$f":"IF(Import!E77=\"\",\"\",Import!E77)","v":""},{"$f":"IF(Import!F77=\"\",\"\",Import!F77)","v":""},{"$f":"IF(Import!G77=\"\",\"\",Import!G77)","v":""},{"$f":"IF(Import!H77=\"\",\"\",Import!H77)","v":""},{"$f":"IF(Import!J77=\"\",\"\",Import!J77)","v":""},{"$f":"IF(Import!K77=\"\",\"\",Import!K77)","v":""},{"$f":"IF(Import!L77=\"\",\"\",Import!L77)","v":""},{"$f":"IF(Import!M77=\"\",\"\",Import!M77)","v":""},{"$f":"IF(Import!P77=\"\",\"\",Import!P77)","v":""},{"$f":"IF(Import!Q77=\"\",\"\",Import!Q77)","v":""},{"$f":"IF(Import!R77=\"\",\"\",Import!R77)","v":""},271.22698626621155,3.144945342611376,32.511452317243659,32.511452317243659,{"$f":"IF(Q77=\"\",\"\",(-0.00011*POWER(S77,2))+(0.01417*S77)+((0.00057*POWER(Q77,2))-(0.0529*Q77)+6.2018)+Kalkkalkyl!$AJ$2)","v":6.8854879605043635},{"$error":"#VALUE!"},null,{"$f":"IF(('PK kalkyl'!$AE$17*H77)+'PK kalkyl'!$AE$18+(('PK kalkyl'!$K$6-'PK kalkyl'!$AE$12)*'PK kalkyl'!$AE$13)<1,0,ROUND(('PK kalkyl'!$AE$17*H77)+'PK kalkyl'!$AE$18+(('PK kalkyl'!$K$6-'PK kalkyl'!$AE$12)*'PK kalkyl'!$AE$13),1))","v":{"$error":"#VALUE!"}},{"$f":"IF(('PK kalkyl'!$AE$37*I77)+'PK kalkyl'!$AE$38+(('PK kalkyl'!$K$6-'PK kalkyl'!$AE$32)*'PK kalkyl'!$AE$33)<1,0,ROUND(('PK kalkyl'!$AE$37*I77)+'PK kalkyl'!$AE$38+(('PK kalkyl'!$K$6-'PK kalkyl'!$AE$32)*'PK kalkyl'!$AE$33),1))","v":{"$error":"#VALUE!"}},{"$error":"#VALUE!"},{"$error":"#VALUE!"},{"$f":"IF((Y77<W77),Y77-W77,0)*-'PK kalkyl'!$AE$15","v":{"$error":"#VALUE!"}},{"$f":"IF((Z77<X77),Z77-X77,0)*-'PK kalkyl'!$AE$35","v":{"$error":"#VALUE!"}},{"$f":"+AA77*Växtföljd!$G$18+AB77*Växtföljd!$G$18","v":{"$error":"#VALUE!"}}]
[{"$f":"IF(Import!A78=\"\",\"\",Import!A78)","v":""},{"$f":"IF(Import!B78=\"\",\"\",Import!B78)","v":""},{"$f":"IF(Import!C78=\"\",\"\",Import!C78)","v":""},{"$f":"IF(Import!D78=\"\",\"\",Import!D78)","v":""},{"$f":"IF(Import!E78=\"\",\"\",Import!E78)","v":""},{"$f":"IF(Import!F78=\"\",\"\",Import!F78)","v":""},{"$f":"IF(Import!G78=\"\",\"\",Import!G78)","v":""},{"$f":"IF(Import!H78=\"\",\"\",Import!H78)","v":""},{"$f":"IF(Import!J78=\"\",\"\",Import!J78)","v":""},{"$f":"IF(Import!K78=\"\",\"\",Import!K78)","v":""},{"$f":"IF(Import!L78=\"\",\"\",Import!L78)","v":""},{"$f":"IF(Import!M78=\"\",\"\",Import!M78)","v":""},{"$f":"IF(Import!P78=\"\",\"\",Import!P78)","v":""},{"$f":"IF(Import!Q78=\"\",\"\",Import!Q78)","v":""},{"$f":"IF(Import!R78=\"\",\"\",Import!R78)","v":""},310,2.7,35,35,{"$f":"IF(Q78=\"\",\"\",(-0.00011*POWER(S78,2))+(0.01417*S78)+((0.00057*POWER(Q78,2))-(0.0529*Q78)+6.2018)+Kalkkalkyl!$AJ$2)","v":6.9243253000000005},{"$error":"#VALUE!"},null,{"$f":"IF(('PK kalkyl'!$AE$17*H78)+'PK kalkyl'!$AE$18+(('PK kalkyl'!$K$6-'PK kalkyl'!$AE$12)*'PK kalkyl'!$AE$13)<1,0,ROUND(('PK kalkyl'!$AE$17*H78)+'PK kalkyl'!$AE$18+(('PK kalkyl'!$K$6-'PK kalkyl'!$AE$12)*'PK kalkyl'!$AE$13),1))","v":{"$error":"#VALUE!"}},{"$f":"IF(('PK kalkyl'!$AE$37*I78)+'PK kalkyl'!$AE$38+(('PK kalkyl'!$K$6-'PK kalkyl'!$AE$32)*'PK kalkyl'!$AE$33)<1,0,ROUND(('PK kalkyl'!$AE$37*I78)+'PK kalkyl'!$AE$38+(('PK kalkyl'!$K$6-'PK kalkyl'!$AE$32)*'PK kalkyl'!$AE$33),1))","v":{"$error":"#VALUE!"}},{"$error":"#VALUE!"},{"$error":"#VALUE!"},{"$f":"IF((Y78<W78),Y78-W78,0)*-'PK kalkyl'!$AE$15","v":{"$error":"#VALUE!"}},{"$f":"IF((Z78<X78),Z78-X78,0)*-'PK kalkyl'!$AE$35","v":{"$error":"#VALUE!"}},{"$f":"+AA78*Växtföljd!$G$18+AB78*Växtföljd!$G$18","v":{"$error":"#VALUE!"}}]
[{"$f":"IF(Import!A79=\"\",\"\",Import!A79)","v":""},{"$f":"IF(Import!B79=\"\",\"\",Import!B79)","v":""},{"$f":"IF(Import!C79=\"\",\"\",Import!C79)","v":""},{"$f":"IF(Import!D79=\"\",\"\",Import!D79)","v":""},{"$f":"IF(Import!E79=\"\",\"\",Import!E79)","v":""},{"$f":"IF(Import!F79=\"\",\"\",Import!F79)","v":""},{"$f":"IF(Import!G79=\"\",\"\",Import!G79)","v":""},{"$f":"IF(Import!H79=\"\",\"\",Import!H79)","v":""},{"$f":"IF(Import!J79=\"\",\"\",Import!J79)","v":""},{"$f":"IF(Import!K79=\"\",\"\",Import!K79)","v":""},{"$f":"IF(Import!L79=\"\",\"\",Import!L79)","v":""},{"$f":"IF(Import!M79=\"\",\"\",Import!M79)","v":""},{"$f":"IF(Import!P79=\"\",\"\",Import!P79)","v":""},{"$f":"IF(Import!Q79=\"\",\"\",Import!Q79)","v":""},{"$f":"IF(Import!R79=\"\",\"\",Import!R79)","v":""},298.54786210011002,2.975128112770439,33.106299856127322,33.106299856127322,{"$f":"IF(Q79=\"\",\"\",(-0.00011*POWER(S79,2))+(0.01417*S79)+((0.00057*POWER(Q79,2))-(0.0529*Q79)+6.2018)+Kalkkalkyl!$AJ$2)","v":6.898014302631565},{"$error":"#VALUE!"},null,{"$f":"IF(('PK kalkyl'!$AE$17*H79)+'PK kalkyl'!$AE$18+(('PK kalkyl'!$K$6-'PK kalkyl'!$AE$12)*'PK kalkyl'!$AE$13)<1,0,ROUND(('PK kalkyl'!$AE$17*H79)+'PK kalkyl'!$AE$18+(('PK kalkyl'!$K$6-'PK kalkyl'!$AE$12)*'PK kalkyl'!$AE$13),1))","v":{"$error":"#VALUE!"}},{"$f":"IF(('PK kalkyl'!$AE$37*I79)+'PK kalkyl'!$AE$38+(('PK kalkyl'!$K$6-'PK kalkyl'!$AE$32)*'PK kalkyl'!$AE$33)<1,0,ROUND(('PK kalkyl'!$AE$37*I79)+'PK kalkyl'!$AE$38+(('PK kalkyl'!$K$6-'PK kalkyl'!$AE$32)*'PK kalkyl'!$AE$33),1))","v":{"$error":"#VALUE!"}},{"$error":"#VALUE!"},{"$error":"#VALUE!"},{"$f":"IF((Y79<W79),Y79-W79,0)*-'PK kalkyl'!$AE$15","v":{"$error":"#VALUE!"}},{"$f":"IF((Z79<X79),Z79-X79,0)*-'PK kalkyl'!$AE$35","v":{"$error":"#VALUE!"}},{"$f":"+AA79*Växtföljd!$G$18+AB79*Växtföljd!$G$18","v":{"$error":"#VALUE!"}}]
[{"$f":"IF(Import!A80=\"\",\"\",Import!A80)","v":""},{"$f":"IF(Import!B80=\"\",\"\",Import!B80)","v":""},{"$f":"IF(Import!C80=\"\",\"\",Import!C80)","v":""},{"$f":"IF(Import!D80=\"\",\"\",Import!D80)","v":""},{"$f":"IF(Import!E80=\"\",\"\",Import!E80)","v":""},{"$f":"IF(Import!F80=\"\",\"\",Import!F80)","v":""},{"$f":"IF(Import!G80=\"\",\"\",Import!G80)","v":""},{"$f":"IF(Import!H80=\"\",\"\",Import!H80)","v":""},{"$f":"IF(Import!J80=\"\",\"\",Import!J80)","v":""},{"$f":"IF(Import!K80=\"\",\"\",Import!K80)","v":""},{"$f":"IF(Import!L80=\"\",\"\",Import!L80)","v":""},{"$f":"IF(Import!M80=\"\",\"\",Import!M80)","v":""},{"$f":"IF(Import!P80=\"\",\"\",Import!P80)","v":""},{"$f":"IF(Import!Q80=\"\",\"\",Import!Q80)","v":""},{"$f":"IF(Import!R80=\"\",\"\",Import!R80)","v":""},250,3.2,30,30,{"$f":"IF(Q80=\"\",\"\",(-0.00011*POWER(S80,2))+(0.01417*S80)+((0.00057*POWER(Q80,2))-(0.0529*Q80)+6.2018)+Kalkkalkyl!$AJ$2)","v":6.864456800000001},{"$error":"#VALUE!"},null,{"$f":"IF(('PK kalkyl'!$AE$17*H80)+'PK kalkyl'!$AE$18+(('PK kalkyl'!$K$6-'PK kalkyl'!$AE$12)*'PK kalkyl'!$AE$13)<1,0,ROUND(('PK kalkyl'!$AE$17*H80)+'PK kalkyl'!$AE$18+(('PK kalkyl'!$K$6-'PK kalkyl'!$AE$12)*'PK kalkyl'!$AE$13),1))","v":{"$error":"#VALUE!"}},{"$f":"IF(('PK kalkyl'!$AE$37*I80)+'PK kalkyl'!$AE$38+(('PK kalkyl'!$K$6-'PK kalkyl'!$AE$32)*'PK kalkyl'!$AE$33)<1,0,ROUND(('PK kalkyl'!$AE$37*I80)+'PK kalkyl'!$AE$38+(('PK kalkyl'!$K$6-'PK kalkyl'!$AE$32)*'PK kalkyl'!$AE$33),1))","v":{"$error":"#VALUE!"}},{"$error":"#VALUE!"},{"$error":"#VALUE!"},{"$f":"IF((Y80<W80),Y80-W80,0)*-'PK kalkyl'!$AE$15","v":{"$error":"#VALUE!"}},{"$f":"IF((Z80<X80),Z80-X80,0)*-'PK kalkyl'!$AE$35","v":{"$error":"#VALUE!"}},{"$f":"+AA80*Växtföljd!$G$18+AB80*Växtföljd!$G$18","v":{"$error":"#VALUE!"}}]
[{"$f":"IF(Import!A81=\"\",\"\",Import!A81)","v":""},{"$f":"IF(Import!B81=\"\",\"\",Import!B81)","v":""},{"$f":"IF(Import!C81=\"\",\"\",Import!C81)","v":""},{"$f":"IF(Import!D81=\"\",\"\",Import!D81)","v":""},{"$f":"IF(Import!E81=\"\",\"\",Import!E81)","v":""},{"$f":"IF(Import!F81=\"\",\"\",Import!F81)","v":""},{"$f":"IF(Import!G81=\"\",\"\",Import!G81)","v":""},{"$f":"IF(Import!H81=\"\",\"\",Import!H81)","v":""},{"$f":"IF(Import!J81=\"\",\"\",Import!J81)","v":""},{"$f":"IF(Import!K81=\"\",\"\",Import!K81)","v":""},{"$f":"IF(Import!L81=\"\",\"\",Import!L81)","v":""},{"$f":"IF(Import!M81=\"\",\"\",Import!M81)","v":""},{"$f":"IF(Import!P81=\"\",\"\",Import!P81)","v":""},{"$f":"IF(Import!Q81=\"\",\"\",Import!Q81)","v":""},{"$f":"IF(Import!R81=\"\",\"\",Import!R81)","v":""},339.41674503045891,3.1209560896570259,32.01637287901805,32.01637287901805,{"$f":"IF(Q81=\"\",\"\",(-0.00011*POWER(S81,2))+(0.01417*S81)+((0.00057*POWER(Q81,2))-(0.0529*Q81)+6.2018)+Kalkkalkyl!$AJ$2)","v":6.8831701411374473},{"$error":"#VALUE!"},null,{"$f":"IF(('PK kalkyl'!$AE$17*H81)+'PK kalkyl'!$AE$18+(('PK kalkyl'!$K$6-'PK kalkyl'!$AE$12)*'PK kalkyl'!$AE$13)<1,0,ROUND(('PK kalkyl'!$AE$17*H81)+'PK kalkyl'!$AE$18+(('PK kalkyl'!$K$6-'PK kalkyl'!$AE$12)*'PK kalkyl'!$AE$13),1))","v":{"$error":"#VALUE!"}},{"$f":"IF(('PK kalkyl'!$AE$37*I81)+'PK kalkyl'!$AE$38+(('PK kalkyl'!$K$6-'PK kalkyl'!$AE$32)*'PK kalkyl'!$AE$33)<1,0,ROUND(('PK kalkyl'!$AE$37*I81)+'PK kalkyl'!$AE$38+(('PK kalkyl'!$K$6-'PK kalkyl'!$AE$32)*'PK kalkyl'!$AE$33),1))","v":{"$error":"#VALUE!"}},{"$error":"#VALUE!"},{"$error":"#VALUE!"},{"$f":"IF((Y81<W81),Y81-W81,0)*-'PK kalkyl'!$AE$15","v":{"$error":"#VALUE!"}},{"$f":"IF((Z81<X81),Z81-X81,0)*-'PK kalkyl'!$AE$35","v":{"$error":"#VALUE!"}},{"$f":"+AA81*Växtföljd!$G$18+AB81*Växtföljd!$G$18","v":{"$error":"#VALUE!"}}]
[{"$f":"IF(Import!A82=\"\",\"\",Import!A82)","v":""},{"$f":"IF(Import!B82=\"\",\"\",Import!B82)","v":""},{"$f":"IF(Import!C82=\"\",\"\",Import!C82)","v":""},{"$f":"IF(Import!D82=\"\",\"\",Import!D82)","v":""},{"$f":"IF(Import!E82=\"\",\"\",Import!E82)","v":""},{"$f":"IF(Import!F82=\"\",\"\",Import!F82)","v":""},{"$f":"IF(Import!G82=\"\",\"\",Import!G82)","v":""},{"$f":"IF(Import!H82=\"\",\"\",Import!H82)","v":""},{"$f":"IF(Import!J82=\"\",\"\",Import!J82)","v":""},{"$f":"IF(Import!K82=\"\",\"\",Import!K82)","v":""},{"$f":"IF(Import!L82=\"\",\"\",Import!L82)","v":""},{"$f":"IF(Import!M82=\"\",\"\",Import!M82)","v":""},{"$f":"IF(Import!P82=\"\",\"\",Import!P82)","v":""},{"$f":"IF(Import!Q82=\"\",\"\",Import!Q82)","v":""},{"$f":"IF(Import!R82=\"\",\"\",Import!R82)","v":""},390,3,35,35,{"$f":"IF(Q82=\"\",\"\",(-0.00011*POWER(S82,2))+(0.01417*S82)+((0.00057*POWER(Q82,2))-(0.0529*Q82)+6.2018)+Kalkkalkyl!$AJ$2)","v":6.9094300000000004},{"$error":"#VALUE!"},null,{"$f":"IF(('PK kalkyl'!$AE$17*H82)+'PK kalkyl'!$AE$18+(('PK kalkyl'!$K$6-'PK kalkyl'!$AE$12)*'PK kalkyl'!$AE$13)<1,0,ROUND(('PK kalkyl'!$AE$17*H82)+'PK kalkyl'!$AE$18+(('PK kalkyl'!$K$6-'PK kalkyl'!$AE$12)*'PK kalkyl'!$AE$13),1))","v":{"$error":"#VALUE!"}},{"$f":"IF(('PK kalkyl'!$AE$37*I82)+'PK kalkyl'!$AE$38+(('PK kalkyl'!$K$6-'PK kalkyl'!$AE$32)*'PK kalkyl'!$AE$33)<1,0,ROUND(('PK kalkyl'!$AE$37*I82)+'PK kalkyl'!$AE$38+(('PK kalkyl'!$K$6-'PK kalkyl'!$AE$32)*'PK kalkyl'!$AE$33),1))","v":{"$error":"#VALUE!"}},{"$error":"#VALUE!"},{"$error":"#VALUE!"},{"$f":"IF((Y82<W82),Y82-W82,0)*-'PK kalkyl'!$AE$15","v":{"$error":"#VALUE!"}},{"$f":"IF((Z82<X82),Z82-X82,0)*-'PK kalkyl'!$AE$35","v":{"$error":"#VALUE!"}},{"$f":"+AA82*Växtföljd!$G$18+AB82*Växtföljd!$G$18","v":{"$error":"#VALUE!"}}]
[{"$f":"IF(Import!A83=\"\",\"\",Import!A83)","v":""},{"$f":"IF(Import!B83=\"\",\"\",Import!B83)","v":""},{"$f":"IF(Import!C83=\"\",\"\",Import!C83)","v":""},{"$f":"IF(Import!D83=\"\",\"\",Import!D83)","v":""},{"$f":"IF(Import!E83=\"\",\"\",Import!E83)","v":""},{"$f":"IF(Import!F83=\"\",\"\",Import!F83)","v":""},{"$f":"IF(Import!G83=\"\",\"\",Import!G83)","v":""},{"$f":"IF(Import!H83=\"\",\"\",Import!H83)","v":""},{"$f":"IF(Import!J83=\"\",\"\",Import!J83)","v":""},{"$f":"IF(Import!K83=\"\",\"\",Import!K83)","v":""},{"$f":"IF(Import!L83=\"\",\"\",Import!L83)","v":""},{"$f":"IF(Import!M83=\"\",\"\",Import!M83)","v":""},{"$f":"IF(Import!P83=\"\",\"\",Import!P83)","v":""},{"$f":"IF(Import!Q83=\"\",\"\",Import!Q83)","v":""},{"$f":"IF(Import!R83=\"\",\"\",Import!R83)","v":""},306.10791312327433,3.7303183436106644,29.45302748695817,29.45302748695817,{"$f":"IF(Q83=\"\",\"\",(-0.00011*POWER(S83,2))+(0.01417*S83)+((0.00057*POWER(Q83,2))-(0.0529*Q83)+6.2018)+Kalkkalkyl!$AJ$2)","v":6.8343243747354334},{"$error":"#VALUE!"},null,{"$f":"IF(('PK kalkyl'!$AE$17*H83)+'PK kalkyl'!$AE$18+(('PK kalkyl'!$K$6-'PK kalkyl'!$AE$12)*'PK kalkyl'!$AE$13)<1,0,ROUND(('PK kalkyl'!$AE$17*H83)+'PK kalkyl'!$AE$18+(('PK kalkyl'!$K$6-'PK kalkyl'!$AE$12)*'PK kalkyl'!$AE$13),1))","v":{"$error":"#VALUE!"}},{"$f":"IF(('PK kalkyl'!$AE$37*I83)+'PK kalkyl'!$AE$38+(('PK kalkyl'!$K$6-'PK kalkyl'!$AE$32)*'PK kalkyl'!$AE$33)<1,0,ROUND(('PK kalkyl'!$AE$37*I83)+'PK kalkyl'!$AE$38+(('PK kalkyl'!$K$6-'PK kalkyl'!$AE$32)*'PK kalkyl'!$AE$33),1))","v":{"$error":"#VALUE!"}},{"$error":"#VALUE!"},{"$error":"#VALUE!"},{"$f":"IF((Y83<W83),Y83-W83,0)*-'PK kalkyl'!$AE$15","v":{"$error":"#VALUE!"}},{"$f":"IF((Z83<X83),Z83-X83,0)*-'PK kalkyl'!$AE$35","v":{"$error":"#VALUE!"}},{"$f":"+AA83*Växtföljd!$G$18+AB83*Växtföljd!$G$18","v":{"$error":"#VALUE!"}}]
[{"$f":"IF(Import!A84=\"\",\"\",Import!A84)","v":""},{"$f":"IF(Import!B84=\"\",\"\",Import!B84)","v":""},{"$f":"IF(Import!C84=\"\",\"\",Import!C84)","v":""},{"$f":"IF(Import!D84=\"\",\"\",Import!D84)","v":""},{"$f":"IF(Import!E84=\"\",\"\",Import!E84)","v":""},{"$f":"IF(Import!F84=\"\",\"\",Import!F84)","v":""},{"$f":"IF(Import!G84=\"\",\"\",Import!G84)","v":""},{"$f":"IF(Import!H84=\"\",\"\",Import!H84)","v":""},{"$f":"IF(Import!J84=\"\",\"\",Import!J84)","v":""},{"$f":"IF(Import!K84=\"\",\"\",Import!K84)","v":""},{"$f":"IF(Import!L84=\"\",\"\",Import!L84)","v":""},{"$f":"IF(Import!M84=\"\",\"\",Import!M84)","v":""},{"$f":"IF(Import!P84=\"\",\"\",Import!P84)","v":""},{"$f":"IF(Import!Q84=\"\",\"\",Import!Q84)","v":""},{"$f":"IF(Import!R84=\"\",\"\",Import!R84)","v":""},300,2.7,35,35,{"$f":"IF(Q84=\"\",\"\",(-0.00011*POWER(S84,2))+(0.01417*S84)+((0.00057*POWER(Q84,2))-(0.0529*Q84)+6.2018)+Kalkkalkyl!$AJ$2)","v":6.9243253000000005},{"$error":"#VALUE!"},null,{"$f":"IF(('PK kalkyl'!$AE$17*H84)+'PK kalkyl'!$AE$18+(('PK kalkyl'!$K$6-'PK kalkyl'!$AE$12)*'PK kalkyl'!$AE$13)<1,0,ROUND(('PK kalkyl'!$AE$17*H84)+'PK kalkyl'!$AE$18+(('PK kalkyl'!$K$6-'PK kalkyl'!$AE$12)*'PK kalkyl'!$AE$13),1))","v":{"$error":"#VALUE!"}},{"$f":"IF(('PK kalkyl'!$AE$37*I84)+'PK kalkyl'!$AE$38+(('PK kalkyl'!$K$6-'PK kalkyl'!$AE$32)*'PK kalkyl'!$AE$33)<1,0,ROUND(('PK kalkyl'!$AE$37*I84)+'PK kalkyl'!$AE$38+(('PK kalkyl'!$K$6-'PK kalkyl'!$AE$32)*'PK kalkyl'!$AE$33),1))","v":{"$error":"#VALUE!"}},{"$error":"#VALUE!"},{"$error":"#VALUE!"},{"$f":"IF((Y84<W84),Y84-W84,0)*-'PK kalkyl'!$AE$15","v":{"$error":"#VALUE!"}},{"$f":"IF((Z84<X84),Z84-X84,0)*-'PK kalkyl'!$AE$35","v":{"$error":"#VALUE!"}},{"$f":"+AA84*Växtföljd!$G$18+AB84*Växtföljd!$G$18","v":{"$error":"#VALUE!"}}]
[{"$f":"IF(Import!A85=\"\",\"\",Import!A85)","v":""},{"$f":"IF(Import!B85=\"\",\"\",Import!B85)","v":""},{"$f":"IF(Import!C85=\"\",\"\",Import!C85)","v":""},{"$f":"IF(Import!D85=\"\",\"\",Import!D85)","v":""},{"$f":"IF(Import!E85=\"\",\"\",Import!E85)","v":""},{"$f":"IF(Import!F85=\"\",\"\",Import!F85)","v":""},{"$f":"IF(Import!G85=\"\",\"\",Import!G85)","v":""},{"$f":"IF(Import!H85=\"\",\"\",Import!H85)","v":""},{"$f":"IF(Import!J85=\"\",\"\",Import!J85)","v":""},{"$f":"IF(Import!K85=\"\",\"\",Import!K85)","v":""},{"$f":"IF(Import!L85=\"\",\"\",Import!L85)","v":""},{"$f":"IF(Import!M85=\"\",\"\",Import!M85)","v":""},{"$f":"IF(Import!P85=\"\",\"\",Import!P85)","v":""},{"$f":"IF(Import!Q85=\"\",\"\",Import!Q85)","v":""},{"$f":"IF(Import!R85=\"\",\"\",Import!R85)","v":""},267.10337948092274,3.1835928558974733,33.095745696236392,33.095745696236392,{"$f":"IF(Q85=\"\",\"\",(-0.00011*POWER(S85,2))+(0.01417*S85)+((0.00057*POWER(Q85,2))-(0.0529*Q85)+6.2018)+Kalkkalkyl!$AJ$2)","v":6.8876456324669091},{"$error":"#VALUE!"},null,{"$f":"IF(('PK kalkyl'!$AE$17*H85)+'PK kalkyl'!$AE$18+(('PK kalkyl'!$K$6-'PK kalkyl'!$AE$12)*'PK kalkyl'!$AE$13)<1,0,ROUND(('PK kalkyl'!$AE$17*H85)+'PK kalkyl'!$AE$18+(('PK kalkyl'!$K$6-'PK kalkyl'!$AE$12)*'PK kalkyl'!$AE$13),1))","v":{"$error":"#VALUE!"}},{"$f":"IF(('PK kalkyl'!$AE$37*I85)+'PK kalkyl'!$AE$38+(('PK kalkyl'!$K$6-'PK kalkyl'!$AE$32)*'PK kalkyl'!$AE$33)<1,0,ROUND(('PK kalkyl'!$AE$37*I85)+'PK kalkyl'!$AE$38+(('PK kalkyl'!$K$6-'PK kalkyl'!$AE$32)*'PK kalkyl'!$AE$33),1))","v":{"$error":"#VALUE!"}},{"$error":"#VALUE!"},{"$error":"#VALUE!"},{"$f":"IF((Y85<W85),Y85-W85,0)*-'PK kalkyl'!$AE$15","v":{"$error":"#VALUE!"}},{"$f":"IF((Z85<X85),Z85-X85,0)*-'PK kalkyl'!$AE$35","v":{"$error":"#VALUE!"}},{"$f":"+AA85*Växtföljd!$G$18+AB85*Växtföljd!$G$18","v":{"$error":"#VALUE!"}}]
[{"$f":"IF(Import!A86=\"\",\"\",Import!A86)","v":""},{"$f":"IF(Import!B86=\"\",\"\",Import!B86)","v":""},{"$f":"IF(Import!C86=\"\",\"\",Import!C86)","v":""},{"$f":"IF(Import!D86=\"\",\"\",Import!D86)","v":""},{"$f":"IF(Import!E86=\"\",\"\",Import!E86)","v":""},{"$f":"IF(Import!F86=\"\",\"\",Import!F86)","v":""},{"$f":"IF(Import!G86=\"\",\"\",Import!G86)","v":""},{"$f":"IF(Import!H86=\"\",\"\",Import!H86)","v":""},{"$f":"IF(Import!J86=\"\",\"\",Import!J86)","v":""},{"$f":"IF(Import!K86=\"\",\"\",Import!K86)","v":""},{"$f":"IF(Import!L86=\"\",\"\",Import!L86)","v":""},{"$f":"IF(Import!M86=\"\",\"\",Import!M86)","v":""},{"$f":"IF(Import!P86=\"\",\"\",Import!P86)","v":""},{"$f":"IF(Import!Q86=\"\",\"\",Import!Q86)","v":""},{"$f":"IF(Import!R86=\"\",\"\",Import!R86)","v":""},240,3.3,30,30,{"$f":"IF(Q86=\"\",\"\",(-0.00011*POWER(S86,2))+(0.01417*S86)+((0.00057*POWER(Q86,2))-(0.0529*Q86)+6.2018)+Kalkkalkyl!$AJ$2)","v":6.8595373000000004},{"$error":"#VALUE!"},null,{"$f":"IF(('PK kalkyl'!$AE$17*H86)+'PK kalkyl'!$AE$18+(('PK kalkyl'!$K$6-'PK kalkyl'!$AE$12)*'PK kalkyl'!$AE$13)<1,0,ROUND(('PK kalkyl'!$AE$17*H86)+'PK kalkyl'!$AE$18+(('PK kalkyl'!$K$6-'PK kalkyl'!$AE$12)*'PK kalkyl'!$AE$13),1))","v":{"$error":"#VALUE!"}},{"$f":"IF(('PK kalkyl'!$AE$37*I86)+'PK kalkyl'!$AE$38+(('PK kalkyl'!$K$6-'PK kalkyl'!$AE$32)*'PK kalkyl'!$AE$33)<1,0,ROUND(('PK kalkyl'!$AE$37*I86)+'PK kalkyl'!$AE$38+(('PK kalkyl'!$K$6-'PK kalkyl'!$AE$32)*'PK kalkyl'!$AE$33),1))","v":{"$error":"#VALUE!"}},{"$error":"#VALUE!"},{"$error":"#VALUE!"},{"$f":"IF((Y86<W86),Y86-W86,0)*-'PK kalkyl'!$AE$15","v":{"$error":"#VALUE!"}},{"$f":"IF((Z86<X86),Z86-X86,0)*-'PK kalkyl'!$AE$35","v":{"$error":"#VALUE!"}},{"$f":"+AA86*Växtföljd!$G$18+AB86*Växtföljd!$G$18","v":{"$error":"#VALUE!"}}]
[{"$f":"IF(Import!A87=\"\",\"\",Import!A87)","v":""},{"$f":"IF(Import!B87=\"\",\"\",Import!B87)","v":""},{"$f":"IF(Import!C87=\"\",\"\",Import!C87)","v":""},{"$f":"IF(Import!D87=\"\",\"\",Import!D87)","v":""},{"$f":"IF(Import!E87=\"\",\"\",Import!E87)","v":""},{"$f":"IF(Import!F87=\"\",\"\",Import!F87)","v":""},{"$f":"IF(Import!G87=\"\",\"\",Import!G87)","v":""},{"$f":"IF(Import!H87=\"\",\"\",Import!H87)","v":""},{"$f":"IF(Import!J87=\"\",\"\",Import!J87)","v":""},{"$f":"IF(Import!K87=\"\",\"\",Import!K87)","v":""},{"$f":"IF(Import!L87=\"\",\"\",Import!L87)","v":""},{"$f":"IF(Import!M87=\"\",\"\",Import!M87)","v":""},{"$f":"IF(Import!P87=\"\",\"\",Import!P87)","v":""},{"$f":"IF(Import!Q87=\"\",\"\",Import!Q87)","v":""},{"$f":"IF(Import!R87=\"\",\"\",Import!R87)","v":""},274.10414121776978,3.1649289361847996,30.203393470334607,30.203393470334607,{"$f":"IF(Q87=\"\",\"\",(-0.00011*POWER(S87,2))+(0.01417*S87)+((0.00057*POWER(Q87,2))-(0.0529*Q87)+6.2018)+Kalkkalkyl!$AJ$2)","v":6.8677199591143694},{"$error":"#VALUE!"},null,{"$f":"IF(('PK kalkyl'!$AE$17*H87)+'PK kalkyl'!$AE$18+(('PK kalkyl'!$K$6-'PK kalkyl'!$AE$12)*'PK kalkyl'!$AE$13)<1,0,ROUND(('PK kalkyl'!$AE$17*H87)+'PK kalkyl'!$AE$18+(('PK kalkyl'!$K$6-'PK kalkyl'!$AE$12)*'PK kalkyl'!$AE$13),1))","v":{"$error":"#VALUE!"}},{"$f":"IF(('PK kalkyl'!$AE$37*I87)+'PK kalkyl'!$AE$38+(('PK kalkyl'!$K$6-'PK kalkyl'!$AE$32)*'PK kalkyl'!$AE$33)<1,0,ROUND(('PK kalkyl'!$AE$37*I87)+'PK kalkyl'!$AE$38+(('PK kalkyl'!$K$6-'PK kalkyl'!$AE$32)*'PK kalkyl'!$AE$33),1))","v":{"$error":"#VALUE!"}},{"$error":"#VALUE!"},{"$error":"#VALUE!"},{"$f":"IF((Y87<W87),Y87-W87,0)*-'PK kalkyl'!$AE$15","v":{"$error":"#VALUE!"}},{"$f":"IF((Z87<X87),Z87-X87,0)*-'PK kalkyl'!$AE$35","v":{"$error":"#VALUE!"}},{"$f":"+AA87*Växtföljd!$G$18+AB87*Växtföljd!$G$18","v":{"$error":"#VALUE!"}}]
[{"$f":"IF(Import!A88=\"\",\"\",Import!A88)","v":""},{"$f":"IF(Import!B88=\"\",\"\",Import!B88)","v":""},{"$f":"IF(Import!C88=\"\",\"\",Import!C88)","v":""},{"$f":"IF(Import!D88=\"\",\"\",Import!D88)","v":""},{"$f":"IF(Import!E88=\"\",\"\",Import!E88)","v":""},{"$f":"IF(Import!F88=\"\",\"\",Import!F88)","v":""},{"$f":"IF(Import!G88=\"\",\"\",Import!G88)","v":""},{"$f":"IF(Import!H88=\"\",\"\",Import!H88)","v":""},{"$f":"IF(Import!J88=\"\",\"\",Import!J88)","v":""},{"$f":"IF(Import!K88=\"\",\"\",Import!K88)","v":""},{"$f":"IF(Import!L88=\"\",\"\",Import!L88)","v":""},{"$f":"IF(Import!M88=\"\",\"\",Import!M88)","v":""},{"$f":"IF(Import!P88=\"\",\"\",Import!P88)","v":""},{"$f":"IF(Import!Q88=\"\",\"\",Import!Q88)","v":""},{"$f":"IF(Import!R88=\"\",\"\",Import!R88)","v":""},290,3.1,30,30,{"$f":"IF(Q88=\"\",\"\",(-0.00011*POWER(S88,2))+(0.01417*S88)+((0.00057*POWER(Q88,2))-(0.0529*Q88)+6.2018)+Kalkkalkyl!$AJ$2)","v":6.8693877000000008},{"$error":"#VALUE!"},null,{"$f":"IF(('PK kalkyl'!$AE$17*H88)+'PK kalkyl'!$AE$18+(('PK kalkyl'!$K$6-'PK kalkyl'!$AE$12)*'PK kalkyl'!$AE$13)<1,0,ROUND(('PK kalkyl'!$AE$17*H88)+'PK kalkyl'!$AE$18+(('PK kalkyl'!$K$6-'PK kalkyl'!$AE$12)*'PK kalkyl'!$AE$13),1))","v":{"$error":"#VALUE!"}},{"$f":"IF(('PK kalkyl'!$AE$37*I88)+'PK kalkyl'!$AE$38+(('PK kalkyl'!$K$6-'PK kalkyl'!$AE$32)*'PK kalkyl'!$AE$33)<1,0,ROUND(('PK kalkyl'!$AE$37*I88)+'PK kalkyl'!$AE$38+(('PK kalkyl'!$K$6-'PK kalkyl'!$AE$32)*'PK kalkyl'!$AE$33),1))","v":{"$error":"#VALUE!"}},{"$error":"#VALUE!"},{"$error":"#VALUE!"},{"$f":"IF((Y88<W88),Y88-W88,0)*-'PK kalkyl'!$AE$15","v":{"$error":"#VALUE!"}},{"$f":"IF((Z88<X88),Z88-X88,0)*-'PK kalkyl'!$AE$35","v":{"$error":"#VALUE!"}},{"$f":"+AA88*Växtföljd!$G$18+AB88*Växtföljd!$G$18","v":{"$error":"#VALUE!"}}]
[{"$f":"IF(Import!A89=\"\",\"\",Import!A89)","v":""},{"$f":"IF(Import!B89=\"\",\"\",Import!B89)","v":""},{"$f":"IF(Import!C89=\"\",\"\",Import!C89)","v":""},{"$f":"IF(Import!D89=\"\",\"\",Import!D89)","v":""},{"$f":"IF(Import!E89=\"\",\"\",Import!E89)","v":""},{"$f":"IF(Import!F89=\"\",\"\",Import!F89)","v":""},{"$f":"IF(Import!G89=\"\",\"\",Import!G89)","v":""},{"$f":"IF(Import!H89=\"\",\"\",Import!H89)","v":""},{"$f":"IF(Import!J89=\"\",\"\",Import!J89)","v":""},{"$f":"IF(Import!K89=\"\",\"\",Import!K89)","v":""},{"$f":"IF(Import!L89=\"\",\"\",Import!L89)","v":""},{"$f":"IF(Import!M89=\"\",\"\",Import!M89)","v":""},{"$f":"IF(Import!P89=\"\",\"\",Import!P89)","v":""},{"$f":"IF(Import!Q89=\"\",\"\",Import!Q89)","v":""},{"$f":"IF(Import!R89=\"\",\"\",Import!R89)","v":""},254.70388536575865,3.2945826525419926,30.953489299529654,30.953489299529654,{"$f":"IF(Q89=\"\",\"\",(-0.00011*POWER(S89,2))+(0.01417*S89)+((0.00057*POWER(Q89,2))-(0.0529*Q89)+6.2018)+Kalkkalkyl!$AJ$2)","v":6.8669214227421191},{"$error":"#VALUE!"},null,{"$f":"IF(('PK kalkyl'!$AE$17*H89)+'PK kalkyl'!$AE$18+(('PK kalkyl'!$K$6-'PK kalkyl'!$AE$12)*'PK kalkyl'!$AE$13)<1,0,ROUND(('PK kalkyl'!$AE$17*H89)+'PK kalkyl'!$AE$18+(('PK kalkyl'!$K$6-'PK kalkyl'!$AE$12)*'PK kalkyl'!$AE$13),1))","v":{"$error":"#VALUE!"}},{"$f":"IF(('PK kalkyl'!$AE$37*I89)+'PK kalkyl'!$AE$38+(('PK kalkyl'!$K$6-'PK kalkyl'!$AE$32)*'PK kalkyl'!$AE$33)<1,0,ROUND(('PK kalkyl'!$AE$37*I89)+'PK kalkyl'!$AE$38+(('PK kalkyl'!$K$6-'PK kalkyl'!$AE$32)*'PK kalkyl'!$AE$33),1))","v":{"$error":"#VALUE!"}},{"$error":"#VALUE!"},{"$error":"#VALUE!"},{"$f":"IF((Y89<W89),Y89-W89,0)*-'PK kalkyl'!$AE$15","v":{"$error":"#VALUE!"}},{"$f":"IF((Z89<X89),Z89-X89,0)*-'PK kalkyl'!$AE$35","v":{"$error":"#VALUE!"}},{"$f":"+AA89*Växtföljd!$G$18+AB89*Växtföljd!$G$18","v":{"$error":"#VALUE!"}}]
[{"$f":"IF(Import!A90=\"\",\"\",Import!A90)","v":""},{"$f":"IF(Import!B90=\"\",\"\",Import!B90)","v":""},{"$f":"IF(Import!C90=\"\",\"\",Import!C90)","v":""},{"$f":"IF(Import!D90=\"\",\"\",Import!D90)","v":""},{"$f":"IF(Import!E90=\"\",\"\",Import!E90)","v":""},{"$f":"IF(Import!F90=\"\",\"\",Import!F90)","v":""},{"$f":"IF(Import!G90=\"\",\"\",Import!G90)","v":""},{"$f":"IF(Import!H90=\"\",\"\",Import!H90)","v":""},{"$f":"IF(Import!J90=\"\",\"\",Import!J90)","v":""},{"$f":"IF(Import!K90=\"\",\"\",Import!K90)","v":""},{"$f":"IF(Import!L90=\"\",\"\",Import!L90)","v":""},{"$f":"IF(Import!M90=\"\",\"\",Import!M90)","v":""},{"$f":"IF(Import!P90=\"\",\"\",Import!P90)","v":""},{"$f":"IF(Import!Q90=\"\",\"\",Import!Q90)","v":""},{"$f":"IF(Import!R90=\"\",\"\",Import!R90)","v":""},260,3.4,34,34,{"$f":"IF(Q90=\"\",\"\",(-0.00011*POWER(S90,2))+(0.01417*S90)+((0.00057*POWER(Q90,2))-(0.0529*Q90)+6.2018)+Kalkkalkyl!$AJ$2)","v":6.8831492000000001},{"$error":"#VALUE!"},null,{"$f":"IF(('PK kalkyl'!$AE$17*H90)+'PK kalkyl'!$AE$18+(('PK kalkyl'!$K$6-'PK kalkyl'!$AE$12)*'PK kalkyl'!$AE$13)<1,0,ROUND(('PK kalkyl'!$AE$17*H90)+'PK kalkyl'!$AE$18+(('PK kalkyl'!$K$6-'PK kalkyl'!$AE$12)*'PK kalkyl'!$AE$13),1))","v":{"$error":"#VALUE!"}},{"$f":"IF(('PK kalkyl'!$AE$37*I90)+'PK kalkyl'!$AE$38+(('PK kalkyl'!$K$6-'PK kalkyl'!$AE$32)*'PK kalkyl'!$AE$33)<1,0,ROUND(('PK kalkyl'!$AE$37*I90)+'PK kalkyl'!$AE$38+(('PK kalkyl'!$K$6-'PK kalkyl'!$AE$32)*'PK kalkyl'!$AE$33),1))","v":{"$error":"#VALUE!"}},{"$error":"#VALUE!"},{"$error":"#VALUE!"},{"$f":"IF((Y90<W90),Y90-W90,0)*-'PK kalkyl'!$AE$15","v":{"$error":"#VALUE!"}},{"$f":"IF((Z90<X90),Z90-X90,0)*-'PK kalkyl'!$AE$35","v":{"$error":"#VALUE!"}},{"$f":"+AA90*Växtföljd!$G$18+AB90*Växtföljd!$G$18","v":{"$error":"#VALUE!"}}]
[{"$f":"IF(Import!A91=\"\",\"\",Import!A91)","v":""},{"$f":"IF(Import!B91=\"\",\"\",Import!B91)","v":""},{"$f":"IF(Import!C91=\"\",\"\",Import!C91)","v":""},{"$f":"IF(Import!D91=\"\",\"\",Import!D91)","v":""},{"$f":"IF(Import!E91=\"\",\"\",Import!E91)","v":""},{"$f":"IF(Import!F91=\"\",\"\",Import!F91)","v":""},{"$f":"IF(Import!G91=\"\",\"\",Import!G91)","v":""},{"$f":"IF(Import!H91=\"\",\"\",Import!H91)","v":""},{"$f":"IF(Import!J91=\"\",\"\",Import!J91)","v":""},{"$f":"IF(Import!K91=\"\",\"\",Import!K91)","v":""},{"$f":"IF(Import!L91=\"\",\"\",Import!L91)","v":""},{"$f":"IF(Import!M91=\"\",\"\",Import!M91)","v":""},{"$f":"IF(Import!P91=\"\",\"\",Import!P91)","v":""},{"$f":"IF(Import!Q91=\"\",\"\",Import!Q91)","v":""},{"$f":"IF(Import!R91=\"\",\"\",Import!R91)","v":""},291.3702103191697,3.0618673120134625,33.558964207061834,33.558964207061834,{"$f":"IF(Q91=\"\",\"\",(-0.00011*POWER(S91,2))+(0.01417*S91)+((0.00057*POWER(Q91,2))-(0.0529*Q91)+6.2018)+Kalkkalkyl!$AJ$2)","v":6.8968190612756946},{"$error":"#VALUE!"},null,{"$f":"IF(('PK kalkyl'!$AE$17*H91)+'PK kalkyl'!$AE$18+(('PK kalkyl'!$K$6-'PK kalkyl'!$AE$12)*'PK kalkyl'!$AE$13)<1,0,ROUND(('PK kalkyl'!$AE$17*H91)+'PK kalkyl'!$AE$18+(('PK kalkyl'!$K$6-'PK kalkyl'!$AE$12)*'PK kalkyl'!$AE$13),1))","v":{"$error":"#VALUE!"}},{"$f":"IF(('PK kalkyl'!$AE$37*I91)+'PK kalkyl'!$AE$38+(('PK kalkyl'!$K$6-'PK kalkyl'!$AE$32)*'PK kalkyl'!$AE$33)<1,0,ROUND(('PK kalkyl'!$AE$37*I91)+'PK kalkyl'!$AE$38+(('PK kalkyl'!$K$6-'PK kalkyl'!$AE$32)*'PK kalkyl'!$AE$33),1))","v":{"$error":"#VALUE!"}},{"$error":"#VALUE!"},{"$error":"#VALUE!"},{"$f":"IF((Y91<W91),Y91-W91,0)*-'PK kalkyl'!$AE$15","v":{"$error":"#VALUE!"}},{"$f":"IF((Z91<X91),Z91-X91,0)*-'PK kalkyl'!$AE$35","v":{"$error":"#VALUE!"}},{"$f":"+AA91*Växtföljd!$G$18+AB91*Växtföljd!$G$18","v":{"$error":"#VALUE!"}}]
[{"$f":"IF(Import!A92=\"\",\"\",Import!A92)","v":""},{"$f":"IF(Import!B92=\"\",\"\",Import!B92)","v":""},{"$f":"IF(Import!C92=\"\",\"\",Import!C92)","v":""},{"$f":"IF(Import!D92=\"\",\"\",Import!D92)","v":""},{"$f":"IF(Import!E92=\"\",\"\",Import!E92)","v":""},{"$f":"IF(Import!F92=\"\",\"\",Import!F92)","v":""},{"$f":"IF(Import!G92=\"\",\"\",Import!G92)","v":""},{"$f":"IF(Import!H92=\"\",\"\",Import!H92)","v":""},{"$f":"IF(Import!J92=\"\",\"\",Import!J92)","v":""},{"$f":"IF(Import!K92=\"\",\"\",Import!K92)","v":""},{"$f":"IF(Import!L92=\"\",\"\",Import!L92)","v":""},{"$f":"IF(Import!M92=\"\",\"\",Import!M92)","v":""},{"$f":"IF(Import!P92=\"\",\"\",Import!P92)","v":""},{"$f":"IF(Import!Q92=\"\",\"\",Import!Q92)","v":""},{"$f":"IF(Import!R92=\"\",\"\",Import!R92)","v":""},310,4.0999999999999996,29,29,{"$f":"IF(Q92=\"\",\"\",(-0.00011*POWER(S92,2))+(0.01417*S92)+((0.00057*POWER(Q92,2))-(0.0529*Q92)+6.2018)+Kalkkalkyl!$AJ$2)","v":6.8129116999999999},{"$error":"#VALUE!"},null,{"$f":"IF(('PK kalkyl'!$AE$17*H92)+'PK kalkyl'!$AE$18+(('PK kalkyl'!$K$6-'PK kalkyl'!$AE$12)*'PK kalkyl'!$AE$13)<1,0,ROUND(('PK kalkyl'!$AE$17*H92)+'PK kalkyl'!$AE$18+(('PK kalkyl'!$K$6-'PK kalkyl'!$AE$12)*'PK kalkyl'!$AE$13),1))","v":{"$error":"#VALUE!"}},{"$f":"IF(('PK kalkyl'!$AE$37*I92)+'PK kalkyl'!$AE$38+(('PK kalkyl'!$K$6-'PK kalkyl'!$AE$32)*'PK kalkyl'!$AE$33)<1,0,ROUND(('PK kalkyl'!$AE$37*I92)+'PK kalkyl'!$AE$38+(('PK kalkyl'!$K$6-'PK kalkyl'!$AE$32)*'PK kalkyl'!$AE$33),1))","v":{"$error":"#VALUE!"}},{"$error":"#VALUE!"},{"$error":"#VALUE!"},{"$f":"IF((Y92<W92),Y92-W92,0)*-'PK kalkyl'!$AE$15","v":{"$error":"#VALUE!"}},{"$f":"IF((Z92<X92),Z92-X92,0)*-'PK kalkyl'!$AE$35","v":{"$error":"#VALUE!"}},{"$f":"+AA92*Växtföljd!$G$18+AB92*Växtföljd!$G$18","v":{"$error":"#VALUE!"}}]
[{"$f":"IF(Import!A93=\"\",\"\",Import!A93)","v":""},{"$f":"IF(Import!B93=\"\",\"\",Import!B93)","v":""},{"$f":"IF(Import!C93=\"\",\"\",Import!C93)","v":""},{"$f":"IF(Import!D93=\"\",\"\",Import!D93)","v":""},{"$f":"IF(Import!E93=\"\",\"\",Import!E93)","v":""},{"$f":"IF(Import!F93=\"\",\"\",Import!F93)","v":""},{"$f":"IF(Import!G93=\"\",\"\",Import!G93)","v":""},{"$f":"IF(Import!H93=\"\",\"\",Import!H93)","v":""},{"$f":"IF(Import!J93=\"\",\"\",Import!J93)","v":""},{"$f":"IF(Import!K93=\"\",\"\",Import!K93)","v":""},{"$f":"IF(Import!L93=\"\",\"\",Import!L93)","v":""},{"$f":"IF(Import!M93=\"\",\"\",Import!M93)","v":""},{"$f":"IF(Import!P93=\"\",\"\",Import!P93)","v":""},{"$f":"IF(Import!Q93=\"\",\"\",Import!Q93)","v":""},{"$f":"IF(Import!R93=\"\",\"\",Import!R93)","v":""},254.2342509792646,3.8047336726384926,28.703914756896243,28.703914756896243,{"$f":"IF(Q93=\"\",\"\",(-0.00011*POWER(S93,2))+(0.01417*S93)+((0.00057*POWER(Q93,2))-(0.0529*Q93)+6.2018)+Kalkkalkyl!$AJ$2)","v":6.8248847604040499},{"$error":"#VALUE!"},null,{"$f":"IF(('PK kalkyl'!$AE$17*H93)+'PK kalkyl'!$AE$18+(('PK kalkyl'!$K$6-'PK kalkyl'!$AE$12)*'PK kalkyl'!$AE$13)<1,0,ROUND(('PK kalkyl'!$AE$17*H93)+'PK kalkyl'!$AE$18+(('PK kalkyl'!$K$6-'PK kalkyl'!$AE$12)*'PK kalkyl'!$AE$13),1))","v":{"$error":"#VALUE!"}},{"$f":"IF(('PK kalkyl'!$AE$37*I93)+'PK kalkyl'!$AE$38+(('PK kalkyl'!$K$6-'PK kalkyl'!$AE$32)*'PK kalkyl'!$AE$33)<1,0,ROUND(('PK kalkyl'!$AE$37*I93)+'PK kalkyl'!$AE$38+(('PK kalkyl'!$K$6-'PK kalkyl'!$AE$32)*'PK kalkyl'!$AE$33),1))","v":{"$error":"#VALUE!"}},{"$error":"#VALUE!"},{"$error":"#VALUE!"},{"$f":"IF((Y93<W93),Y93-W93,0)*-'PK kalkyl'!$AE$15","v":{"$error":"#VALUE!"}},{"$f":"IF((Z93<X93),Z93-X93,0)*-'PK kalkyl'!$AE$35","v":{"$error":"#VALUE!"}},{"$f":"+AA93*Växtföljd!$G$18+AB93*Växtföljd!$G$18","v":{"$error":"#VALUE!"}}]
[{"$f":"IF(Import!A94=\"\",\"\",Import!A94)","v":""},{"$f":"IF(Import!B94=\"\",\"\",Import!B94)","v":""},{"$f":"IF(Import!C94=\"\",\"\",Import!C94)","v":""},{"$f":"IF(Import!D94=\"\",\"\",Import!D94)","v":""},{"$f":"IF(Import!E94=\"\",\"\",Import!E94)","v":""},{"$f":"IF(Import!F94=\"\",\"\",Import!F94)","v":""},{"$f":"IF(Import!G94=\"\",\"\",Import!G94)","v":""},{"$f":"IF(Import!H94=\"\",\"\",Import!H94)","v":""},{"$f":"IF(Import!J94=\"\",\"\",Import!J94)","v":""},{"$f":"IF(Import!K94=\"\",\"\",Import!K94)","v":""},{"$f":"IF(Import!L94=\"\",\"\",Import!L94)","v":""},{"$f":"IF(Import!M94=\"\",\"\",Import!M94)","v":""},{"$f":"IF(Import!P94=\"\",\"\",Import!P94)","v":""},{"$f":"IF(Import!Q94=\"\",\"\",Import!Q94)","v":""},{"$f":"IF(Import!R94=\"\",\"\",Import!R94)","v":""},270,3.5,31,31,{"$f":"IF(Q94=\"\",\"\",(-0.00011*POWER(S94,2))+(0.01417*S94)+((0.00057*POWER(Q94,2))-(0.0529*Q94)+6.2018)+Kalkkalkyl!$AJ$2)","v":6.8571925000000009},{"$error":"#VALUE!"},null,{"$f":"IF(('PK kalkyl'!$AE$17*H94)+'PK kalkyl'!$AE$18+(('PK kalkyl'!$K$6-'PK kalkyl'!$AE$12)*'PK kalkyl'!$AE$13)<1,0,ROUND(('PK kalkyl'!$AE$17*H94)+'PK kalkyl'!$AE$18+(('PK kalkyl'!$K$6-'PK kalkyl'!$AE$12)*'PK kalkyl'!$AE$13),1))","v":{"$error":"#VALUE!"}},{"$f":"IF(('PK kalkyl'!$AE$37*I94)+'PK kalkyl'!$AE$38+(('PK kalkyl'!$K$6-'PK kalkyl'!$AE$32)*'PK kalkyl'!$AE$33)<1,0,ROUND(('PK kalkyl'!$AE$37*I94)+'PK kalkyl'!$AE$38+(('PK kalkyl'!$K$6-'PK kalkyl'!$AE$32)*'PK kalkyl'!$AE$33),1))","v":{"$error":"#VALUE!"}},{"$error":"#VALUE!"},{"$error":"#VALUE!"},{"$f":"IF((Y94<W94),Y94-W94,0)*-'PK kalkyl'!$AE$15","v":{"$error":"#VALUE!"}},{"$f":"IF((Z94<X94),Z94-X94,0)*-'PK kalkyl'!$AE$35","v":{"$error":"#VALUE!"}},{"$f":"+AA94*Växtföljd!$G$18+AB94*Växtföljd!$G$18","v":{"$error":"#VALUE!"}}]
[{"$f":"IF(Import!A95=\"\",\"\",Import!A95)","v":""},{"$f":"IF(Import!B95=\"\",\"\",Import!B95)","v":""},{"$f":"IF(Import!C95=\"\",\"\",Import!C95)","v":""},{"$f":"IF(Import!D95=\"\",\"\",Import!D95)","v":""},{"$f":"IF(Import!E95=\"\",\"\",Import!E95)","v":""},{"$f":"IF(Import!F95=\"\",\"\",Import!F95)","v":""},{"$f":"IF(Import!G95=\"\",\"\",Import!G95)","v":""},{"$f":"IF(Import!H95=\"\",\"\",Import!H95)","v":""},{"$f":"IF(Import!J95=\"\",\"\",Import!J95)","v":""},{"$f":"IF(Import!K95=\"\",\"\",Import!K95)","v":""},{"$f":"IF(Import!L95=\"\",\"\",Import!L95)","v":""},{"$f":"IF(Import!M95=\"\",\"\",Import!M95)","v":""},{"$f":"IF(Import!P95=\"\",\"\",Import!P95)","v":""},{"$f":"IF(Import!Q95=\"\",\"\",Import!Q95)","v":""},{"$f":"IF(Import!R95=\"\",\"\",Import!R95)","v":""},267.28257777478001,3.4219849643900075,31.79583142558327,31.79583142558327,{"$f":"IF(Q95=\"\",\"\",(-0.00011*POWER(S95,2))+(0.01417*S95)+((0.00057*POWER(Q95,2))-(0.0529*Q95)+6.2018)+Kalkkalkyl!$AJ$2)","v":6.8667913773444438},{"$error":"#VALUE!"},null,{"$f":"IF(('PK kalkyl'!$AE$17*H95)+'PK kalkyl'!$AE$18+(('PK kalkyl'!$K$6-'PK kalkyl'!$AE$12)*'PK kalkyl'!$AE$13)<1,0,ROUND(('PK kalkyl'!$AE$17*H95)+'PK kalkyl'!$AE$18+(('PK kalkyl'!$K$6-'PK kalkyl'!$AE$12)*'PK kalkyl'!$AE$13),1))","v":{"$error":"#VALUE!"}},{"$f":"IF(('PK kalkyl'!$AE$37*I95)+'PK kalkyl'!$AE$38+(('PK kalkyl'!$K$6-'PK kalkyl'!$AE$32)*'PK kalkyl'!$AE$33)<1,0,ROUND(('PK kalkyl'!$AE$37*I95)+'PK kalkyl'!$AE$38+(('PK kalkyl'!$K$6-'PK kalkyl'!$AE$32)*'PK kalkyl'!$AE$33),1))","v":{"$error":"#VALUE!"}},{"$error":"#VALUE!"},{"$error":"#VALUE!"},{"$f":"IF((Y95<W95),Y95-W95,0)*-'PK kalkyl'!$AE$15","v":{"$error":"#VALUE!"}},{"$f":"IF((Z95<X95),Z95-X95,0)*-'PK kalkyl'!$AE$35","v":{"$error":"#VALUE!"}},{"$f":"+AA95*Växtföljd!$G$18+AB95*Växtföljd!$G$18","v":{"$error":"#VALUE!"}}]
[{"$f":"IF(Import!A96=\"\",\"\",Import!A96)","v":""},{"$f":"IF(Import!B96=\"\",\"\",Import!B96)","v":""},{"$f":"IF(Import!C96=\"\",\"\",Import!C96)","v":""},{"$f":"IF(Import!D96=\"\",\"\",Import!D96)","v":""},{"$f":"IF(Import!E96=\"\",\"\",Import!E96)","v":""},{"$f":"IF(Import!F96=\"\",\"\",Import!F96)","v":""},{"$f":"IF(Import!G96=\"\",\"\",Import!G96)","v":""},{"$f":"IF(Import!H96=\"\",\"\",Import!H96)","v":""},{"$f":"IF(Import!J96=\"\",\"\",Import!J96)","v":""},{"$f":"IF(Import!K96=\"\",\"\",Import!K96)","v":""},{"$f":"IF(Import!L96=\"\",\"\",Import!L96)","v":""},{"$f":"IF(Import!M96=\"\",\"\",Import!M96)","v":""},{"$f":"IF(Import!P96=\"\",\"\",Import!P96)","v":""},{"$f":"IF(Import!Q96=\"\",\"\",Import!Q96)","v":""},{"$f":"IF(Import!R96=\"\",\"\",Import!R96)","v":""},260,3.4,32,32,{"$f":"IF(Q96=\"\",\"\",(-0.00011*POWER(S96,2))+(0.01417*S96)+((0.00057*POWER(Q96,2))-(0.0529*Q96)+6.2018)+Kalkkalkyl!$AJ$2)","v":6.8693292000000001},{"$error":"#VALUE!"},null,{"$f":"IF(('PK kalkyl'!$AE$17*H96)+'PK kalkyl'!$AE$18+(('PK kalkyl'!$K$6-'PK kalkyl'!$AE$12)*'PK kalkyl'!$AE$13)<1,0,ROUND(('PK kalkyl'!$AE$17*H96)+'PK kalkyl'!$AE$18+(('PK kalkyl'!$K$6-'PK kalkyl'!$AE$12)*'PK kalkyl'!$AE$13),1))","v":{"$error":"#VALUE!"}},{"$f":"IF(('PK kalkyl'!$AE$37*I96)+'PK kalkyl'!$AE$38+(('PK kalkyl'!$K$6-'PK kalkyl'!$AE$32)*'PK kalkyl'!$AE$33)<1,0,ROUND(('PK kalkyl'!$AE$37*I96)+'PK kalkyl'!$AE$38+(('PK kalkyl'!$K$6-'PK kalkyl'!$AE$32)*'PK kalkyl'!$AE$33),1))","v":{"$error":"#VALUE!"}},{"$error":"#VALUE!"},{"$error":"#VALUE!"},{"$f":"IF((Y96<W96),Y96-W96,0)*-'PK kalkyl'!$AE$15","v":{"$error":"#VALUE!"}},{"$f":"IF((Z96<X96),Z96-X96,0)*-'PK kalkyl'!$AE$35","v":{"$error":"#VALUE!"}},{"$f":"+AA96*Växtföljd!$G$18+AB96*Växtföljd!$G$18","v":{"$error":"#VALUE!"}}]
[{"$f":"IF(Import!A97=\"\",\"\",Import!A97)","v":""},{"$f":"IF(Import!B97=\"\",\"\",Import!B97)","v":""},{"$f":"IF(Import!C97=\"\",\"\",Import!C97)","v":""},{"$f":"IF(Import!D97=\"\",\"\",Import!D97)","v":""},{"$f":"IF(Import!E97=\"\",\"\",Import!E97)","v":""},{"$f":"IF(Import!F97=\"\",\"\",Import!F97)","v":""},{"$f":"IF(Import!G97=\"\",\"\",Import!G97)","v":""},{"$f":"IF(Import!H97=\"\",\"\",Import!H97)","v":""},{"$f":"IF(Import!J97=\"\",\"\",Import!J97)","v":""},{"$f":"IF(Import!K97=\"\",\"\",Import!K97)","v":""},{"$f":"IF(Import!L97=\"\",\"\",Import!L97)","v":""},{"$f":"IF(Import!M97=\"\",\"\",Import!M97)","v":""},{"$f":"IF(Import!P97=\"\",\"\",Import!P97)","v":""},{"$f":"IF(Import!Q97=\"\",\"\",Import!Q97)","v":""},{"$f":"IF(Import!R97=\"\",\"\",Import!R97)","v":""},278.82927257573465,3.0824753849566413,32.959338483891621,32.959338483891621,{"$f":"IF(Q97=\"\",\"\",(-0.00011*POWER(S97,2))+(0.01417*S97)+((0.00057*POWER(Q97,2))-(0.0529*Q97)+6.2018)+Kalkkalkyl!$AJ$2)","v":6.8916918422543594},{"$error":"#VALUE!"},null,{"$f":"IF(('PK kalkyl'!$AE$17*H97)+'PK kalkyl'!$AE$18+(('PK kalkyl'!$K$6-'PK kalkyl'!$AE$12)*'PK kalkyl'!$AE$13)<1,0,ROUND(('PK kalkyl'!$AE$17*H97)+'PK kalkyl'!$AE$18+(('PK kalkyl'!$K$6-'PK kalkyl'!$AE$12)*'PK kalkyl'!$AE$13),1))","v":{"$error":"#VALUE!"}},{"$f":"IF(('PK kalkyl'!$AE$37*I97)+'PK kalkyl'!$AE$38+(('PK kalkyl'!$K$6-'PK kalkyl'!$AE$32)*'PK kalkyl'!$AE$33)<1,0,ROUND(('PK kalkyl'!$AE$37*I97)+'PK kalkyl'!$AE$38+(('PK kalkyl'!$K$6-'PK kalkyl'!$AE$32)*'PK kalkyl'!$AE$33),1))","v":{"$error":"#VALUE!"}},{"$error":"#VALUE!"},{"$error":"#VALUE!"},{"$f":"IF((Y97<W97),Y97-W97,0)*-'PK kalkyl'!$AE$15","v":{"$error":"#VALUE!"}},{"$f":"IF((Z97<X97),Z97-X97,0)*-'PK kalkyl'!$AE$35","v":{"$error":"#VALUE!"}},{"$f":"+AA97*Växtföljd!$G$18+AB97*Växtföljd!$G$18","v":{"$error":"#VALUE!"}}]
[{"$f":"IF(Import!A98=\"\",\"\",Import!A98)","v":""},{"$f":"IF(Import!B98=\"\",\"\",Import!B98)","v":""},{"$f":"IF(Import!C98=\"\",\"\",Import!C98)","v":""},{"$f":"IF(Import!D98=\"\",\"\",Import!D98)","v":""},{"$f":"IF(Import!E98=\"\",\"\",Import!E98)","v":""},{"$f":"IF(Import!F98=\"\",\"\",Import!F98)","v":""},{"$f":"IF(Import!G98=\"\",\"\",Import!G98)","v":""},{"$f":"IF(Import!H98=\"\",\"\",Import!H98)","v":""},{"$f":"IF(Import!J98=\"\",\"\",Import!J98)","v":""},{"$f":"IF(Import!K98=\"\",\"\",Import!K98)","v":""},{"$f":"IF(Import!L98=\"\",\"\",Import!L98)","v":""},{"$f":"IF(Import!M98=\"\",\"\",Import!M98)","v":""},{"$f":"IF(Import!P98=\"\",\"\",Import!P98)","v":""},{"$f":"IF(Import!Q98=\"\",\"\",Import!Q98)","v":""},{"$f":"IF(Import!R98=\"\",\"\",Import!R98)","v":""},270,3.6,33,33,{"$f":"IF(Q98=\"\",\"\",(-0.00011*POWER(S98,2))+(0.01417*S98)+((0.00057*POWER(Q98,2))-(0.0529*Q98)+6.2018)+Kalkkalkyl!$AJ$2)","v":6.8665672000000004},{"$error":"#VALUE!"},null,{"$f":"IF(('PK kalkyl'!$AE$17*H98)+'PK kalkyl'!$AE$18+(('PK kalkyl'!$K$6-'PK kalkyl'!$AE$12)*'PK kalkyl'!$AE$13)<1,0,ROUND(('PK kalkyl'!$AE$17*H98)+'PK kalkyl'!$AE$18+(('PK kalkyl'!$K$6-'PK kalkyl'!$AE$12)*'PK kalkyl'!$AE$13),1))","v":{"$error":"#VALUE!"}},{"$f":"IF(('PK kalkyl'!$AE$37*I98)+'PK kalkyl'!$AE$38+(('PK kalkyl'!$K$6-'PK kalkyl'!$AE$32)*'PK kalkyl'!$AE$33)<1,0,ROUND(('PK kalkyl'!$AE$37*I98)+'PK kalkyl'!$AE$38+(('PK kalkyl'!$K$6-'PK kalkyl'!$AE$32)*'PK kalkyl'!$AE$33),1))","v":{"$error":"#VALUE!"}},{"$error":"#VALUE!"},{"$error":"#VALUE!"},{"$f":"IF((Y98<W98),Y98-W98,0)*-'PK kalkyl'!$AE$15","v":{"$error":"#VALUE!"}},{"$f":"IF((Z98<X98),Z98-X98,0)*-'PK kalkyl'!$AE$35","v":{"$error":"#VALUE!"}},{"$f":"+AA98*Växtföljd!$G$18+AB98*Växtföljd!$G$18","v":{"$error":"#VALUE!"}}]
[{"$f":"IF(Import!A99=\"\",\"\",Import!A99)","v":""},{"$f":"IF(Import!B99=\"\",\"\",Import!B99)","v":""},{"$f":"IF(Import!C99=\"\",\"\",Import!C99)","v":""},{"$f":"IF(Import!D99=\"\",\"\",Import!D99)","v":""},{"$f":"IF(Import!E99=\"\",\"\",Import!E99)","v":""},{"$f":"IF(Import!F99=\"\",\"\",Import!F99)","v":""},{"$f":"IF(Import!G99=\"\",\"\",Import!G99)","v":""},{"$f":"IF(Import!H99=\"\",\"\",Import!H99)","v":""},{"$f":"IF(Import!J99=\"\",\"\",Import!J99)","v":""},{"$f":"IF(Import!K99=\"\",\"\",Import!K99)","v":""},{"$f":"IF(Import!L99=\"\",\"\",Import!L99)","v":""},{"$f":"IF(Import!M99=\"\",\"\",Import!M99)","v":""},{"$f":"IF(Import!P99=\"\",\"\",Import!P99)","v":""},{"$f":"IF(Import!Q99=\"\",\"\",Import!Q99)","v":""},{"$f":"IF(Import!R99=\"\",\"\",Import!R99)","v":""},254.4245762721192,3.588773633267587,30.35837468776424,30.35837468776424,{"$f":"IF(Q99=\"\",\"\",(-0.00011*POWER(S99,2))+(0.01417*S99)+((0.00057*POWER(Q99,2))-(0.0529*Q99)+6.2018)+Kalkkalkyl!$AJ$2)","v":6.8480938424494457},{"$error":"#VALUE!"},null,{"$f":"IF(('PK kalkyl'!$AE$17*H99)+'PK kalkyl'!$AE$18+(('PK kalkyl'!$K$6-'PK kalkyl'!$AE$12)*'PK kalkyl'!$AE$13)<1,0,ROUND(('PK kalkyl'!$AE$17*H99)+'PK kalkyl'!$AE$18+(('PK kalkyl'!$K$6-'PK kalkyl'!$AE$12)*'PK kalkyl'!$AE$13),1))","v":{"$error":"#VALUE!"}},{"$f":"IF(('PK kalkyl'!$AE$37*I99)+'PK kalkyl'!$AE$38+(('PK kalkyl'!$K$6-'PK kalkyl'!$AE$32)*'PK kalkyl'!$AE$33)<1,0,ROUND(('PK kalkyl'!$AE$37*I99)+'PK kalkyl'!$AE$38+(('PK kalkyl'!$K$6-'PK kalkyl'!$AE$32)*'PK kalkyl'!$AE$33),1))","v":{"$error":"#VALUE!"}},{"$error":"#VALUE!"},{"$error":"#VALUE!"},{"$f":"IF((Y99<W99),Y99-W99,0)*-'PK kalkyl'!$AE$15","v":{"$error":"#VALUE!"}},{"$f":"IF((Z99<X99),Z99-X99,0)*-'PK kalkyl'!$AE$35","v":{"$error":"#VALUE!"}},{"$f":"+AA99*Växtföljd!$G$18+AB99*Växtföljd!$G$18","v":{"$error":"#VALUE!"}}]
[{"$f":"IF(Import!A100=\"\",\"\",Import!A100)","v":""},{"$f":"IF(Import!B100=\"\",\"\",Import!B100)","v":""},{"$f":"IF(Import!C100=\"\",\"\",Import!C100)","v":""},{"$f":"IF(Import!D100=\"\",\"\",Import!D100)","v":""},{"$f":"IF(Import!E100=\"\",\"\",Import!E100)","v":""},{"$f":"IF(Import!F100=\"\",\"\",Import!F100)","v":""},{"$f":"IF(Import!G100=\"\",\"\",Import!G100)","v":""},{"$f":"IF(Import!H100=\"\",\"\",Import!H100)","v":""},{"$f":"IF(Import!J100=\"\",\"\",Import!J100)","v":""},{"$f":"IF(Import!K100=\"\",\"\",Import!K100)","v":""},{"$f":"IF(Import!L100=\"\",\"\",Import!L100)","v":""},{"$f":"IF(Import!M100=\"\",\"\",Import!M100)","v":""},{"$f":"IF(Import!P100=\"\",\"\",Import!P100)","v":""},{"$f":"IF(Import!Q100=\"\",\"\",Import!Q100)","v":""},{"$f":"IF(Import!R100=\"\",\"\",Import!R100)","v":""},210,4.3,24,24,{"$f":"IF(Q100=\"\",\"\",(-0.00011*POWER(S100,2))+(0.01417*S100)+((0.00057*POWER(Q100,2))-(0.0529*Q100)+6.2018)+Kalkkalkyl!$AJ$2)","v":6.7615893000000007},{"$error":"#VALUE!"},null,{"$f":"IF(('PK kalkyl'!$AE$17*H100)+'PK kalkyl'!$AE$18+(('PK kalkyl'!$K$6-'PK kalkyl'!$AE$12)*'PK kalkyl'!$AE$13)<1,0,ROUND(('PK kalkyl'!$AE$17*H100)+'PK kalkyl'!$AE$18+(('PK kalkyl'!$K$6-'PK kalkyl'!$AE$12)*'PK kalkyl'!$AE$13),1))","v":{"$error":"#VALUE!"}},{"$f":"IF(('PK kalkyl'!$AE$37*I100)+'PK kalkyl'!$AE$38+(('PK kalkyl'!$K$6-'PK kalkyl'!$AE$32)*'PK kalkyl'!$AE$33)<1,0,ROUND(('PK kalkyl'!$AE$37*I100)+'PK kalkyl'!$AE$38+(('PK kalkyl'!$K$6-'PK kalkyl'!$AE$32)*'PK kalkyl'!$AE$33),1))","v":{"$error":"#VALUE!"}},{"$error":"#VALUE!"},{"$error":"#VALUE!"},{"$f":"IF((Y100<W100),Y100-W100,0)*-'PK kalkyl'!$AE$15","v":{"$error":"#VALUE!"}},{"$f":"IF((Z100<X100),Z100-X100,0)*-'PK kalkyl'!$AE$35","v":{"$error":"#VALUE!"}},{"$f":"+AA100*Växtföljd!$G$18+AB100*Växtföljd!$G$18","v":{"$error":"#VALUE!"}}]
[{"$f":"IF(Import!A101=\"\",\"\",Import!A101)","v":""},{"$f":"IF(Import!B101=\"\",\"\",Import!B101)","v":""},{"$f":"IF(Import!C101=\"\",\"\",Import!C101)","v":""},{"$f":"IF(Import!D101=\"\",\"\",Import!D101)","v":""},{"$f":"IF(Import!E101=\"\",\"\",Import!E101)","v":""},{"$f":"IF(Import!F101=\"\",\"\",Import!F101)","v":""},{"$f":"IF(Import!G101=\"\",\"\",Import!G101)","v":""},{"$f":"IF(Import!H101=\"\",\"\",Import!H101)","v":""},{"$f":"IF(Import!J101=\"\",\"\",Import!J101)","v":""},{"$f":"IF(Import!K101=\"\",\"\",Import!K101)","v":""},{"$f":"IF(Import!L101=\"\",\"\",Import!L101)","v":""},{"$f":"IF(Import!M101=\"\",\"\",Import!M101)","v":""},{"$f":"IF(Import!P101=\"\",\"\",Import!P101)","v":""},{"$f":"IF(Import!Q101=\"\",\"\",Import!Q101)","v":""},{"$f":"IF(Import!R101=\"\",\"\",Import!R101)","v":""},224.55625895279292,3.984727784169106,26.468619609206506,26.468619609206506,{"$f":"IF(Q101=\"\",\"\",(-0.00011*POWER(S101,2))+(0.01417*S101)+((0.00057*POWER(Q101,2))-(0.0529*Q101)+6.2018)+Kalkkalkyl!$AJ$2)","v":6.798054071080994},{"$error":"#VALUE!"},null,{"$f":"IF(('PK kalkyl'!$AE$17*H101)+'PK kalkyl'!$AE$18+(('PK kalkyl'!$K$6-'PK kalkyl'!$AE$12)*'PK kalkyl'!$AE$13)<1,0,ROUND(('PK kalkyl'!$AE$17*H101)+'PK kalkyl'!$AE$18+(('PK kalkyl'!$K$6-'PK kalkyl'!$AE$12)*'PK kalkyl'!$AE$13),1))","v":{"$error":"#VALUE!"}},{"$f":"IF(('PK kalkyl'!$AE$37*I101)+'PK kalkyl'!$AE$38+(('PK kalkyl'!$K$6-'PK kalkyl'!$AE$32)*'PK kalkyl'!$AE$33)<1,0,ROUND(('PK kalkyl'!$AE$37*I101)+'PK kalkyl'!$AE$38+(('PK kalkyl'!$K$6-'PK kalkyl'!$AE$32)*'PK kalkyl'!$AE$33),1))","v":{"$error":"#VALUE!"}},{"$error":"#VALUE!"},{"$error":"#VALUE!"},{"$f":"IF((Y101<W101),Y101-W101,0)*-'PK kalkyl'!$AE$15","v":{"$error":"#VALUE!"}},{"$f":"IF((Z101<X101),Z101-X101,0)*-'PK kalkyl'!$AE$35","v":{"$error":"#VALUE!"}},{"$f":"+AA101*Växtföljd!$G$18+AB101*Växtföljd!$G$18","v":{"$error":"#VALUE!"}}]
[{"$f":"IF(Import!A102=\"\",\"\",Import!A102)","v":""},{"$f":"IF(Import!B102=\"\",\"\",Import!B102)","v":""},{"$f":"IF(Import!C102=\"\",\"\",Import!C102)","v":""},{"$f":"IF(Import!D102=\"\",\"\",Import!D102)","v":""},{"$f":"IF(Import!E102=\"\",\"\",Import!E102)","v":""},{"$f":"IF(Import!F102=\"\",\"\",Import!F102)","v":""},{"$f":"IF(Import!G102=\"\",\"\",Import!G102)","v":""},{"$f":"IF(Import!H102=\"\",\"\",Import!H102)","v":""},{"$f":"IF(Import!J102=\"\",\"\",Import!J102)","v":""},{"$f":"IF(Import!K102=\"\",\"\",Import!K102)","v":""},{"$f":"IF(Import!L102=\"\",\"\",Import!L102)","v":""},{"$f":"IF(Import!M102=\"\",\"\",Import!M102)","v":""},{"$f":"IF(Import!P102=\"\",\"\",Import!P102)","v":""},{"$f":"IF(Import!Q102=\"\",\"\",Import!Q102)","v":""},{"$f":"IF(Import!R102=\"\",\"\",Import!R102)","v":""},260,2.9,32,32,{"$f":"IF(Q102=\"\",\"\",(-0.00011*POWER(S102,2))+(0.01417*S102)+((0.00057*POWER(Q102,2))-(0.0529*Q102)+6.2018)+Kalkkalkyl!$AJ$2)","v":6.8939837000000006},{"$error":"#VALUE!"},null,{"$f":"IF(('PK kalkyl'!$AE$17*H102)+'PK kalkyl'!$AE$18+(('PK kalkyl'!$K$6-'PK kalkyl'!$AE$12)*'PK kalkyl'!$AE$13)<1,0,ROUND(('PK kalkyl'!$AE$17*H102)+'PK kalkyl'!$AE$18+(('PK kalkyl'!$K$6-'PK kalkyl'!$AE$12)*'PK kalkyl'!$AE$13),1))","v":{"$error":"#VALUE!"}},{"$f":"IF(('PK kalkyl'!$AE$37*I102)+'PK kalkyl'!$AE$38+(('PK kalkyl'!$K$6-'PK kalkyl'!$AE$32)*'PK kalkyl'!$AE$33)<1,0,ROUND(('PK kalkyl'!$AE$37*I102)+'PK kalkyl'!$AE$38+(('PK kalkyl'!$K$6-'PK kalkyl'!$AE$32)*'PK kalkyl'!$AE$33),1))","v":{"$error":"#VALUE!"}},{"$error":"#VALUE!"},{"$error":"#VALUE!"},{"$f":"IF((Y102<W102),Y102-W102,0)*-'PK kalkyl'!$AE$15","v":{"$error":"#VALUE!"}},{"$f":"IF((Z102<X102),Z102-X102,0)*-'PK kalkyl'!$AE$35","v":{"$error":"#VALUE!"}},{"$f":"+AA102*Växtföljd!$G$18+AB102*Växtföljd!$G$18","v":{"$error":"#VALUE!"}}]
[{"$f":"IF(Import!A103=\"\",\"\",Import!A103)","v":""},{"$f":"IF(Import!B103=\"\",\"\",Import!B103)","v":""},{"$f":"IF(Import!C103=\"\",\"\",Import!C103)","v":""},{"$f":"IF(Import!D103=\"\",\"\",Import!D103)","v":""},{"$f":"IF(Import!E103=\"\",\"\",Import!E103)","v":""},{"$f":"IF(Import!F103=\"\",\"\",Import!F103)","v":""},{"$f":"IF(Import!G103=\"\",\"\",Import!G103)","v":""},{"$f":"IF(Import!H103=\"\",\"\",Import!H103)","v":""},{"$f":"IF(Import!J103=\"\",\"\",Import!J103)","v":""},{"$f":"IF(Import!K103=\"\",\"\",Import!K103)","v":""},{"$f":"IF(Import!L103=\"\",\"\",Import!L103)","v":""},{"$f":"IF(Import!M103=\"\",\"\",Import!M103)","v":""},{"$f":"IF(Import!P103=\"\",\"\",Import!P103)","v":""},{"$f":"IF(Import!Q103=\"\",\"\",Import!Q103)","v":""},{"$f":"IF(Import!R103=\"\",\"\",Import!R103)","v":""},277.61099827288143,2.9258976054057371,33.179508046671579,33.179508046671579,{"$f":"IF(Q103=\"\",\"\",(-0.00011*POWER(S103,2))+(0.01417*S103)+((0.00057*POWER(Q103,2))-(0.0529*Q103)+6.2018)+Kalkkalkyl!$AJ$2)","v":6.9009565725057396},{"$error":"#VALUE!"},null,{"$f":"IF(('PK kalkyl'!$AE$17*H103)+'PK kalkyl'!$AE$18+(('PK kalkyl'!$K$6-'PK kalkyl'!$AE$12)*'PK kalkyl'!$AE$13)<1,0,ROUND(('PK kalkyl'!$AE$17*H103)+'PK kalkyl'!$AE$18+(('PK kalkyl'!$K$6-'PK kalkyl'!$AE$12)*'PK kalkyl'!$AE$13),1))","v":{"$error":"#VALUE!"}},{"$f":"IF(('PK kalkyl'!$AE$37*I103)+'PK kalkyl'!$AE$38+(('PK kalkyl'!$K$6-'PK kalkyl'!$AE$32)*'PK kalkyl'!$AE$33)<1,0,ROUND(('PK kalkyl'!$AE$37*I103)+'PK kalkyl'!$AE$38+(('PK kalkyl'!$K$6-'PK kalkyl'!$AE$32)*'PK kalkyl'!$AE$33),1))","v":{"$error":"#VALUE!"}},{"$error":"#VALUE!"},{"$error":"#VALUE!"},{"$f":"IF((Y103<W103),Y103-W103,0)*-'PK kalkyl'!$AE$15","v":{"$error":"#VALUE!"}},{"$f":"IF((Z103<X103),Z103-X103,0)*-'PK kalkyl'!$AE$35","v":{"$error":"#VALUE!"}},{"$f":"+AA103*Växtföljd!$G$18+AB103*Växtföljd!$G$18","v":{"$error":"#VALUE!"}}]
[{"$f":"IF(Import!A104=\"\",\"\",Import!A104)","v":""},{"$f":"IF(Import!B104=\"\",\"\",Import!B104)","v":""},{"$f":"IF(Import!C104=\"\",\"\",Import!C104)","v":""},{"$f":"IF(Import!D104=\"\",\"\",Import!D104)","v":""},{"$f":"IF(Import!E104=\"\",\"\",Import!E104)","v":""},{"$f":"IF(Import!F104=\"\",\"\",Import!F104)","v":""},{"$f":"IF(Import!G104=\"\",\"\",Import!G104)","v":""},{"$f":"IF(Import!H104=\"\",\"\",Import!H104)","v":""},{"$f":"IF(Import!J104=\"\",\"\",Import!J104)","v":""},{"$f":"IF(Import!K104=\"\",\"\",Import!K104)","v":""},{"$f":"IF(Import!L104=\"\",\"\",Import!L104)","v":""},{"$f":"IF(Import!M104=\"\",\"\",Import!M104)","v":""},{"$f":"IF(Import!P104=\"\",\"\",Import!P104)","v":""},{"$f":"IF(Import!Q104=\"\",\"\",Import!Q104)","v":""},{"$f":"IF(Import!R104=\"\",\"\",Import!R104)","v":""},300,2.6,34,34,{"$f":"IF(Q104=\"\",\"\",(-0.00011*POWER(S104,2))+(0.01417*S104)+((0.00057*POWER(Q104,2))-(0.0529*Q104)+6.2018)+Kalkkalkyl!$AJ$2)","v":6.9227331999999997},{"$error":"#VALUE!"},null,{"$f":"IF(('PK kalkyl'!$AE$17*H104)+'PK kalkyl'!$AE$18+(('PK kalkyl'!$K$6-'PK kalkyl'!$AE$12)*'PK kalkyl'!$AE$13)<1,0,ROUND(('PK kalkyl'!$AE$17*H104)+'PK kalkyl'!$AE$18+(('PK kalkyl'!$K$6-'PK kalkyl'!$AE$12)*'PK kalkyl'!$AE$13),1))","v":{"$error":"#VALUE!"}},{"$f":"IF(('PK kalkyl'!$AE$37*I104)+'PK kalkyl'!$AE$38+(('PK kalkyl'!$K$6-'PK kalkyl'!$AE$32)*'PK kalkyl'!$AE$33)<1,0,ROUND(('PK kalkyl'!$AE$37*I104)+'PK kalkyl'!$AE$38+(('PK kalkyl'!$K$6-'PK kalkyl'!$AE$32)*'PK kalkyl'!$AE$33),1))","v":{"$error":"#VALUE!"}},{"$error":"#VALUE!"},{"$error":"#VALUE!"},{"$f":"IF((Y104<W104),Y104-W104,0)*-'PK kalkyl'!$AE$15","v":{"$error":"#VALUE!"}},{"$f":"IF((Z104<X104),Z104-X104,0)*-'PK kalkyl'!$AE$35","v":{"$error":"#VALUE!"}},{"$f":"+AA104*Växtföljd!$G$18+AB104*Växtföljd!$G$18","v":{"$error":"#VALUE!"}}]
[{"$f":"IF(Import!A105=\"\",\"\",Import!A105)","v":""},{"$f":"IF(Import!B105=\"\",\"\",Import!B105)","v":""},{"$f":"IF(Import!C105=\"\",\"\",Import!C105)","v":""},{"$f":"IF(Import!D105=\"\",\"\",Import!D105)","v":""},{"$f":"IF(Import!E105=\"\",\"\",Import!E105)","v":""},{"$f":"IF(Import!F105=\"\",\"\",Import!F105)","v":""},{"$f":"IF(Import!G105=\"\",\"\",Import!G105)","v":""},{"$f":"IF(Import!H105=\"\",\"\",Import!H105)","v":""},{"$f":"IF(Import!J105=\"\",\"\",Import!J105)","v":""},{"$f":"IF(Import!K105=\"\",\"\",Import!K105)","v":""},{"$f":"IF(Import!L105=\"\",\"\",Import!L105)","v":""},{"$f":"IF(Import!M105=\"\",\"\",Import!M105)","v":""},{"$f":"IF(Import!P105=\"\",\"\",Import!P105)","v":""},{"$f":"IF(Import!Q105=\"\",\"\",Import!Q105)","v":""},{"$f":"IF(Import!R105=\"\",\"\",Import!R105)","v":""},331.23870538991542,2.7341768552155092,35.618940478197295,35.618940478197295,{"$f":"IF(Q105=\"\",\"\",(-0.00011*POWER(S105,2))+(0.01417*S105)+((0.00057*POWER(Q105,2))-(0.0529*Q105)+6.2018)+Kalkkalkyl!$AJ$2)","v":6.926585611801416},{"$error":"#VALUE!"},null,{"$f":"IF(('PK kalkyl'!$AE$17*H105)+'PK kalkyl'!$AE$18+(('PK kalkyl'!$K$6-'PK kalkyl'!$AE$12)*'PK kalkyl'!$AE$13)<1,0,ROUND(('PK kalkyl'!$AE$17*H105)+'PK kalkyl'!$AE$18+(('PK kalkyl'!$K$6-'PK kalkyl'!$AE$12)*'PK kalkyl'!$AE$13),1))","v":{"$error":"#VALUE!"}},{"$f":"IF(('PK kalkyl'!$AE$37*I105)+'PK kalkyl'!$AE$38+(('PK kalkyl'!$K$6-'PK kalkyl'!$AE$32)*'PK kalkyl'!$AE$33)<1,0,ROUND(('PK kalkyl'!$AE$37*I105)+'PK kalkyl'!$AE$38+(('PK kalkyl'!$K$6-'PK kalkyl'!$AE$32)*'PK kalkyl'!$AE$33),1))","v":{"$error":"#VALUE!"}},{"$error":"#VALUE!"},{"$error":"#VALUE!"},{"$f":"IF((Y105<W105),Y105-W105,0)*-'PK kalkyl'!$AE$15","v":{"$error":"#VALUE!"}},{"$f":"IF((Z105<X105),Z105-X105,0)*-'PK kalkyl'!$AE$35","v":{"$error":"#VALUE!"}},{"$f":"+AA105*Växtföljd!$G$18+AB105*Växtföljd!$G$18","v":{"$error":"#VALUE!"}}]
[{"$f":"IF(Import!A106=\"\",\"\",Import!A106)","v":""},{"$f":"IF(Import!B106=\"\",\"\",Import!B106)","v":""},{"$f":"IF(Import!C106=\"\",\"\",Import!C106)","v":""},{"$f":"IF(Import!D106=\"\",\"\",Import!D106)","v":""},{"$f":"IF(Import!E106=\"\",\"\",Import!E106)","v":""},{"$f":"IF(Import!F106=\"\",\"\",Import!F106)","v":""},{"$f":"IF(Import!G106=\"\",\"\",Import!G106)","v":""},{"$f":"IF(Import!H106=\"\",\"\",Import!H106)","v":""},{"$f":"IF(Import!J106=\"\",\"\",Import!J106)","v":""},{"$f":"IF(Import!K106=\"\",\"\",Import!K106)","v":""},{"$f":"IF(Import!L106=\"\",\"\",Import!L106)","v":""},{"$f":"IF(Import!M106=\"\",\"\",Import!M106)","v":""},{"$f":"IF(Import!P106=\"\",\"\",Import!P106)","v":""},{"$f":"IF(Import!Q106=\"\",\"\",Import!Q106)","v":""},{"$f":"IF(Import!R106=\"\",\"\",Import!R106)","v":""},230,3.5,32,32,{"$f":"IF(Q106=\"\",\"\",(-0.00011*POWER(S106,2))+(0.01417*S106)+((0.00057*POWER(Q106,2))-(0.0529*Q106)+6.2018)+Kalkkalkyl!$AJ$2)","v":6.8644325000000004},{"$error":"#VALUE!"},null,{"$f":"IF(('PK kalkyl'!$AE$17*H106)+'PK kalkyl'!$AE$18+(('PK kalkyl'!$K$6-'PK kalkyl'!$AE$12)*'PK kalkyl'!$AE$13)<1,0,ROUND(('PK kalkyl'!$AE$17*H106)+'PK kalkyl'!$AE$18+(('PK kalkyl'!$K$6-'PK kalkyl'!$AE$12)*'PK kalkyl'!$AE$13),1))","v":{"$error":"#VALUE!"}},{"$f":"IF(('PK kalkyl'!$AE$37*I106)+'PK kalkyl'!$AE$38+(('PK kalkyl'!$K$6-'PK kalkyl'!$AE$32)*'PK kalkyl'!$AE$33)<1,0,ROUND(('PK kalkyl'!$AE$37*I106)+'PK kalkyl'!$AE$38+(('PK kalkyl'!$K$6-'PK kalkyl'!$AE$32)*'PK kalkyl'!$AE$33),1))","v":{"$error":"#VALUE!"}},{"$error":"#VALUE!"},{"$error":"#VALUE!"},{"$f":"IF((Y106<W106),Y106-W106,0)*-'PK kalkyl'!$AE$15","v":{"$error":"#VALUE!"}},{"$f":"IF((Z106<X106),Z106-X106,0)*-'PK kalkyl'!$AE$35","v":{"$error":"#VALUE!"}},{"$f":"+AA106*Växtföljd!$G$18+AB106*Växtföljd!$G$18","v":{"$error":"#VALUE!"}}]
[{"$f":"IF(Import!A107=\"\",\"\",Import!A107)","v":""},{"$f":"IF(Import!B107=\"\",\"\",Import!B107)","v":""},{"$f":"IF(Import!C107=\"\",\"\",Import!C107)","v":""},{"$f":"IF(Import!D107=\"\",\"\",Import!D107)","v":""},{"$f":"IF(Import!E107=\"\",\"\",Import!E107)","v":""},{"$f":"IF(Import!F107=\"\",\"\",Import!F107)","v":""},{"$f":"IF(Import!G107=\"\",\"\",Import!G107)","v":""},{"$f":"IF(Import!H107=\"\",\"\",Import!H107)","v":""},{"$f":"IF(Import!J107=\"\",\"\",Import!J107)","v":""},{"$f":"IF(Import!K107=\"\",\"\",Import!K107)","v":""},{"$f":"IF(Import!L107=\"\",\"\",Import!L107)","v":""},{"$f":"IF(Import!M107=\"\",\"\",Import!M107)","v":""},{"$f":"IF(Import!P107=\"\",\"\",Import!P107)","v":""},{"$f":"IF(Import!Q107=\"\",\"\",Import!Q107)","v":""},{"$f":"IF(Import!R107=\"\",\"\",Import!R107)","v":""},295.103945496444,3.3809957909907928,34.622249186947279,34.622249186947279,{"$f":"IF(Q107=\"\",\"\",(-0.00011*POWER(S107,2))+(0.01417*S107)+((0.00057*POWER(Q107,2))-(0.0529*Q107)+6.2018)+Kalkkalkyl!$AJ$2)","v":6.8882013239187501},{"$error":"#VALUE!"},null,{"$f":"IF(('PK kalkyl'!$AE$17*H107)+'PK kalkyl'!$AE$18+(('PK kalkyl'!$K$6-'PK kalkyl'!$AE$12)*'PK kalkyl'!$AE$13)<1,0,ROUND(('PK kalkyl'!$AE$17*H107)+'PK kalkyl'!$AE$18+(('PK kalkyl'!$K$6-'PK kalkyl'!$AE$12)*'PK kalkyl'!$AE$13),1))","v":{"$error":"#VALUE!"}},{"$f":"IF(('PK kalkyl'!$AE$37*I107)+'PK kalkyl'!$AE$38+(('PK kalkyl'!$K$6-'PK kalkyl'!$AE$32)*'PK kalkyl'!$AE$33)<1,0,ROUND(('PK kalkyl'!$AE$37*I107)+'PK kalkyl'!$AE$38+(('PK kalkyl'!$K$6-'PK kalkyl'!$AE$32)*'PK kalkyl'!$AE$33),1))","v":{"$error":"#VALUE!"}},{"$error":"#VALUE!"},{"$error":"#VALUE!"},{"$f":"IF((Y107<W107),Y107-W107,0)*-'PK kalkyl'!$AE$15","v":{"$error":"#VALUE!"}},{"$f":"IF((Z107<X107),Z107-X107,0)*-'PK kalkyl'!$AE$35","v":{"$error":"#VALUE!"}},{"$f":"+AA107*Växtföljd!$G$18+AB107*Växtföljd!$G$18","v":{"$error":"#VALUE!"}}]
[{"$f":"IF(Import!A108=\"\",\"\",Import!A108)","v":""},{"$f":"IF(Import!B108=\"\",\"\",Import!B108)","v":""},{"$f":"IF(Import!C108=\"\",\"\",Import!C108)","v":""},{"$f":"IF(Import!D108=\"\",\"\",Import!D108)","v":""},{"$f":"IF(Import!E108=\"\",\"\",Import!E108)","v":""},{"$f":"IF(Import!F108=\"\",\"\",Import!F108)","v":""},{"$f":"IF(Import!G108=\"\",\"\",Import!G108)","v":""},{"$f":"IF(Import!H108=\"\",\"\",Import!H108)","v":""},{"$f":"IF(Import!J108=\"\",\"\",Import!J108)","v":""},{"$f":"IF(Import!K108=\"\",\"\",Import!K108)","v":""},{"$f":"IF(Import!L108=\"\",\"\",Import!L108)","v":""},{"$f":"IF(Import!M108=\"\",\"\",Import!M108)","v":""},{"$f":"IF(Import!P108=\"\",\"\",Import!P108)","v":""},{"$f":"IF(Import!Q108=\"\",\"\",Import!Q108)","v":""},{"$f":"IF(Import!R108=\"\",\"\",Import!R108)","v":""},410,2.5,39,39,{"$f":"IF(Q108=\"\",\"\",(-0.00011*POWER(S108,2))+(0.01417*S108)+((0.00057*POWER(Q108,2))-(0.0529*Q108)+6.2018)+Kalkkalkyl!$AJ$2)","v":6.9584325000000007},{"$error":"#VALUE!"},null,{"$f":"IF(('PK kalkyl'!$AE$17*H108)+'PK kalkyl'!$AE$18+(('PK kalkyl'!$K$6-'PK kalkyl'!$AE$12)*'PK kalkyl'!$AE$13)<1,0,ROUND(('PK kalkyl'!$AE$17*H108)+'PK kalkyl'!$AE$18+(('PK kalkyl'!$K$6-'PK kalkyl'!$AE$12)*'PK kalkyl'!$AE$13),1))","v":{"$error":"#VALUE!"}},{"$f":"IF(('PK kalkyl'!$AE$37*I108)+'PK kalkyl'!$AE$38+(('PK kalkyl'!$K$6-'PK kalkyl'!$AE$32)*'PK kalkyl'!$AE$33)<1,0,ROUND(('PK kalkyl'!$AE$37*I108)+'PK kalkyl'!$AE$38+(('PK kalkyl'!$K$6-'PK kalkyl'!$AE$32)*'PK kalkyl'!$AE$33),1))","v":{"$error":"#VALUE!"}},{"$error":"#VALUE!"},{"$error":"#VALUE!"},{"$f":"IF((Y108<W108),Y108-W108,0)*-'PK kalkyl'!$AE$15","v":{"$error":"#VALUE!"}},{"$f":"IF((Z108<X108),Z108-X108,0)*-'PK kalkyl'!$AE$35","v":{"$error":"#VALUE!"}},{"$f":"+AA108*Växtföljd!$G$18+AB108*Växtföljd!$G$18","v":{"$error":"#VALUE!"}}]
[{"$f":"IF(Import!A109=\"\",\"\",Import!A109)","v":""},{"$f":"IF(Import!B109=\"\",\"\",Import!B109)","v":""},{"$f":"IF(Import!C109=\"\",\"\",Import!C109)","v":""},{"$f":"IF(Import!D109=\"\",\"\",Import!D109)","v":""},{"$f":"IF(Import!E109=\"\",\"\",Import!E109)","v":""},{"$f":"IF(Import!F109=\"\",\"\",Import!F109)","v":""},{"$f":"IF(Import!G109=\"\",\"\",Import!G109)","v":""},{"$f":"IF(Import!H109=\"\",\"\",Import!H109)","v":""},{"$f":"IF(Import!J109=\"\",\"\",Import!J109)","v":""},{"$f":"IF(Import!K109=\"\",\"\",Import!K109)","v":""},{"$f":"IF(Import!L109=\"\",\"\",Import!L109)","v":""},{"$f":"IF(Import!M109=\"\",\"\",Import!M109)","v":""},{"$f":"IF(Import!P109=\"\",\"\",Import!P109)","v":""},{"$f":"IF(Import!Q109=\"\",\"\",Import!Q109)","v":""},{"$f":"IF(Import!R109=\"\",\"\",Import!R109)","v":""},392.37662237465372,2.5884328603024649,38.056504990038313,38.056504990038313,{"$f":"IF(Q109=\"\",\"\",(-0.00011*POWER(S109,2))+(0.01417*S109)+((0.00057*POWER(Q109,2))-(0.0529*Q109)+6.2018)+Kalkkalkyl!$AJ$2)","v":6.9486388357358013},{"$error":"#VALUE!"},null,{"$f":"IF(('PK kalkyl'!$AE$17*H109)+'PK kalkyl'!$AE$18+(('PK kalkyl'!$K$6-'PK kalkyl'!$AE$12)*'PK kalkyl'!$AE$13)<1,0,ROUND(('PK kalkyl'!$AE$17*H109)+'PK kalkyl'!$AE$18+(('PK kalkyl'!$K$6-'PK kalkyl'!$AE$12)*'PK kalkyl'!$AE$13),1))","v":{"$error":"#VALUE!"}},{"$f":"IF(('PK kalkyl'!$AE$37*I109)+'PK kalkyl'!$AE$38+(('PK kalkyl'!$K$6-'PK kalkyl'!$AE$32)*'PK kalkyl'!$AE$33)<1,0,ROUND(('PK kalkyl'!$AE$37*I109)+'PK kalkyl'!$AE$38+(('PK kalkyl'!$K$6-'PK kalkyl'!$AE$32)*'PK kalkyl'!$AE$33),1))","v":{"$error":"#VALUE!"}},{"$error":"#VALUE!"},{"$error":"#VALUE!"},{"$f":"IF((Y109<W109),Y109-W109,0)*-'PK kalkyl'!$AE$15","v":{"$error":"#VALUE!"}},{"$f":"IF((Z109<X109),Z109-X109,0)*-'PK kalkyl'!$AE$35","v":{"$error":"#VALUE!"}},{"$f":"+AA109*Växtföljd!$G$18+AB109*Växtföljd!$G$18","v":{"$error":"#VALUE!"}}]
[{"$f":"IF(Import!A110=\"\",\"\",Import!A110)","v":""},{"$f":"IF(Import!B110=\"\",\"\",Import!B110)","v":""},{"$f":"IF(Import!C110=\"\",\"\",Import!C110)","v":""},{"$f":"IF(Import!D110=\"\",\"\",Import!D110)","v":""},{"$f":"IF(Import!E110=\"\",\"\",Import!E110)","v":""},{"$f":"IF(Import!F110=\"\",\"\",Import!F110)","v":""},{"$f":"IF(Import!G110=\"\",\"\",Import!G110)","v":""},{"$f":"IF(Import!H110=\"\",\"\",Import!H110)","v":""},{"$f":"IF(Import!J110=\"\",\"\",Import!J110)","v":""},{"$f":"IF(Import!K110=\"\",\"\",Import!K110)","v":""},{"$f":"IF(Import!L110=\"\",\"\",Import!L110)","v":""},{"$f":"IF(Import!M110=\"\",\"\",Import!M110)","v":""},{"$f":"IF(Import!P110=\"\",\"\",Import!P110)","v":""},{"$f":"IF(Import!Q110=\"\",\"\",Import!Q110)","v":""},{"$f":"IF(Import!R110=\"\",\"\",Import!R110)","v":""},250,3,30,30,{"$f":"IF(Q110=\"\",\"\",(-0.00011*POWER(S110,2))+(0.01417*S110)+((0.00057*POWER(Q110,2))-(0.0529*Q110)+6.2018)+Kalkkalkyl!$AJ$2)","v":6.8743300000000005},{"$error":"#VALUE!"},null,{"$f":"IF(('PK kalkyl'!$AE$17*H110)+'PK kalkyl'!$AE$18+(('PK kalkyl'!$K$6-'PK kalkyl'!$AE$12)*'PK kalkyl'!$AE$13)<1,0,ROUND(('PK kalkyl'!$AE$17*H110)+'PK kalkyl'!$AE$18+(('PK kalkyl'!$K$6-'PK kalkyl'!$AE$12)*'PK kalkyl'!$AE$13),1))","v":{"$error":"#VALUE!"}},{"$f":"IF(('PK kalkyl'!$AE$37*I110)+'PK kalkyl'!$AE$38+(('PK kalkyl'!$K$6-'PK kalkyl'!$AE$32)*'PK kalkyl'!$AE$33)<1,0,ROUND(('PK kalkyl'!$AE$37*I110)+'PK kalkyl'!$AE$38+(('PK kalkyl'!$K$6-'PK kalkyl'!$AE$32)*'PK kalkyl'!$AE$33),1))","v":{"$error":"#VALUE!"}},{"$error":"#VALUE!"},{"$error":"#VALUE!"},{"$f":"IF((Y110<W110),Y110-W110,0)*-'PK kalkyl'!$AE$15","v":{"$error":"#VALUE!"}},{"$f":"IF((Z110<X110),Z110-X110,0)*-'PK kalkyl'!$AE$35","v":{"$error":"#VALUE!"}},{"$f":"+AA110*Växtföljd!$G$18+AB110*Växtföljd!$G$18","v":{"$error":"#VALUE!"}}]
[{"$f":"IF(Import!A111=\"\",\"\",Import!A111)","v":""},{"$f":"IF(Import!B111=\"\",\"\",Import!B111)","v":""},{"$f":"IF(Import!C111=\"\",\"\",Import!C111)","v":""},{"$f":"IF(Import!D111=\"\",\"\",Import!D111)","v":""},{"$f":"IF(Import!E111=\"\",\"\",Import!E111)","v":""},{"$f":"IF(Import!F111=\"\",\"\",Import!F111)","v":""},{"$f":"IF(Import!G111=\"\",\"\",Import!G111)","v":""},{"$f":"IF(Import!H111=\"\",\"\",Import!H111)","v":""},{"$f":"IF(Import!J111=\"\",\"\",Import!J111)","v":""},{"$f":"IF(Import!K111=\"\",\"\",Import!K111)","v":""},{"$f":"IF(Import!L111=\"\",\"\",Import!L111)","v":""},{"$f":"IF(Import!M111=\"\",\"\",Import!M111)","v":""},{"$f":"IF(Import!P111=\"\",\"\",Import!P111)","v":""},{"$f":"IF(Import!Q111=\"\",\"\",Import!Q111)","v":""},{"$f":"IF(Import!R111=\"\",\"\",Import!R111)","v":""},271.83422303071796,3.5158201764354269,31.742089765361072,31.742089765361072,{"$f":"IF(Q111=\"\",\"\",(-0.00011*POWER(S111,2))+(0.01417*S111)+((0.00057*POWER(Q111,2))-(0.0529*Q111)+6.2018)+Kalkkalkyl!$AJ$2)","v":6.8618126609102141},{"$error":"#VALUE!"},null,{"$f":"IF(('PK kalkyl'!$AE$17*H111)+'PK kalkyl'!$AE$18+(('PK kalkyl'!$K$6-'PK kalkyl'!$AE$12)*'PK kalkyl'!$AE$13)<1,0,ROUND(('PK kalkyl'!$AE$17*H111)+'PK kalkyl'!$AE$18+(('PK kalkyl'!$K$6-'PK kalkyl'!$AE$12)*'PK kalkyl'!$AE$13),1))","v":{"$error":"#VALUE!"}},{"$f":"IF(('PK kalkyl'!$AE$37*I111)+'PK kalkyl'!$AE$38+(('PK kalkyl'!$K$6-'PK kalkyl'!$AE$32)*'PK kalkyl'!$AE$33)<1,0,ROUND(('PK kalkyl'!$AE$37*I111)+'PK kalkyl'!$AE$38+(('PK kalkyl'!$K$6-'PK kalkyl'!$AE$32)*'PK kalkyl'!$AE$33),1))","v":{"$error":"#VALUE!"}},{"$error":"#VALUE!"},{"$error":"#VALUE!"},{"$f":"IF((Y111<W111),Y111-W111,0)*-'PK kalkyl'!$AE$15","v":{"$error":"#VALUE!"}},{"$f":"IF((Z111<X111),Z111-X111,0)*-'PK kalkyl'!$AE$35","v":{"$error":"#VALUE!"}},{"$f":"+AA111*Växtföljd!$G$18+AB111*Växtföljd!$G$18","v":{"$error":"#VALUE!"}}]
[{"$f":"IF(Import!A112=\"\",\"\",Import!A112)","v":""},{"$f":"IF(Import!B112=\"\",\"\",Import!B112)","v":""},{"$f":"IF(Import!C112=\"\",\"\",Import!C112)","v":""},{"$f":"IF(Import!D112=\"\",\"\",Import!D112)","v":""},{"$f":"IF(Import!E112=\"\",\"\",Import!E112)","v":""},{"$f":"IF(Import!F112=\"\",\"\",Import!F112)","v":""},{"$f":"IF(Import!G112=\"\",\"\",Import!G112)","v":""},{"$f":"IF(Import!H112=\"\",\"\",Import!H112)","v":""},{"$f":"IF(Import!J112=\"\",\"\",Import!J112)","v":""},{"$f":"IF(Import!K112=\"\",\"\",Import!K112)","v":""},{"$f":"IF(Import!L112=\"\",\"\",Import!L112)","v":""},{"$f":"IF(Import!M112=\"\",\"\",Import!M112)","v":""},{"$f":"IF(Import!P112=\"\",\"\",Import!P112)","v":""},{"$f":"IF(Import!Q112=\"\",\"\",Import!Q112)","v":""},{"$f":"IF(Import!R112=\"\",\"\",Import!R112)","v":""},270,3.9,34,34,{"$f":"IF(Q112=\"\",\"\",(-0.00011*POWER(S112,2))+(0.01417*S112)+((0.00057*POWER(Q112,2))-(0.0529*Q112)+6.2018)+Kalkkalkyl!$AJ$2)","v":6.8587797000000004},{"$error":"#VALUE!"},null,{"$f":"IF(('PK kalkyl'!$AE$17*H112)+'PK kalkyl'!$AE$18+(('PK kalkyl'!$K$6-'PK kalkyl'!$AE$12)*'PK kalkyl'!$AE$13)<1,0,ROUND(('PK kalkyl'!$AE$17*H112)+'PK kalkyl'!$AE$18+(('PK kalkyl'!$K$6-'PK kalkyl'!$AE$12)*'PK kalkyl'!$AE$13),1))","v":{"$error":"#VALUE!"}},{"$f":"IF(('PK kalkyl'!$AE$37*I112)+'PK kalkyl'!$AE$38+(('PK kalkyl'!$K$6-'PK kalkyl'!$AE$32)*'PK kalkyl'!$AE$33)<1,0,ROUND(('PK kalkyl'!$AE$37*I112)+'PK kalkyl'!$AE$38+(('PK kalkyl'!$K$6-'PK kalkyl'!$AE$32)*'PK kalkyl'!$AE$33),1))","v":{"$error":"#VALUE!"}},{"$error":"#VALUE!"},{"$error":"#VALUE!"},{"$f":"IF((Y112<W112),Y112-W112,0)*-'PK kalkyl'!$AE$15","v":{"$error":"#VALUE!"}},{"$f":"IF((Z112<X112),Z112-X112,0)*-'PK kalkyl'!$AE$35","v":{"$error":"#VALUE!"}},{"$f":"+AA112*Växtföljd!$G$18+AB112*Växtföljd!$G$18","v":{"$error":"#VALUE!"}}]
[{"$f":"IF(Import!A113=\"\",\"\",Import!A113)","v":""},{"$f":"IF(Import!B113=\"\",\"\",Import!B113)","v":""},{"$f":"IF(Import!C113=\"\",\"\",Import!C113)","v":""},{"$f":"IF(Import!D113=\"\",\"\",Import!D113)","v":""},{"$f":"IF(Import!E113=\"\",\"\",Import!E113)","v":""},{"$f":"IF(Import!F113=\"\",\"\",Import!F113)","v":""},{"$f":"IF(Import!G113=\"\",\"\",Import!G113)","v":""},{"$f":"IF(Import!H113=\"\",\"\",Import!H113)","v":""},{"$f":"IF(Import!J113=\"\",\"\",Import!J113)","v":""},{"$f":"IF(Import!K113=\"\",\"\",Import!K113)","v":""},{"$f":"IF(Import!L113=\"\",\"\",Import!L113)","v":""},{"$f":"IF(Import!M113=\"\",\"\",Import!M113)","v":""},{"$f":"IF(Import!P113=\"\",\"\",Import!P113)","v":""},{"$f":"IF(Import!Q113=\"\",\"\",Import!Q113)","v":""},{"$f":"IF(Import!R113=\"\",\"\",Import!R113)","v":""},247.23301859798354,3.4515891311166418,32.041406097756358,32.041406097756358,{"$f":"IF(Q113=\"\",\"\",(-0.00011*POWER(S113,2))+(0.01417*S113)+((0.00057*POWER(Q113,2))-(0.0529*Q113)+6.2018)+Kalkkalkyl!$AJ$2)","v":6.8670966483419154},{"$error":"#VALUE!"},null,{"$f":"IF(('PK kalkyl'!$AE$17*H113)+'PK kalkyl'!$AE$18+(('PK kalkyl'!$K$6-'PK kalkyl'!$AE$12)*'PK kalkyl'!$AE$13)<1,0,ROUND(('PK kalkyl'!$AE$17*H113)+'PK kalkyl'!$AE$18+(('PK kalkyl'!$K$6-'PK kalkyl'!$AE$12)*'PK kalkyl'!$AE$13),1))","v":{"$error":"#VALUE!"}},{"$f":"IF(('PK kalkyl'!$AE$37*I113)+'PK kalkyl'!$AE$38+(('PK kalkyl'!$K$6-'PK kalkyl'!$AE$32)*'PK kalkyl'!$AE$33)<1,0,ROUND(('PK kalkyl'!$AE$37*I113)+'PK kalkyl'!$AE$38+(('PK kalkyl'!$K$6-'PK kalkyl'!$AE$32)*'PK kalkyl'!$AE$33),1))","v":{"$error":"#VALUE!"}},{"$error":"#VALUE!"},{"$error":"#VALUE!"},{"$f":"IF((Y113<W113),Y113-W113,0)*-'PK kalkyl'!$AE$15","v":{"$error":"#VALUE!"}},{"$f":"IF((Z113<X113),Z113-X113,0)*-'PK kalkyl'!$AE$35","v":{"$error":"#VALUE!"}},{"$f":"+AA113*Växtföljd!$G$18+AB113*Växtföljd!$G$18","v":{"$error":"#VALUE!"}}]
[{"$f":"IF(Import!A114=\"\",\"\",Import!A114)","v":""},{"$f":"IF(Import!B114=\"\",\"\",Import!B114)","v":""},{"$f":"IF(Import!C114=\"\",\"\",Import!C114)","v":""},{"$f":"IF(Import!D114=\"\",\"\",Import!D114)","v":""},{"$f":"IF(Import!E114=\"\",\"\",Import!E114)","v":""},{"$f":"IF(Import!F114=\"\",\"\",Import!F114)","v":""},{"$f":"IF(Import!G114=\"\",\"\",Import!G114)","v":""},{"$f":"IF(Import!H114=\"\",\"\",Import!H114)","v":""},{"$f":"IF(Import!J114=\"\",\"\",Import!J114)","v":""},{"$f":"IF(Import!K114=\"\",\"\",Import!K114)","v":""},{"$f":"IF(Import!L114=\"\",\"\",Import!L114)","v":""},{"$f":"IF(Import!M114=\"\",\"\",Import!M114)","v":""},{"$f":"IF(Import!P114=\"\",\"\",Import!P114)","v":""},{"$f":"IF(Import!Q114=\"\",\"\",Import!Q114)","v":""},{"$f":"IF(Import!R114=\"\",\"\",Import!R114)","v":""},240,3.6,32,32,{"$f":"IF(Q114=\"\",\"\",(-0.00011*POWER(S114,2))+(0.01417*S114)+((0.00057*POWER(Q114,2))-(0.0529*Q114)+6.2018)+Kalkkalkyl!$AJ$2)","v":6.8595471999999997},{"$error":"#VALUE!"},null,{"$f":"IF(('PK kalkyl'!$AE$17*H114)+'PK kalkyl'!$AE$18+(('PK kalkyl'!$K$6-'PK kalkyl'!$AE$12)*'PK kalkyl'!$AE$13)<1,0,ROUND(('PK kalkyl'!$AE$17*H114)+'PK kalkyl'!$AE$18+(('PK kalkyl'!$K$6-'PK kalkyl'!$AE$12)*'PK kalkyl'!$AE$13),1))","v":{"$error":"#VALUE!"}},{"$f":"IF(('PK kalkyl'!$AE$37*I114)+'PK kalkyl'!$AE$38+(('PK kalkyl'!$K$6-'PK kalkyl'!$AE$32)*'PK kalkyl'!$AE$33)<1,0,ROUND(('PK kalkyl'!$AE$37*I114)+'PK kalkyl'!$AE$38+(('PK kalkyl'!$K$6-'PK kalkyl'!$AE$32)*'PK kalkyl'!$AE$33),1))","v":{"$error":"#VALUE!"}},{"$error":"#VALUE!"},{"$error":"#VALUE!"},{"$f":"IF((Y114<W114),Y114-W114,0)*-'PK kalkyl'!$AE$15","v":{"$error":"#VALUE!"}},{"$f":"IF((Z114<X114),Z114-X114,0)*-'PK kalkyl'!$AE$35","v":{"$error":"#VALUE!"}},{"$f":"+AA114*Växtföljd!$G$18+AB114*Växtföljd!$G$18","v":{"$error":"#VALUE!"}}]
[{"$f":"IF(Import!A115=\"\",\"\",Import!A115)","v":""},{"$f":"IF(Import!B115=\"\",\"\",Import!B115)","v":""},{"$f":"IF(Import!C115=\"\",\"\",Import!C115)","v":""},{"$f":"IF(Import!D115=\"\",\"\",Import!D115)","v":""},{"$f":"IF(Import!E115=\"\",\"\",Import!E115)","v":""},{"$f":"IF(Import!F115=\"\",\"\",Import!F115)","v":""},{"$f":"IF(Import!G115=\"\",\"\",Import!G115)","v":""},{"$f":"IF(Import!H115=\"\",\"\",Import!H115)","v":""},{"$f":"IF(Import!J115=\"\",\"\",Import!J115)","v":""},{"$f":"IF(Import!K115=\"\",\"\",Import!K115)","v":""},{"$f":"IF(Import!L115=\"\",\"\",Import!L115)","v":""},{"$f":"IF(Import!M115=\"\",\"\",Import!M115)","v":""},{"$f":"IF(Import!P115=\"\",\"\",Import!P115)","v":""},{"$f":"IF(Import!Q115=\"\",\"\",Import!Q115)","v":""},{"$f":"IF(Import!R115=\"\",\"\",Import!R115)","v":""},254.3777002913163,3.8321239360951913,31.970514131152203,31.970514131152203,{"$f":"IF(Q115=\"\",\"\",(-0.00011*POWER(S115,2))+(0.01417*S115)+((0.00057*POWER(Q115,2))-(0.0529*Q115)+6.2018)+Kalkkalkyl!$AJ$2)","v":6.8480408630009775},{"$error":"#VALUE!"},null,{"$f":"IF(('PK kalkyl'!$AE$17*H115)+'PK kalkyl'!$AE$18+(('PK kalkyl'!$K$6-'PK kalkyl'!$AE$12)*'PK kalkyl'!$AE$13)<1,0,ROUND(('PK kalkyl'!$AE$17*H115)+'PK kalkyl'!$AE$18+(('PK kalkyl'!$K$6-'PK kalkyl'!$AE$12)*'PK kalkyl'!$AE$13),1))","v":{"$error":"#VALUE!"}},{"$f":"IF(('PK kalkyl'!$AE$37*I115)+'PK kalkyl'!$AE$38+(('PK kalkyl'!$K$6-'PK kalkyl'!$AE$32)*'PK kalkyl'!$AE$33)<1,0,ROUND(('PK kalkyl'!$AE$37*I115)+'PK kalkyl'!$AE$38+(('PK kalkyl'!$K$6-'PK kalkyl'!$AE$32)*'PK kalkyl'!$AE$33),1))","v":{"$error":"#VALUE!"}},{"$error":"#VALUE!"},{"$error":"#VALUE!"},{"$f":"IF((Y115<W115),Y115-W115,0)*-'PK kalkyl'!$AE$15","v":{"$error":"#VALUE!"}},{"$f":"IF((Z115<X115),Z115-X115,0)*-'PK kalkyl'!$AE$35","v":{"$error":"#VALUE!"}},{"$f":"+AA115*Växtföljd!$G$18+AB115*Växtföljd!$G$18","v":{"$error":"#VALUE!"}}]
[{"$f":"IF(Import!A116=\"\",\"\",Import!A116)","v":""},{"$f":"IF(Import!B116=\"\",\"\",Import!B116)","v":""},{"$f":"IF(Import!C116=\"\",\"\",Import!C116)","v":""},{"$f":"IF(Import!D116=\"\",\"\",Import!D116)","v":""},{"$f":"IF(Import!E116=\"\",\"\",Import!E116)","v":""},{"$f":"IF(Import!F116=\"\",\"\",Import!F116)","v":""},{"$f":"IF(Import!G116=\"\",\"\",Import!G116)","v":""},{"$f":"IF(Import!H116=\"\",\"\",Import!H116)","v":""},{"$f":"IF(Import!J116=\"\",\"\",Import!J116)","v":""},{"$f":"IF(Import!K116=\"\",\"\",Import!K116)","v":""},{"$f":"IF(Import!L116=\"\",\"\",Import!L116)","v":""},{"$f":"IF(Import!M116=\"\",\"\",Import!M116)","v":""},{"$f":"IF(Import!P116=\"\",\"\",Import!P116)","v":""},{"$f":"IF(Import!Q116=\"\",\"\",Import!Q116)","v":""},{"$f":"IF(Import!R116=\"\",\"\",Import!R116)","v":""},270,3.6,31,31,{"$f":"IF(Q116=\"\",\"\",(-0.00011*POWER(S116,2))+(0.01417*S116)+((0.00057*POWER(Q116,2))-(0.0529*Q116)+6.2018)+Kalkkalkyl!$AJ$2)","v":6.8523072000000003},{"$error":"#VALUE!"},null,{"$f":"IF(('PK kalkyl'!$AE$17*H116)+'PK kalkyl'!$AE$18+(('PK kalkyl'!$K$6-'PK kalkyl'!$AE$12)*'PK kalkyl'!$AE$13)<1,0,ROUND(('PK kalkyl'!$AE$17*H116)+'PK kalkyl'!$AE$18+(('PK kalkyl'!$K$6-'PK kalkyl'!$AE$12)*'PK kalkyl'!$AE$13),1))","v":{"$error":"#VALUE!"}},{"$f":"IF(('PK kalkyl'!$AE$37*I116)+'PK kalkyl'!$AE$38+(('PK kalkyl'!$K$6-'PK kalkyl'!$AE$32)*'PK kalkyl'!$AE$33)<1,0,ROUND(('PK kalkyl'!$AE$37*I116)+'PK kalkyl'!$AE$38+(('PK kalkyl'!$K$6-'PK kalkyl'!$AE$32)*'PK kalkyl'!$AE$33),1))","v":{"$error":"#VALUE!"}},{"$error":"#VALUE!"},{"$error":"#VALUE!"},{"$f":"IF((Y116<W116),Y116-W116,0)*-'PK kalkyl'!$AE$15","v":{"$error":"#VALUE!"}},{"$f":"IF((Z116<X116),Z116-X116,0)*-'PK kalkyl'!$AE$35","v":{"$error":"#VALUE!"}},{"$f":"+AA116*Växtföljd!$G$18+AB116*Växtföljd!$G$18","v":{"$error":"#VALUE!"}}]
[{"$f":"IF(Import!A117=\"\",\"\",Import!A117)","v":""},{"$f":"IF(Import!B117=\"\",\"\",Import!B117)","v":""},{"$f":"IF(Import!C117=\"\",\"\",Import!C117)","v":""},{"$f":"IF(Import!D117=\"\",\"\",Import!D117)","v":""},{"$f":"IF(Import!E117=\"\",\"\",Import!E117)","v":""},{"$f":"IF(Import!F117=\"\",\"\",Import!F117)","v":""},{"$f":"IF(Import!G117=\"\",\"\",Import!G117)","v":""},{"$f":"IF(Import!H117=\"\",\"\",Import!H117)","v":""},{"$f":"IF(Import!J117=\"\",\"\",Import!J117)","v":""},{"$f":"IF(Import!K117=\"\",\"\",Import!K117)","v":""},{"$f":"IF(Import!L117=\"\",\"\",Import!L117)","v":""},{"$f":"IF(Import!M117=\"\",\"\",Import!M117)","v":""},{"$f":"IF(Import!P117=\"\",\"\",Import!P117)","v":""},{"$f":"IF(Import!Q117=\"\",\"\",Import!Q117)","v":""},{"$f":"IF(Import!R117=\"\",\"\",Import!R117)","v":""},261.01666516985534,3.5107248265782456,30.550833258492769,30.550833258492769,{"$f":"IF(Q117=\"\",\"\",(-0.00011*POWER(S117,2))+(0.01417*S117)+((0.00057*POWER(Q117,2))-(0.0529*Q117)+6.2018)+Kalkkalkyl!$AJ$2)","v":6.8533444461606825},{"$error":"#VALUE!"},null,{"$f":"IF(('PK kalkyl'!$AE$17*H117)+'PK kalkyl'!$AE$18+(('PK kalkyl'!$K$6-'PK kalkyl'!$AE$12)*'PK kalkyl'!$AE$13)<1,0,ROUND(('PK kalkyl'!$AE$17*H117)+'PK kalkyl'!$AE$18+(('PK kalkyl'!$K$6-'PK kalkyl'!$AE$12)*'PK kalkyl'!$AE$13),1))","v":{"$error":"#VALUE!"}},{"$f":"IF(('PK kalkyl'!$AE$37*I117)+'PK kalkyl'!$AE$38+(('PK kalkyl'!$K$6-'PK kalkyl'!$AE$32)*'PK kalkyl'!$AE$33)<1,0,ROUND(('PK kalkyl'!$AE$37*I117)+'PK kalkyl'!$AE$38+(('PK kalkyl'!$K$6-'PK kalkyl'!$AE$32)*'PK kalkyl'!$AE$33),1))","v":{"$error":"#VALUE!"}},{"$error":"#VALUE!"},{"$error":"#VALUE!"},{"$f":"IF((Y117<W117),Y117-W117,0)*-'PK kalkyl'!$AE$15","v":{"$error":"#VALUE!"}},{"$f":"IF((Z117<X117),Z117-X117,0)*-'PK kalkyl'!$AE$35","v":{"$error":"#VALUE!"}},{"$f":"+AA117*Växtföljd!$G$18+AB117*Växtföljd!$G$18","v":{"$error":"#VALUE!"}}]
[{"$f":"IF(Import!A118=\"\",\"\",Import!A118)","v":""},{"$f":"IF(Import!B118=\"\",\"\",Import!B118)","v":""},{"$f":"IF(Import!C118=\"\",\"\",Import!C118)","v":""},{"$f":"IF(Import!D118=\"\",\"\",Import!D118)","v":""},{"$f":"IF(Import!E118=\"\",\"\",Import!E118)","v":""},{"$f":"IF(Import!F118=\"\",\"\",Import!F118)","v":""},{"$f":"IF(Import!G118=\"\",\"\",Import!G118)","v":""},{"$f":"IF(Import!H118=\"\",\"\",Import!H118)","v":""},{"$f":"IF(Import!J118=\"\",\"\",Import!J118)","v":""},{"$f":"IF(Import!K118=\"\",\"\",Import!K118)","v":""},{"$f":"IF(Import!L118=\"\",\"\",Import!L118)","v":""},{"$f":"IF(Import!M118=\"\",\"\",Import!M118)","v":""},{"$f":"IF(Import!P118=\"\",\"\",Import!P118)","v":""},{"$f":"IF(Import!Q118=\"\",\"\",Import!Q118)","v":""},{"$f":"IF(Import!R118=\"\",\"\",Import!R118)","v":""},270,4.0999999999999996,31,31,{"$f":"IF(Q118=\"\",\"\",(-0.00011*POWER(S118,2))+(0.01417*S118)+((0.00057*POWER(Q118,2))-(0.0529*Q118)+6.2018)+Kalkkalkyl!$AJ$2)","v":6.8280517000000005},{"$error":"#VALUE!"},null,{"$f":"IF(('PK kalkyl'!$AE$17*H118)+'PK kalkyl'!$AE$18+(('PK kalkyl'!$K$6-'PK kalkyl'!$AE$12)*'PK kalkyl'!$AE$13)<1,0,ROUND(('PK kalkyl'!$AE$17*H118)+'PK kalkyl'!$AE$18+(('PK kalkyl'!$K$6-'PK kalkyl'!$AE$12)*'PK kalkyl'!$AE$13),1))","v":{"$error":"#VALUE!"}},{"$f":"IF(('PK kalkyl'!$AE$37*I118)+'PK kalkyl'!$AE$38+(('PK kalkyl'!$K$6-'PK kalkyl'!$AE$32)*'PK kalkyl'!$AE$33)<1,0,ROUND(('PK kalkyl'!$AE$37*I118)+'PK kalkyl'!$AE$38+(('PK kalkyl'!$K$6-'PK kalkyl'!$AE$32)*'PK kalkyl'!$AE$33),1))","v":{"$error":"#VALUE!"}},{"$error":"#VALUE!"},{"$error":"#VALUE!"},{"$f":"IF((Y118<W118),Y118-W118,0)*-'PK kalkyl'!$AE$15","v":{"$error":"#VALUE!"}},{"$f":"IF((Z118<X118),Z118-X118,0)*-'PK kalkyl'!$AE$35","v":{"$error":"#VALUE!"}},{"$f":"+AA118*Växtföljd!$G$18+AB118*Växtföljd!$G$18","v":{"$error":"#VALUE!"}}]
[{"$f":"IF(Import!A119=\"\",\"\",Import!A119)","v":""},{"$f":"IF(Import!B119=\"\",\"\",Import!B119)","v":""},{"$f":"IF(Import!C119=\"\",\"\",Import!C119)","v":""},{"$f":"IF(Import!D119=\"\",\"\",Import!D119)","v":""},{"$f":"IF(Import!E119=\"\",\"\",Import!E119)","v":""},{"$f":"IF(Import!F119=\"\",\"\",Import!F119)","v":""},{"$f":"IF(Import!G119=\"\",\"\",Import!G119)","v":""},{"$f":"IF(Import!H119=\"\",\"\",Import!H119)","v":""},{"$f":"IF(Import!J119=\"\",\"\",Import!J119)","v":""},{"$f":"IF(Import!K119=\"\",\"\",Import!K119)","v":""},{"$f":"IF(Import!L119=\"\",\"\",Import!L119)","v":""},{"$f":"IF(Import!M119=\"\",\"\",Import!M119)","v":""},{"$f":"IF(Import!P119=\"\",\"\",Import!P119)","v":""},{"$f":"IF(Import!Q119=\"\",\"\",Import!Q119)","v":""},{"$f":"IF(Import!R119=\"\",\"\",Import!R119)","v":""},257.30478444157364,3.8584470822663723,31.048357183651721,31.048357183651721,{"$f":"IF(Q119=\"\",\"\",(-0.00011*POWER(S119,2))+(0.01417*S119)+((0.00057*POWER(Q119,2))-(0.0529*Q119)+6.2018)+Kalkkalkyl!$AJ$2)","v":6.8400892573374463},{"$error":"#VALUE!"},null,{"$f":"IF(('PK kalkyl'!$AE$17*H119)+'PK kalkyl'!$AE$18+(('PK kalkyl'!$K$6-'PK kalkyl'!$AE$12)*'PK kalkyl'!$AE$13)<1,0,ROUND(('PK kalkyl'!$AE$17*H119)+'PK kalkyl'!$AE$18+(('PK kalkyl'!$K$6-'PK kalkyl'!$AE$12)*'PK kalkyl'!$AE$13),1))","v":{"$error":"#VALUE!"}},{"$f":"IF(('PK kalkyl'!$AE$37*I119)+'PK kalkyl'!$AE$38+(('PK kalkyl'!$K$6-'PK kalkyl'!$AE$32)*'PK kalkyl'!$AE$33)<1,0,ROUND(('PK kalkyl'!$AE$37*I119)+'PK kalkyl'!$AE$38+(('PK kalkyl'!$K$6-'PK kalkyl'!$AE$32)*'PK kalkyl'!$AE$33),1))","v":{"$error":"#VALUE!"}},{"$error":"#VALUE!"},{"$error":"#VALUE!"},{"$f":"IF((Y119<W119),Y119-W119,0)*-'PK kalkyl'!$AE$15","v":{"$error":"#VALUE!"}},{"$f":"IF((Z119<X119),Z119-X119,0)*-'PK kalkyl'!$AE$35","v":{"$error":"#VALUE!"}},{"$f":"+AA119*Växtföljd!$G$18+AB119*Växtföljd!$G$18","v":{"$error":"#VALUE!"}}]
[{"$f":"IF(Import!A120=\"\",\"\",Import!A120)","v":""},{"$f":"IF(Import!B120=\"\",\"\",Import!B120)","v":""},{"$f":"IF(Import!C120=\"\",\"\",Import!C120)","v":""},{"$f":"IF(Import!D120=\"\",\"\",Import!D120)","v":""},{"$f":"IF(Import!E120=\"\",\"\",Import!E120)","v":""},{"$f":"IF(Import!F120=\"\",\"\",Import!F120)","v":""},{"$f":"IF(Import!G120=\"\",\"\",Import!G120)","v":""},{"$f":"IF(Import!H120=\"\",\"\",Import!H120)","v":""},{"$f":"IF(Import!J120=\"\",\"\",Import!J120)","v":""},{"$f":"IF(Import!K120=\"\",\"\",Import!K120)","v":""},{"$f":"IF(Import!L120=\"\",\"\",Import!L120)","v":""},{"$f":"IF(Import!M120=\"\",\"\",Import!M120)","v":""},{"$f":"IF(Import!P120=\"\",\"\",Import!P120)","v":""},{"$f":"IF(Import!Q120=\"\",\"\",Import!Q120)","v":""},{"$f":"IF(Import!R120=\"\",\"\",Import!R120)","v":""},230,4.3,30,30,{"$f":"IF(Q120=\"\",\"\",(-0.00011*POWER(S120,2))+(0.01417*S120)+((0.00057*POWER(Q120,2))-(0.0529*Q120)+6.2018)+Kalkkalkyl!$AJ$2)","v":6.8109693000000009},{"$error":"#VALUE!"},null,{"$f":"IF(('PK kalkyl'!$AE$17*H120)+'PK kalkyl'!$AE$18+(('PK kalkyl'!$K$6-'PK kalkyl'!$AE$12)*'PK kalkyl'!$AE$13)<1,0,ROUND(('PK kalkyl'!$AE$17*H120)+'PK kalkyl'!$AE$18+(('PK kalkyl'!$K$6-'PK kalkyl'!$AE$12)*'PK kalkyl'!$AE$13),1))","v":{"$error":"#VALUE!"}},{"$f":"IF(('PK kalkyl'!$AE$37*I120)+'PK kalkyl'!$AE$38+(('PK kalkyl'!$K$6-'PK kalkyl'!$AE$32)*'PK kalkyl'!$AE$33)<1,0,ROUND(('PK kalkyl'!$AE$37*I120)+'PK kalkyl'!$AE$38+(('PK kalkyl'!$K$6-'PK kalkyl'!$AE$32)*'PK kalkyl'!$AE$33),1))","v":{"$error":"#VALUE!"}},{"$error":"#VALUE!"},{"$error":"#VALUE!"},{"$f":"IF((Y120<W120),Y120-W120,0)*-'PK kalkyl'!$AE$15","v":{"$error":"#VALUE!"}},{"$f":"IF((Z120<X120),Z120-X120,0)*-'PK kalkyl'!$AE$35","v":{"$error":"#VALUE!"}},{"$f":"+AA120*Växtföljd!$G$18+AB120*Växtföljd!$G$18","v":{"$error":"#VALUE!"}}]
[{"$f":"IF(Import!A121=\"\",\"\",Import!A121)","v":""},{"$f":"IF(Import!B121=\"\",\"\",Import!B121)","v":""},{"$f":"IF(Import!C121=\"\",\"\",Import!C121)","v":""},{"$f":"IF(Import!D121=\"\",\"\",Import!D121)","v":""},{"$f":"IF(Import!E121=\"\",\"\",Import!E121)","v":""},{"$f":"IF(Import!F121=\"\",\"\",Import!F121)","v":""},{"$f":"IF(Import!G121=\"\",\"\",Import!G121)","v":""},{"$f":"IF(Import!H121=\"\",\"\",Import!H121)","v":""},{"$f":"IF(Import!J121=\"\",\"\",Import!J121)","v":""},{"$f":"IF(Import!K121=\"\",\"\",Import!K121)","v":""},{"$f":"IF(Import!L121=\"\",\"\",Import!L121)","v":""},{"$f":"IF(Import!M121=\"\",\"\",Import!M121)","v":""},{"$f":"IF(Import!P121=\"\",\"\",Import!P121)","v":""},{"$f":"IF(Import!Q121=\"\",\"\",Import!Q121)","v":""},{"$f":"IF(Import!R121=\"\",\"\",Import!R121)","v":""},257.84249451774554,3.7834791778457735,30.788655946828801,30.788655946828801,{"$f":"IF(Q121=\"\",\"\",(-0.00011*POWER(S121,2))+(0.01417*S121)+((0.00057*POWER(Q121,2))-(0.0529*Q121)+6.2018)+Kalkkalkyl!$AJ$2)","v":6.8418150467800212},{"$error":"#VALUE!"},null,{"$f":"IF(('PK kalkyl'!$AE$17*H121)+'PK kalkyl'!$AE$18+(('PK kalkyl'!$K$6-'PK kalkyl'!$AE$12)*'PK kalkyl'!$AE$13)<1,0,ROUND(('PK kalkyl'!$AE$17*H121)+'PK kalkyl'!$AE$18+(('PK kalkyl'!$K$6-'PK kalkyl'!$AE$12)*'PK kalkyl'!$AE$13),1))","v":{"$error":"#VALUE!"}},{"$f":"IF(('PK kalkyl'!$AE$37*I121)+'PK kalkyl'!$AE$38+(('PK kalkyl'!$K$6-'PK kalkyl'!$AE$32)*'PK kalkyl'!$AE$33)<1,0,ROUND(('PK kalkyl'!$AE$37*I121)+'PK kalkyl'!$AE$38+(('PK kalkyl'!$K$6-'PK kalkyl'!$AE$32)*'PK kalkyl'!$AE$33),1))","v":{"$error":"#VALUE!"}},{"$error":"#VALUE!"},{"$error":"#VALUE!"},{"$f":"IF((Y121<W121),Y121-W121,0)*-'PK kalkyl'!$AE$15","v":{"$error":"#VALUE!"}},{"$f":"IF((Z121<X121),Z121-X121,0)*-'PK kalkyl'!$AE$35","v":{"$error":"#VALUE!"}},{"$f":"+AA121*Växtföljd!$G$18+AB121*Växtföljd!$G$18","v":{"$error":"#VALUE!"}}]
[{"$f":"IF(Import!A122=\"\",\"\",Import!A122)","v":""},{"$f":"IF(Import!B122=\"\",\"\",Import!B122)","v":""},{"$f":"IF(Import!C122=\"\",\"\",Import!C122)","v":""},{"$f":"IF(Import!D122=\"\",\"\",Import!D122)","v":""},{"$f":"IF(Import!E122=\"\",\"\",Import!E122)","v":""},{"$f":"IF(Import!F122=\"\",\"\",Import!F122)","v":""},{"$f":"IF(Import!G122=\"\",\"\",Import!G122)","v":""},{"$f":"IF(Import!H122=\"\",\"\",Import!H122)","v":""},{"$f":"IF(Import!J122=\"\",\"\",Import!J122)","v":""},{"$f":"IF(Import!K122=\"\",\"\",Import!K122)","v":""},{"$f":"IF(Import!L122=\"\",\"\",Import!L122)","v":""},{"$f":"IF(Import!M122=\"\",\"\",Import!M122)","v":""},{"$f":"IF(Import!P122=\"\",\"\",Import!P122)","v":""},{"$f":"IF(Import!Q122=\"\",\"\",Import!Q122)","v":""},{"$f":"IF(Import!R122=\"\",\"\",Import!R122)","v":""},290,3.5,31,31,{"$f":"IF(Q122=\"\",\"\",(-0.00011*POWER(S122,2))+(0.01417*S122)+((0.00057*POWER(Q122,2))-(0.0529*Q122)+6.2018)+Kalkkalkyl!$AJ$2)","v":6.8571925000000009},{"$error":"#VALUE!"},null,{"$f":"IF(('PK kalkyl'!$AE$17*H122)+'PK kalkyl'!$AE$18+(('PK kalkyl'!$K$6-'PK kalkyl'!$AE$12)*'PK kalkyl'!$AE$13)<1,0,ROUND(('PK kalkyl'!$AE$17*H122)+'PK kalkyl'!$AE$18+(('PK kalkyl'!$K$6-'PK kalkyl'!$AE$12)*'PK kalkyl'!$AE$13),1))","v":{"$error":"#VALUE!"}},{"$f":"IF(('PK kalkyl'!$AE$37*I122)+'PK kalkyl'!$AE$38+(('PK kalkyl'!$K$6-'PK kalkyl'!$AE$32)*'PK kalkyl'!$AE$33)<1,0,ROUND(('PK kalkyl'!$AE$37*I122)+'PK kalkyl'!$AE$38+(('PK kalkyl'!$K$6-'PK kalkyl'!$AE$32)*'PK kalkyl'!$AE$33),1))","v":{"$error":"#VALUE!"}},{"$error":"#VALUE!"},{"$error":"#VALUE!"},{"$f":"IF((Y122<W122),Y122-W122,0)*-'PK kalkyl'!$AE$15","v":{"$error":"#VALUE!"}},{"$f":"IF((Z122<X122),Z122-X122,0)*-'PK kalkyl'!$AE$35","v":{"$error":"#VALUE!"}},{"$f":"+AA122*Växtföljd!$G$18+AB122*Växtföljd!$G$18","v":{"$error":"#VALUE!"}}]
[{"$f":"IF(Import!A123=\"\",\"\",Import!A123)","v":""},{"$f":"IF(Import!B123=\"\",\"\",Import!B123)","v":""},{"$f":"IF(Import!C123=\"\",\"\",Import!C123)","v":""},{"$f":"IF(Import!D123=\"\",\"\",Import!D123)","v":""},{"$f":"IF(Import!E123=\"\",\"\",Import!E123)","v":""},{"$f":"IF(Import!F123=\"\",\"\",Import!F123)","v":""},{"$f":"IF(Import!G123=\"\",\"\",Import!G123)","v":""},{"$f":"IF(Import!H123=\"\",\"\",Import!H123)","v":""},{"$f":"IF(Import!J123=\"\",\"\",Import!J123)","v":""},{"$f":"IF(Import!K123=\"\",\"\",Import!K123)","v":""},{"$f":"IF(Import!L123=\"\",\"\",Import!L123)","v":""},{"$f":"IF(Import!M123=\"\",\"\",Import!M123)","v":""},{"$f":"IF(Import!P123=\"\",\"\",Import!P123)","v":""},{"$f":"IF(Import!Q123=\"\",\"\",Import!Q123)","v":""},{"$f":"IF(Import!R123=\"\",\"\",Import!R123)","v":""},339.73636490692701,3.3019082627237091,34.37775522199393,34.37775522199393,{"$f":"IF(Q123=\"\",\"\",(-0.00011*POWER(S123,2))+(0.01417*S123)+((0.00057*POWER(Q123,2))-(0.0529*Q123)+6.2018)+Kalkkalkyl!$AJ$2)","v":6.8904750194062059},{"$error":"#VALUE!"},null,{"$f":"IF(('PK kalkyl'!$AE$17*H123)+'PK kalkyl'!$AE$18+(('PK kalkyl'!$K$6-'PK kalkyl'!$AE$12)*'PK kalkyl'!$AE$13)<1,0,ROUND(('PK kalkyl'!$AE$17*H123)+'PK kalkyl'!$AE$18+(('PK kalkyl'!$K$6-'PK kalkyl'!$AE$12)*'PK kalkyl'!$AE$13),1))","v":{"$error":"#VALUE!"}},{"$f":"IF(('PK kalkyl'!$AE$37*I123)+'PK kalkyl'!$AE$38+(('PK kalkyl'!$K$6-'PK kalkyl'!$AE$32)*'PK kalkyl'!$AE$33)<1,0,ROUND(('PK kalkyl'!$AE$37*I123)+'PK kalkyl'!$AE$38+(('PK kalkyl'!$K$6-'PK kalkyl'!$AE$32)*'PK kalkyl'!$AE$33),1))","v":{"$error":"#VALUE!"}},{"$error":"#VALUE!"},{"$error":"#VALUE!"},{"$f":"IF((Y123<W123),Y123-W123,0)*-'PK kalkyl'!$AE$15","v":{"$error":"#VALUE!"}},{"$f":"IF((Z123<X123),Z123-X123,0)*-'PK kalkyl'!$AE$35","v":{"$error":"#VALUE!"}},{"$f":"+AA123*Växtföljd!$G$18+AB123*Växtföljd!$G$18","v":{"$error":"#VALUE!"}}]
[{"$f":"IF(Import!A124=\"\",\"\",Import!A124)","v":""},{"$f":"IF(Import!B124=\"\",\"\",Import!B124)","v":""},{"$f":"IF(Import!C124=\"\",\"\",Import!C124)","v":""},{"$f":"IF(Import!D124=\"\",\"\",Import!D124)","v":""},{"$f":"IF(Import!E124=\"\",\"\",Import!E124)","v":""},{"$f":"IF(Import!F124=\"\",\"\",Import!F124)","v":""},{"$f":"IF(Import!G124=\"\",\"\",Import!G124)","v":""},{"$f":"IF(Import!H124=\"\",\"\",Import!H124)","v":""},{"$f":"IF(Import!J124=\"\",\"\",Import!J124)","v":""},{"$f":"IF(Import!K124=\"\",\"\",Import!K124)","v":""},{"$f":"IF(Import!L124=\"\",\"\",Import!L124)","v":""},{"$f":"IF(Import!M124=\"\",\"\",Import!M124)","v":""},{"$f":"IF(Import!P124=\"\",\"\",Import!P124)","v":""},{"$f":"IF(Import!Q124=\"\",\"\",Import!Q124)","v":""},{"$f":"IF(Import!R124=\"\",\"\",Import!R124)","v":""},450,2.4,40,40,{"$f":"IF(Q124=\"\",\"\",(-0.00011*POWER(S124,2))+(0.01417*S124)+((0.00057*POWER(Q124,2))-(0.0529*Q124)+6.2018)+Kalkkalkyl!$AJ$2)","v":6.9689231999999999},{"$error":"#VALUE!"},null,{"$f":"IF(('PK kalkyl'!$AE$17*H124)+'PK kalkyl'!$AE$18+(('PK kalkyl'!$K$6-'PK kalkyl'!$AE$12)*'PK kalkyl'!$AE$13)<1,0,ROUND(('PK kalkyl'!$AE$17*H124)+'PK kalkyl'!$AE$18+(('PK kalkyl'!$K$6-'PK kalkyl'!$AE$12)*'PK kalkyl'!$AE$13),1))","v":{"$error":"#VALUE!"}},{"$f":"IF(('PK kalkyl'!$AE$37*I124)+'PK kalkyl'!$AE$38+(('PK kalkyl'!$K$6-'PK kalkyl'!$AE$32)*'PK kalkyl'!$AE$33)<1,0,ROUND(('PK kalkyl'!$AE$37*I124)+'PK kalkyl'!$AE$38+(('PK kalkyl'!$K$6-'PK kalkyl'!$AE$32)*'PK kalkyl'!$AE$33),1))","v":{"$error":"#VALUE!"}},{"$error":"#VALUE!"},{"$error":"#VALUE!"},{"$f":"IF((Y124<W124),Y124-W124,0)*-'PK kalkyl'!$AE$15","v":{"$error":"#VALUE!"}},{"$f":"IF((Z124<X124),Z124-X124,0)*-'PK kalkyl'!$AE$35","v":{"$error":"#VALUE!"}},{"$f":"+AA124*Växtföljd!$G$18+AB124*Växtföljd!$G$18","v":{"$error":"#VALUE!"}}]
[{"$f":"IF(Import!A125=\"\",\"\",Import!A125)","v":""},{"$f":"IF(Import!B125=\"\",\"\",Import!B125)","v":""},{"$f":"IF(Import!C125=\"\",\"\",Import!C125)","v":""},{"$f":"IF(Import!D125=\"\",\"\",Import!D125)","v":""},{"$f":"IF(Import!E125=\"\",\"\",Import!E125)","v":""},{"$f":"IF(Import!F125=\"\",\"\",Import!F125)","v":""},{"$f":"IF(Import!G125=\"\",\"\",Import!G125)","v":""},{"$f":"IF(Import!H125=\"\",\"\",Import!H125)","v":""},{"$f":"IF(Import!J125=\"\",\"\",Import!J125)","v":""},{"$f":"IF(Import!K125=\"\",\"\",Import!K125)","v":""},{"$f":"IF(Import!L125=\"\",\"\",Import!L125)","v":""},{"$f":"IF(Import!M125=\"\",\"\",Import!M125)","v":""},{"$f":"IF(Import!P125=\"\",\"\",Import!P125)","v":""},{"$f":"IF(Import!Q125=\"\",\"\",Import!Q125)","v":""},{"$f":"IF(Import!R125=\"\",\"\",Import!R125)","v":""},478.69545339119759,2.3713511264110485,42.22969224403942,42.22969224403942,{"$f":"IF(Q125=\"\",\"\",(-0.00011*POWER(S125,2))+(0.01417*S125)+((0.00057*POWER(Q125,2))-(0.0529*Q125)+6.2018)+Kalkkalkyl!$AJ$2)","v":6.9817873892518998},{"$error":"#VALUE!"},null,{"$f":"IF(('PK kalkyl'!$AE$17*H125)+'PK kalkyl'!$AE$18+(('PK kalkyl'!$K$6-'PK kalkyl'!$AE$12)*'PK kalkyl'!$AE$13)<1,0,ROUND(('PK kalkyl'!$AE$17*H125)+'PK kalkyl'!$AE$18+(('PK kalkyl'!$K$6-'PK kalkyl'!$AE$12)*'PK kalkyl'!$AE$13),1))","v":{"$error":"#VALUE!"}},{"$f":"IF(('PK kalkyl'!$AE$37*I125)+'PK kalkyl'!$AE$38+(('PK kalkyl'!$K$6-'PK kalkyl'!$AE$32)*'PK kalkyl'!$AE$33)<1,0,ROUND(('PK kalkyl'!$AE$37*I125)+'PK kalkyl'!$AE$38+(('PK kalkyl'!$K$6-'PK kalkyl'!$AE$32)*'PK kalkyl'!$AE$33),1))","v":{"$error":"#VALUE!"}},{"$error":"#VALUE!"},{"$error":"#VALUE!"},{"$f":"IF((Y125<W125),Y125-W125,0)*-'PK kalkyl'!$AE$15","v":{"$error":"#VALUE!"}},{"$f":"IF((Z125<X125),Z125-X125,0)*-'PK kalkyl'!$AE$35","v":{"$error":"#VALUE!"}},{"$f":"+AA125*Växtföljd!$G$18+AB125*Växtföljd!$G$18","v":{"$error":"#VALUE!"}}]
[{"$f":"IF(Import!A126=\"\",\"\",Import!A126)","v":""},{"$f":"IF(Import!B126=\"\",\"\",Import!B126)","v":""},{"$f":"IF(Import!C126=\"\",\"\",Import!C126)","v":""},{"$f":"IF(Import!D126=\"\",\"\",Import!D126)","v":""},{"$f":"IF(Import!E126=\"\",\"\",Import!E126)","v":""},{"$f":"IF(Import!F126=\"\",\"\",Import!F126)","v":""},{"$f":"IF(Import!G126=\"\",\"\",Import!G126)","v":""},{"$f":"IF(Import!H126=\"\",\"\",Import!H126)","v":""},{"$f":"IF(Import!J126=\"\",\"\",Import!J126)","v":""},{"$f":"IF(Import!K126=\"\",\"\",Import!K126)","v":""},{"$f":"IF(Import!L126=\"\",\"\",Import!L126)","v":""},{"$f":"IF(Import!M126=\"\",\"\",Import!M126)","v":""},{"$f":"IF(Import!P126=\"\",\"\",Import!P126)","v":""},{"$f":"IF(Import!Q126=\"\",\"\",Import!Q126)","v":""},{"$f":"IF(Import!R126=\"\",\"\",Import!R126)","v":""},500,2.2000000000000002,44,44,{"$f":"IF(Q126=\"\",\"\",(-0.00011*POWER(S126,2))+(0.01417*S126)+((0.00057*POWER(Q126,2))-(0.0529*Q126)+6.2018)+Kalkkalkyl!$AJ$2)","v":6.9986988000000006},{"$error":"#VALUE!"},null,{"$f":"IF(('PK kalkyl'!$AE$17*H126)+'PK kalkyl'!$AE$18+(('PK kalkyl'!$K$6-'PK kalkyl'!$AE$12)*'PK kalkyl'!$AE$13)<1,0,ROUND(('PK kalkyl'!$AE$17*H126)+'PK kalkyl'!$AE$18+(('PK kalkyl'!$K$6-'PK kalkyl'!$AE$12)*'PK kalkyl'!$AE$13),1))","v":{"$error":"#VALUE!"}},{"$f":"IF(('PK kalkyl'!$AE$37*I126)+'PK kalkyl'!$AE$38+(('PK kalkyl'!$K$6-'PK kalkyl'!$AE$32)*'PK kalkyl'!$AE$33)<1,0,ROUND(('PK kalkyl'!$AE$37*I126)+'PK kalkyl'!$AE$38+(('PK kalkyl'!$K$6-'PK kalkyl'!$AE$32)*'PK kalkyl'!$AE$33),1))","v":{"$error":"#VALUE!"}},{"$error":"#VALUE!"},{"$error":"#VALUE!"},{"$f":"IF((Y126<W126),Y126-W126,0)*-'PK kalkyl'!$AE$15","v":{"$error":"#VALUE!"}},{"$f":"IF((Z126<X126),Z126-X126,0)*-'PK kalkyl'!$AE$35","v":{"$error":"#VALUE!"}},{"$f":"+AA126*Växtföljd!$G$18+AB126*Växtföljd!$G$18","v":{"$error":"#VALUE!"}}]
[{"$f":"IF(Import!A127=\"\",\"\",Import!A127)","v":""},{"$f":"IF(Import!B127=\"\",\"\",Import!B127)","v":""},{"$f":"IF(Import!C127=\"\",\"\",Import!C127)","v":""},{"$f":"IF(Import!D127=\"\",\"\",Import!D127)","v":""},{"$f":"IF(Import!E127=\"\",\"\",Import!E127)","v":""},{"$f":"IF(Import!F127=\"\",\"\",Import!F127)","v":""},{"$f":"IF(Import!G127=\"\",\"\",Import!G127)","v":""},{"$f":"IF(Import!H127=\"\",\"\",Import!H127)","v":""},{"$f":"IF(Import!J127=\"\",\"\",Import!J127)","v":""},{"$f":"IF(Import!K127=\"\",\"\",Import!K127)","v":""},{"$f":"IF(Import!L127=\"\",\"\",Import!L127)","v":""},{"$f":"IF(Import!M127=\"\",\"\",Import!M127)","v":""},{"$f":"IF(Import!P127=\"\",\"\",Import!P127)","v":""},{"$f":"IF(Import!Q127=\"\",\"\",Import!Q127)","v":""},{"$f":"IF(Import!R127=\"\",\"\",Import!R127)","v":""},376.60956073538978,3.0729964740359477,36.832509289940504,36.832509289940504,{"$f":"IF(Q127=\"\",\"\",(-0.00011*POWER(S127,2))+(0.01417*S127)+((0.00057*POWER(Q127,2))-(0.0529*Q127)+6.2018)+Kalkkalkyl!$AJ$2)","v":6.9173081168744446},{"$error":"#VALUE!"},null,{"$f":"IF(('PK kalkyl'!$AE$17*H127)+'PK kalkyl'!$AE$18+(('PK kalkyl'!$K$6-'PK kalkyl'!$AE$12)*'PK kalkyl'!$AE$13)<1,0,ROUND(('PK kalkyl'!$AE$17*H127)+'PK kalkyl'!$AE$18+(('PK kalkyl'!$K$6-'PK kalkyl'!$AE$12)*'PK kalkyl'!$AE$13),1))","v":{"$error":"#VALUE!"}},{"$f":"IF(('PK kalkyl'!$AE$37*I127)+'PK kalkyl'!$AE$38+(('PK kalkyl'!$K$6-'PK kalkyl'!$AE$32)*'PK kalkyl'!$AE$33)<1,0,ROUND(('PK kalkyl'!$AE$37*I127)+'PK kalkyl'!$AE$38+(('PK kalkyl'!$K$6-'PK kalkyl'!$AE$32)*'PK kalkyl'!$AE$33),1))","v":{"$error":"#VALUE!"}},{"$error":"#VALUE!"},{"$error":"#VALUE!"},{"$f":"IF((Y127<W127),Y127-W127,0)*-'PK kalkyl'!$AE$15","v":{"$error":"#VALUE!"}},{"$f":"IF((Z127<X127),Z127-X127,0)*-'PK kalkyl'!$AE$35","v":{"$error":"#VALUE!"}},{"$f":"+AA127*Växtföljd!$G$18+AB127*Växtföljd!$G$18","v":{"$error":"#VALUE!"}}]
[{"$f":"IF(Import!A128=\"\",\"\",Import!A128)","v":""},{"$f":"IF(Import!B128=\"\",\"\",Import!B128)","v":""},{"$f":"IF(Import!C128=\"\",\"\",Import!C128)","v":""},{"$f":"IF(Import!D128=\"\",\"\",Import!D128)","v":""},{"$f":"IF(Import!E128=\"\",\"\",Import!E128)","v":""},{"$f":"IF(Import!F128=\"\",\"\",Import!F128)","v":""},{"$f":"IF(Import!G128=\"\",\"\",Import!G128)","v":""},{"$f":"IF(Import!H128=\"\",\"\",Import!H128)","v":""},{"$f":"IF(Import!J128=\"\",\"\",Import!J128)","v":""},{"$f":"IF(Import!K128=\"\",\"\",Import!K128)","v":""},{"$f":"IF(Import!L128=\"\",\"\",Import!L128)","v":""},{"$f":"IF(Import!M128=\"\",\"\",Import!M128)","v":""},{"$f":"IF(Import!P128=\"\",\"\",Import!P128)","v":""},{"$f":"IF(Import!Q128=\"\",\"\",Import!Q128)","v":""},{"$f":"IF(Import!R128=\"\",\"\",Import!R128)","v":""},290,4.3,34,34,{"$f":"IF(Q128=\"\",\"\",(-0.00011*POWER(S128,2))+(0.01417*S128)+((0.00057*POWER(Q128,2))-(0.0529*Q128)+6.2018)+Kalkkalkyl!$AJ$2)","v":6.8394893000000003},{"$error":"#VALUE!"},null,{"$f":"IF(('PK kalkyl'!$AE$17*H128)+'PK kalkyl'!$AE$18+(('PK kalkyl'!$K$6-'PK kalkyl'!$AE$12)*'PK kalkyl'!$AE$13)<1,0,ROUND(('PK kalkyl'!$AE$17*H128)+'PK kalkyl'!$AE$18+(('PK kalkyl'!$K$6-'PK kalkyl'!$AE$12)*'PK kalkyl'!$AE$13),1))","v":{"$error":"#VALUE!"}},{"$f":"IF(('PK kalkyl'!$AE$37*I128)+'PK kalkyl'!$AE$38+(('PK kalkyl'!$K$6-'PK kalkyl'!$AE$32)*'PK kalkyl'!$AE$33)<1,0,ROUND(('PK kalkyl'!$AE$37*I128)+'PK kalkyl'!$AE$38+(('PK kalkyl'!$K$6-'PK kalkyl'!$AE$32)*'PK kalkyl'!$AE$33),1))","v":{"$error":"#VALUE!"}},{"$error":"#VALUE!"},{"$error":"#VALUE!"},{"$f":"IF((Y128<W128),Y128-W128,0)*-'PK kalkyl'!$AE$15","v":{"$error":"#VALUE!"}},{"$f":"IF((Z128<X128),Z128-X128,0)*-'PK kalkyl'!$AE$35","v":{"$error":"#VALUE!"}},{"$f":"+AA128*Växtföljd!$G$18+AB128*Växtföljd!$G$18","v":{"$error":"#VALUE!"}}]
[{"$f":"IF(Import!A129=\"\",\"\",Import!A129)","v":""},{"$f":"IF(Import!B129=\"\",\"\",Import!B129)","v":""},{"$f":"IF(Import!C129=\"\",\"\",Import!C129)","v":""},{"$f":"IF(Import!D129=\"\",\"\",Import!D129)","v":""},{"$f":"IF(Import!E129=\"\",\"\",Import!E129)","v":""},{"$f":"IF(Import!F129=\"\",\"\",Import!F129)","v":""},{"$f":"IF(Import!G129=\"\",\"\",Import!G129)","v":""},{"$f":"IF(Import!H129=\"\",\"\",Import!H129)","v":""},{"$f":"IF(Import!J129=\"\",\"\",Import!J129)","v":""},{"$f":"IF(Import!K129=\"\",\"\",Import!K129)","v":""},{"$f":"IF(Import!L129=\"\",\"\",Import!L129)","v":""},{"$f":"IF(Import!M129=\"\",\"\",Import!M129)","v":""},{"$f":"IF(Import!P129=\"\",\"\",Import!P129)","v":""},{"$f":"IF(Import!Q129=\"\",\"\",Import!Q129)","v":""},{"$f":"IF(Import!R129=\"\",\"\",Import!R129)","v":""},271.39019308167252,3.8037252129940939,29.626291953629476,29.626291953629476,{"$f":"IF(Q129=\"\",\"\",(-0.00011*POWER(S129,2))+(0.01417*S129)+((0.00057*POWER(Q129,2))-(0.0529*Q129)+6.2018)+Kalkkalkyl!$AJ$2)","v":6.8320855495068571},{"$error":"#VALUE!"},null,{"$f":"IF(('PK kalkyl'!$AE$17*H129)+'PK kalkyl'!$AE$18+(('PK kalkyl'!$K$6-'PK kalkyl'!$AE$12)*'PK kalkyl'!$AE$13)<1,0,ROUND(('PK kalkyl'!$AE$17*H129)+'PK kalkyl'!$AE$18+(('PK kalkyl'!$K$6-'PK kalkyl'!$AE$12)*'PK kalkyl'!$AE$13),1))","v":{"$error":"#VALUE!"}},{"$f":"IF(('PK kalkyl'!$AE$37*I129)+'PK kalkyl'!$AE$38+(('PK kalkyl'!$K$6-'PK kalkyl'!$AE$32)*'PK kalkyl'!$AE$33)<1,0,ROUND(('PK kalkyl'!$AE$37*I129)+'PK kalkyl'!$AE$38+(('PK kalkyl'!$K$6-'PK kalkyl'!$AE$32)*'PK kalkyl'!$AE$33),1))","v":{"$error":"#VALUE!"}},{"$error":"#VALUE!"},{"$error":"#VALUE!"},{"$f":"IF((Y129<W129),Y129-W129,0)*-'PK kalkyl'!$AE$15","v":{"$error":"#VALUE!"}},{"$f":"IF((Z129<X129),Z129-X129,0)*-'PK kalkyl'!$AE$35","v":{"$error":"#VALUE!"}},{"$f":"+AA129*Växtföljd!$G$18+AB129*Växtföljd!$G$18","v":{"$error":"#VALUE!"}}]
[{"$f":"IF(Import!A130=\"\",\"\",Import!A130)","v":""},{"$f":"IF(Import!B130=\"\",\"\",Import!B130)","v":""},{"$f":"IF(Import!C130=\"\",\"\",Import!C130)","v":""},{"$f":"IF(Import!D130=\"\",\"\",Import!D130)","v":""},{"$f":"IF(Import!E130=\"\",\"\",Import!E130)","v":""},{"$f":"IF(Import!F130=\"\",\"\",Import!F130)","v":""},{"$f":"IF(Import!G130=\"\",\"\",Import!G130)","v":""},{"$f":"IF(Import!H130=\"\",\"\",Import!H130)","v":""},{"$f":"IF(Import!J130=\"\",\"\",Import!J130)","v":""},{"$f":"IF(Import!K130=\"\",\"\",Import!K130)","v":""},{"$f":"IF(Import!L130=\"\",\"\",Import!L130)","v":""},{"$f":"IF(Import!M130=\"\",\"\",Import!M130)","v":""},{"$f":"IF(Import!P130=\"\",\"\",Import!P130)","v":""},{"$f":"IF(Import!Q130=\"\",\"\",Import!Q130)","v":""},{"$f":"IF(Import!R130=\"\",\"\",Import!R130)","v":""},270,3.1,31,31,{"$f":"IF(Q130=\"\",\"\",(-0.00011*POWER(S130,2))+(0.01417*S130)+((0.00057*POWER(Q130,2))-(0.0529*Q130)+6.2018)+Kalkkalkyl!$AJ$2)","v":6.8768477000000008},{"$error":"#VALUE!"},null,{"$f":"IF(('PK kalkyl'!$AE$17*H130)+'PK kalkyl'!$AE$18+(('PK kalkyl'!$K$6-'PK kalkyl'!$AE$12)*'PK kalkyl'!$AE$13)<1,0,ROUND(('PK kalkyl'!$AE$17*H130)+'PK kalkyl'!$AE$18+(('PK kalkyl'!$K$6-'PK kalkyl'!$AE$12)*'PK kalkyl'!$AE$13),1))","v":{"$error":"#VALUE!"}},{"$f":"IF(('PK kalkyl'!$AE$37*I130)+'PK kalkyl'!$AE$38+(('PK kalkyl'!$K$6-'PK kalkyl'!$AE$32)*'PK kalkyl'!$AE$33)<1,0,ROUND(('PK kalkyl'!$AE$37*I130)+'PK kalkyl'!$AE$38+(('PK kalkyl'!$K$6-'PK kalkyl'!$AE$32)*'PK kalkyl'!$AE$33),1))","v":{"$error":"#VALUE!"}},{"$error":"#VALUE!"},{"$error":"#VALUE!"},{"$f":"IF((Y130<W130),Y130-W130,0)*-'PK kalkyl'!$AE$15","v":{"$error":"#VALUE!"}},{"$f":"IF((Z130<X130),Z130-X130,0)*-'PK kalkyl'!$AE$35","v":{"$error":"#VALUE!"}},{"$f":"+AA130*Växtföljd!$G$18+AB130*Växtföljd!$G$18","v":{"$error":"#VALUE!"}}]
[{"$f":"IF(Import!A131=\"\",\"\",Import!A131)","v":""},{"$f":"IF(Import!B131=\"\",\"\",Import!B131)","v":""},{"$f":"IF(Import!C131=\"\",\"\",Import!C131)","v":""},{"$f":"IF(Import!D131=\"\",\"\",Import!D131)","v":""},{"$f":"IF(Import!E131=\"\",\"\",Import!E131)","v":""},{"$f":"IF(Import!F131=\"\",\"\",Import!F131)","v":""},{"$f":"IF(Import!G131=\"\",\"\",Import!G131)","v":""},{"$f":"IF(Import!H131=\"\",\"\",Import!H131)","v":""},{"$f":"IF(Import!J131=\"\",\"\",Import!J131)","v":""},{"$f":"IF(Import!K131=\"\",\"\",Import!K131)","v":""},{"$f":"IF(Import!L131=\"\",\"\",Import!L131)","v":""},{"$f":"IF(Import!M131=\"\",\"\",Import!M131)","v":""},{"$f":"IF(Import!P131=\"\",\"\",Import!P131)","v":""},{"$f":"IF(Import!Q131=\"\",\"\",Import!Q131)","v":""},{"$f":"IF(Import!R131=\"\",\"\",Import!R131)","v":""},392.47983476106594,3.0311741959793932,30.608124745018234,{"$f":"IF(R131=\"\",( 0.0977*P131 )+ 4.135,R131)","v":30.608124745018234},{"$f":"IF(Q131=\"\",\"\",(-0.00011*POWER(S131,2))+(0.01417*S131)+((0.00057*POWER(Q131,2))-(0.0529*Q131)+6.2018)+Kalkkalkyl!$AJ$2)","v":6.8773508793185041},{"$f":"IF(Q131=\"\",\"\",IF(T131-G131<0,0,(T131-G131)*(1.9+(3.5*Q131+S131)/3.8)/2))","v":{"$error":"#VALUE!"}},null,{"$f":"IF(('PK kalkyl'!$AE$17*H131)+'PK kalkyl'!$AE$18+(('PK kalkyl'!$K$6-'PK kalkyl'!$AE$12)*'PK kalkyl'!$AE$13)<1,0,ROUND(('PK kalkyl'!$AE$17*H131)+'PK kalkyl'!$AE$18+(('PK kalkyl'!$K$6-'PK kalkyl'!$AE$12)*'PK kalkyl'!$AE$13),1))","v":{"$error":"#VALUE!"}},{"$f":"IF(('PK kalkyl'!$AE$37*I131)+'PK kalkyl'!$AE$38+(('PK kalkyl'!$K$6-'PK kalkyl'!$AE$32)*'PK kalkyl'!$AE$33)<1,0,ROUND(('PK kalkyl'!$AE$37*I131)+'PK kalkyl'!$AE$38+(('PK kalkyl'!$K$6-'PK kalkyl'!$AE$32)*'PK kalkyl'!$AE$33),1))","v":{"$error":"#VALUE!"}},{"$f":"AVERAGEIF(A:A,A131,W:W)","v":{"$error":"#VALUE!"}},{"$f":"AVERAGEIF(A:A,A131,X:X)","v":{"$error":"#VALUE!"}},{"$f":"IF((Y131<W131),Y131-W131,0)*-'PK kalkyl'!$AE$15","v":{"$error":"#VALUE!"}},{"$f":"IF((Z131<X131),Z131-X131,0)*-'PK kalkyl'!$AE$35","v":{"$error":"#VALUE!"}},{"$f":"+AA131*Växtföljd!$G$18+AB131*Växtföljd!$G$18","v":{"$error":"#VALUE!"}}]
[{"$f":"IF(Import!A132=\"\",\"\",Import!A132)","v":""},{"$f":"IF(Import!B132=\"\",\"\",Import!B132)","v":""},{"$f":"IF(Import!C132=\"\",\"\",Import!C132)","v":""},{"$f":"IF(Import!D132=\"\",\"\",Import!D132)","v":""},{"$f":"IF(Import!E132=\"\",\"\",Import!E132)","v":""},{"$f":"IF(Import!F132=\"\",\"\",Import!F132)","v":""},{"$f":"IF(Import!G132=\"\",\"\",Import!G132)","v":""},{"$f":"IF(Import!H132=\"\",\"\",Import!H132)","v":""},{"$f":"IF(Import!J132=\"\",\"\",Import!J132)","v":""},{"$f":"IF(Import!K132=\"\",\"\",Import!K132)","v":""},{"$f":"IF(Import!L132=\"\",\"\",Import!L132)","v":""},{"$f":"IF(Import!M132=\"\",\"\",Import!M132)","v":""},{"$f":"IF(Import!P132=\"\",\"\",Import!P132)","v":""},{"$f":"IF(Import!Q132=\"\",\"\",Import!Q132)","v":""},{"$f":"IF(Import!R132=\"\",\"\",Import!R132)","v":""},360,3.3,25,25,{"$f":"IF(Q132=\"\",\"\",(-0.00011*POWER(S132,2))+(0.01417*S132)+((0.00057*POWER(Q132,2))-(0.0529*Q132)+6.2018)+Kalkkalkyl!$AJ$2)","v":6.8189373},{"$error":"#VALUE!"},null,{"$f":"IF(('PK kalkyl'!$AE$17*H132)+'PK kalkyl'!$AE$18+(('PK kalkyl'!$K$6-'PK kalkyl'!$AE$12)*'PK kalkyl'!$AE$13)<1,0,ROUND(('PK kalkyl'!$AE$17*H132)+'PK kalkyl'!$AE$18+(('PK kalkyl'!$K$6-'PK kalkyl'!$AE$12)*'PK kalkyl'!$AE$13),1))","v":{"$error":"#VALUE!"}},{"$f":"IF(('PK kalkyl'!$AE$37*I132)+'PK kalkyl'!$AE$38+(('PK kalkyl'!$K$6-'PK kalkyl'!$AE$32)*'PK kalkyl'!$AE$33)<1,0,ROUND(('PK kalkyl'!$AE$37*I132)+'PK kalkyl'!$AE$38+(('PK kalkyl'!$K$6-'PK kalkyl'!$AE$32)*'PK kalkyl'!$AE$33),1))","v":{"$error":"#VALUE!"}},{"$error":"#VALUE!"},{"$error":"#VALUE!"},{"$f":"IF((Y132<W132),Y132-W132,0)*-'PK kalkyl'!$AE$15","v":{"$error":"#VALUE!"}},{"$f":"IF((Z132<X132),Z132-X132,0)*-'PK kalkyl'!$AE$35","v":{"$error":"#VALUE!"}},{"$f":"+AA132*Växtföljd!$G$18+AB132*Växtföljd!$G$18","v":{"$error":"#VALUE!"}}]
[{"$f":"IF(Import!A133=\"\",\"\",Import!A133)","v":""},{"$f":"IF(Import!B133=\"\",\"\",Import!B133)","v":""},{"$f":"IF(Import!C133=\"\",\"\",Import!C133)","v":""},{"$f":"IF(Import!D133=\"\",\"\",Import!D133)","v":""},{"$f":"IF(Import!E133=\"\",\"\",Import!E133)","v":""},{"$f":"IF(Import!F133=\"\",\"\",Import!F133)","v":""},{"$f":"IF(Import!G133=\"\",\"\",Import!G133)","v":""},{"$f":"IF(Import!H133=\"\",\"\",Import!H133)","v":""},{"$f":"IF(Import!J133=\"\",\"\",Import!J133)","v":""},{"$f":"IF(Import!K133=\"\",\"\",Import!K133)","v":""},{"$f":"IF(Import!L133=\"\",\"\",Import!L133)","v":""},{"$f":"IF(Import!M133=\"\",\"\",Import!M133)","v":""},{"$f":"IF(Import!P133=\"\",\"\",Import!P133)","v":""},{"$f":"IF(Import!Q133=\"\",\"\",Import!Q133)","v":""},{"$f":"IF(Import!R133=\"\",\"\",Import!R133)","v":""},518.98981660280526,2.2466247247201712,40.535651486673856,40.535651486673856,{"$f":"IF(Q133=\"\",\"\",(-0.00011*POWER(S133,2))+(0.01417*S133)+((0.00057*POWER(Q133,2))-(0.0529*Q133)+6.2018)+Kalkkalkyl!$AJ$2)","v":6.9794754129816958},{"$error":"#VALUE!"},null,{"$f":"IF(('PK kalkyl'!$AE$17*H133)+'PK kalkyl'!$AE$18+(('PK kalkyl'!$K$6-'PK kalkyl'!$AE$12)*'PK kalkyl'!$AE$13)<1,0,ROUND(('PK kalkyl'!$AE$17*H133)+'PK kalkyl'!$AE$18+(('PK kalkyl'!$K$6-'PK kalkyl'!$AE$12)*'PK kalkyl'!$AE$13),1))","v":{"$error":"#VALUE!"}},{"$f":"IF(('PK kalkyl'!$AE$37*I133)+'PK kalkyl'!$AE$38+(('PK kalkyl'!$K$6-'PK kalkyl'!$AE$32)*'PK kalkyl'!$AE$33)<1,0,ROUND(('PK kalkyl'!$AE$37*I133)+'PK kalkyl'!$AE$38+(('PK kalkyl'!$K$6-'PK kalkyl'!$AE$32)*'PK kalkyl'!$AE$33),1))","v":{"$error":"#VALUE!"}},{"$error":"#VALUE!"},{"$error":"#VALUE!"},{"$f":"IF((Y133<W133),Y133-W133,0)*-'PK kalkyl'!$AE$15","v":{"$error":"#VALUE!"}},{"$f":"IF((Z133<X133),Z133-X133,0)*-'PK kalkyl'!$AE$35","v":{"$error":"#VALUE!"}},{"$f":"+AA133*Växtföljd!$G$18+AB133*Växtföljd!$G$18","v":{"$error":"#VALUE!"}}]
[{"$f":"IF(Import!A134=\"\",\"\",Import!A134)","v":""},{"$f":"IF(Import!B134=\"\",\"\",Import!B134)","v":""},{"$f":"IF(Import!C134=\"\",\"\",Import!C134)","v":""},{"$f":"IF(Import!D134=\"\",\"\",Import!D134)","v":""},{"$f":"IF(Import!E134=\"\",\"\",Import!E134)","v":""},{"$f":"IF(Import!F134=\"\",\"\",Import!F134)","v":""},{"$f":"IF(Import!G134=\"\",\"\",Import!G134)","v":""},{"$f":"IF(Import!H134=\"\",\"\",Import!H134)","v":""},{"$f":"IF(Import!J134=\"\",\"\",Import!J134)","v":""},{"$f":"IF(Import!K134=\"\",\"\",Import!K134)","v":""},{"$f":"IF(Import!L134=\"\",\"\",Import!L134)","v":""},{"$f":"IF(Import!M134=\"\",\"\",Import!M134)","v":""},{"$f":"IF(Import!P134=\"\",\"\",Import!P134)","v":""},{"$f":"IF(Import!Q134=\"\",\"\",Import!Q134)","v":""},{"$f":"IF(Import!R134=\"\",\"\",Import!R134)","v":""},500,2.5,40,40,{"$f":"IF(Q134=\"\",\"\",(-0.00011*POWER(S134,2))+(0.01417*S134)+((0.00057*POWER(Q134,2))-(0.0529*Q134)+6.2018)+Kalkkalkyl!$AJ$2)","v":6.9639125000000002},{"$error":"#VALUE!"},null,{"$f":"IF(('PK kalkyl'!$AE$17*H134)+'PK kalkyl'!$AE$18+(('PK kalkyl'!$K$6-'PK kalkyl'!$AE$12)*'PK kalkyl'!$AE$13)<1,0,ROUND(('PK kalkyl'!$AE$17*H134)+'PK kalkyl'!$AE$18+(('PK kalkyl'!$K$6-'PK kalkyl'!$AE$12)*'PK kalkyl'!$AE$13),1))","v":{"$error":"#VALUE!"}},{"$f":"IF(('PK kalkyl'!$AE$37*I134)+'PK kalkyl'!$AE$38+(('PK kalkyl'!$K$6-'PK kalkyl'!$AE$32)*'PK kalkyl'!$AE$33)<1,0,ROUND(('PK kalkyl'!$AE$37*I134)+'PK kalkyl'!$AE$38+(('PK kalkyl'!$K$6-'PK kalkyl'!$AE$32)*'PK kalkyl'!$AE$33),1))","v":{"$error":"#VALUE!"}},{"$error":"#VALUE!"},{"$error":"#VALUE!"},{"$f":"IF((Y134<W134),Y134-W134,0)*-'PK kalkyl'!$AE$15","v":{"$error":"#VALUE!"}},{"$f":"IF((Z134<X134),Z134-X134,0)*-'PK kalkyl'!$AE$35","v":{"$error":"#VALUE!"}},{"$f":"+AA134*Växtföljd!$G$18+AB134*Växtföljd!$G$18","v":{"$error":"#VALUE!"}}]
[{"$f":"IF(Import!A135=\"\",\"\",Import!A135)","v":""},{"$f":"IF(Import!B135=\"\",\"\",Import!B135)","v":""},{"$f":"IF(Import!C135=\"\",\"\",Import!C135)","v":""},{"$f":"IF(Import!D135=\"\",\"\",Import!D135)","v":""},{"$f":"IF(Import!E135=\"\",\"\",Import!E135)","v":""},{"$f":"IF(Import!F135=\"\",\"\",Import!F135)","v":""},{"$f":"IF(Import!G135=\"\",\"\",Import!G135)","v":""},{"$f":"IF(Import!H135=\"\",\"\",Import!H135)","v":""},{"$f":"IF(Import!J135=\"\",\"\",Import!J135)","v":""},{"$f":"IF(Import!K135=\"\",\"\",Import!K135)","v":""},{"$f":"IF(Import!L135=\"\",\"\",Import!L135)","v":""},{"$f":"IF(Import!M135=\"\",\"\",Import!M135)","v":""},{"$f":"IF(Import!P135=\"\",\"\",Import!P135)","v":""},{"$f":"IF(Import!Q135=\"\",\"\",Import!Q135)","v":""},{"$f":"IF(Import!R135=\"\",\"\",Import!R135)","v":""},505.2955529627497,2.4385404681324609,40.378164344671369,40.378164344671369,{"$f":"IF(Q135=\"\",\"\",(-0.00011*POWER(S135,2))+(0.01417*S135)+((0.00057*POWER(Q135,2))-(0.0529*Q135)+6.2018)+Kalkkalkyl!$AJ$2)","v":6.9690057142371948},{"$error":"#VALUE!"},null,{"$f":"IF(('PK kalkyl'!$AE$17*H135)+'PK kalkyl'!$AE$18+(('PK kalkyl'!$K$6-'PK kalkyl'!$AE$12)*'PK kalkyl'!$AE$13)<1,0,ROUND(('PK kalkyl'!$AE$17*H135)+'PK kalkyl'!$AE$18+(('PK kalkyl'!$K$6-'PK kalkyl'!$AE$12)*'PK kalkyl'!$AE$13),1))","v":{"$error":"#VALUE!"}},{"$f":"IF(('PK kalkyl'!$AE$37*I135)+'PK kalkyl'!$AE$38+(('PK kalkyl'!$K$6-'PK kalkyl'!$AE$32)*'PK kalkyl'!$AE$33)<1,0,ROUND(('PK kalkyl'!$AE$37*I135)+'PK kalkyl'!$AE$38+(('PK kalkyl'!$K$6-'PK kalkyl'!$AE$32)*'PK kalkyl'!$AE$33),1))","v":{"$error":"#VALUE!"}},{"$error":"#VALUE!"},{"$error":"#VALUE!"},{"$f":"IF((Y135<W135),Y135-W135,0)*-'PK kalkyl'!$AE$15","v":{"$error":"#VALUE!"}},{"$f":"IF((Z135<X135),Z135-X135,0)*-'PK kalkyl'!$AE$35","v":{"$error":"#VALUE!"}},{"$f":"+AA135*Växtföljd!$G$18+AB135*Växtföljd!$G$18","v":{"$error":"#VALUE!"}}]
[{"$f":"IF(Import!A136=\"\",\"\",Import!A136)","v":""},{"$f":"IF(Import!B136=\"\",\"\",Import!B136)","v":""},{"$f":"IF(Import!C136=\"\",\"\",Import!C136)","v":""},{"$f":"IF(Import!D136=\"\",\"\",Import!D136)","v":""},{"$f":"IF(Import!E136=\"\",\"\",Import!E136)","v":""},{"$f":"IF(Import!F136=\"\",\"\",Import!F136)","v":""},{"$f":"IF(Import!G136=\"\",\"\",Import!G136)","v":""},{"$f":"IF(Import!H136=\"\",\"\",Import!H136)","v":""},{"$f":"IF(Import!J136=\"\",\"\",Import!J136)","v":""},{"$f":"IF(Import!K136=\"\",\"\",Import!K136)","v":""},{"$f":"IF(Import!L136=\"\",\"\",Import!L136)","v":""},{"$f":"IF(Import!M136=\"\",\"\",Import!M136)","v":""},{"$f":"IF(Import!P136=\"\",\"\",Import!P136)","v":""},{"$f":"IF(Import!Q136=\"\",\"\",Import!Q136)","v":""},{"$f":"IF(Import!R136=\"\",\"\",Import!R136)","v":""},540,2.1,42,42,{"$f":"IF(Q136=\"\",\"\",(-0.00011*POWER(S136,2))+(0.01417*S136)+((0.00057*POWER(Q136,2))-(0.0529*Q136)+6.2018)+Kalkkalkyl!$AJ$2)","v":6.9943237000000007},{"$error":"#VALUE!"},null,{"$f":"IF(('PK kalkyl'!$AE$17*H136)+'PK kalkyl'!$AE$18+(('PK kalkyl'!$K$6-'PK kalkyl'!$AE$12)*'PK kalkyl'!$AE$13)<1,0,ROUND(('PK kalkyl'!$AE$17*H136)+'PK kalkyl'!$AE$18+(('PK kalkyl'!$K$6-'PK kalkyl'!$AE$12)*'PK kalkyl'!$AE$13),1))","v":{"$error":"#VALUE!"}},{"$f":"IF(('PK kalkyl'!$AE$37*I136)+'PK kalkyl'!$AE$38+(('PK kalkyl'!$K$6-'PK kalkyl'!$AE$32)*'PK kalkyl'!$AE$33)<1,0,ROUND(('PK kalkyl'!$AE$37*I136)+'PK kalkyl'!$AE$38+(('PK kalkyl'!$K$6-'PK kalkyl'!$AE$32)*'PK kalkyl'!$AE$33),1))","v":{"$error":"#VALUE!"}},{"$error":"#VALUE!"},{"$error":"#VALUE!"},{"$f":"IF((Y136<W136),Y136-W136,0)*-'PK kalkyl'!$AE$15","v":{"$error":"#VALUE!"}},{"$f":"IF((Z136<X136),Z136-X136,0)*-'PK kalkyl'!$AE$35","v":{"$error":"#VALUE!"}},{"$f":"+AA136*Växtföljd!$G$18+AB136*Växtföljd!$G$18","v":{"$error":"#VALUE!"}}]
[{"$f":"IF(Import!A137=\"\",\"\",Import!A137)","v":""},{"$f":"IF(Import!B137=\"\",\"\",Import!B137)","v":""},{"$f":"IF(Import!C137=\"\",\"\",Import!C137)","v":""},{"$f":"IF(Import!D137=\"\",\"\",Import!D137)","v":""},{"$f":"IF(Import!E137=\"\",\"\",Import!E137)","v":""},{"$f":"IF(Import!F137=\"\",\"\",Import!F137)","v":""},{"$f":"IF(Import!G137=\"\",\"\",Import!G137)","v":""},{"$f":"IF(Import!H137=\"\",\"\",Import!H137)","v":""},{"$f":"IF(Import!J137=\"\",\"\",Import!J137)","v":""},{"$f":"IF(Import!K137=\"\",\"\",Import!K137)","v":""},{"$f":"IF(Import!L137=\"\",\"\",Import!L137)","v":""},{"$f":"IF(Import!M137=\"\",\"\",Import!M137)","v":""},{"$f":"IF(Import!P137=\"\",\"\",Import!P137)","v":""},{"$f":"IF(Import!Q137=\"\",\"\",Import!Q137)","v":""},{"$f":"IF(Import!R137=\"\",\"\",Import!R137)","v":""},260,3.7000000000000006,30,30,{"$f":"IF(Q137=\"\",\"\",(-0.00011*POWER(S137,2))+(0.01417*S137)+((0.00057*POWER(Q137,2))-(0.0529*Q137)+6.2018)+Kalkkalkyl!$AJ$2)","v":6.8399733000000005},{"$error":"#VALUE!"},null,{"$f":"IF(('PK kalkyl'!$AE$17*H137)+'PK kalkyl'!$AE$18+(('PK kalkyl'!$K$6-'PK kalkyl'!$AE$12)*'PK kalkyl'!$AE$13)<1,0,ROUND(('PK kalkyl'!$AE$17*H137)+'PK kalkyl'!$AE$18+(('PK kalkyl'!$K$6-'PK kalkyl'!$AE$12)*'PK kalkyl'!$AE$13),1))","v":{"$error":"#VALUE!"}},{"$f":"IF(('PK kalkyl'!$AE$37*I137)+'PK kalkyl'!$AE$38+(('PK kalkyl'!$K$6-'PK kalkyl'!$AE$32)*'PK kalkyl'!$AE$33)<1,0,ROUND(('PK kalkyl'!$AE$37*I137)+'PK kalkyl'!$AE$38+(('PK kalkyl'!$K$6-'PK kalkyl'!$AE$32)*'PK kalkyl'!$AE$33),1))","v":{"$error":"#VALUE!"}},{"$error":"#VALUE!"},{"$error":"#VALUE!"},{"$f":"IF((Y137<W137),Y137-W137,0)*-'PK kalkyl'!$AE$15","v":{"$error":"#VALUE!"}},{"$f":"IF((Z137<X137),Z137-X137,0)*-'PK kalkyl'!$AE$35","v":{"$error":"#VALUE!"}},{"$f":"+AA137*Växtföljd!$G$18+AB137*Växtföljd!$G$18","v":{"$error":"#VALUE!"}}]
[{"$f":"IF(Import!A138=\"\",\"\",Import!A138)","v":""},{"$f":"IF(Import!B138=\"\",\"\",Import!B138)","v":""},{"$f":"IF(Import!C138=\"\",\"\",Import!C138)","v":""},{"$f":"IF(Import!D138=\"\",\"\",Import!D138)","v":""},{"$f":"IF(Import!E138=\"\",\"\",Import!E138)","v":""},{"$f":"IF(Import!F138=\"\",\"\",Import!F138)","v":""},{"$f":"IF(Import!G138=\"\",\"\",Import!G138)","v":""},{"$f":"IF(Import!H138=\"\",\"\",Import!H138)","v":""},{"$f":"IF(Import!J138=\"\",\"\",Import!J138)","v":""},{"$f":"IF(Import!K138=\"\",\"\",Import!K138)","v":""},{"$f":"IF(Import!L138=\"\",\"\",Import!L138)","v":""},{"$f":"IF(Import!M138=\"\",\"\",Import!M138)","v":""},{"$f":"IF(Import!P138=\"\",\"\",Import!P138)","v":""},{"$f":"IF(Import!Q138=\"\",\"\",Import!Q138)","v":""},{"$f":"IF(Import!R138=\"\",\"\",Import!R138)","v":""},260,3.7,30,30,{"$f":"IF(Q138=\"\",\"\",(-0.00011*POWER(S138,2))+(0.01417*S138)+((0.00057*POWER(Q138,2))-(0.0529*Q138)+6.2018)+Kalkkalkyl!$AJ$2)","v":6.8399733000000005},{"$error":"#VALUE!"},null,{"$f":"IF(('PK kalkyl'!$AE$17*H138)+'PK kalkyl'!$AE$18+(('PK kalkyl'!$K$6-'PK kalkyl'!$AE$12)*'PK kalkyl'!$AE$13)<1,0,ROUND(('PK kalkyl'!$AE$17*H138)+'PK kalkyl'!$AE$18+(('PK kalkyl'!$K$6-'PK kalkyl'!$AE$12)*'PK kalkyl'!$AE$13),1))","v":{"$error":"#VALUE!"}},{"$f":"IF(('PK kalkyl'!$AE$37*I138)+'PK kalkyl'!$AE$38+(('PK kalkyl'!$K$6-'PK kalkyl'!$AE$32)*'PK kalkyl'!$AE$33)<1,0,ROUND(('PK kalkyl'!$AE$37*I138)+'PK kalkyl'!$AE$38+(('PK kalkyl'!$K$6-'PK kalkyl'!$AE$32)*'PK kalkyl'!$AE$33),1))","v":{"$error":"#VALUE!"}},{"$error":"#VALUE!"},{"$error":"#VALUE!"},{"$f":"IF((Y138<W138),Y138-W138,0)*-'PK kalkyl'!$AE$15","v":{"$error":"#VALUE!"}},{"$f":"IF((Z138<X138),Z138-X138,0)*-'PK kalkyl'!$AE$35","v":{"$error":"#VALUE!"}},{"$f":"+AA138*Växtföljd!$G$18+AB138*Växtföljd!$G$18","v":{"$error":"#VALUE!"}}]
[{"$f":"IF(Import!A139=\"\",\"\",Import!A139)","v":""},{"$f":"IF(Import!B139=\"\",\"\",Import!B139)","v":""},{"$f":"IF(Import!C139=\"\",\"\",Import!C139)","v":""},{"$f":"IF(Import!D139=\"\",\"\",Import!D139)","v":""},{"$f":"IF(Import!E139=\"\",\"\",Import!E139)","v":""},{"$f":"IF(Import!F139=\"\",\"\",Import!F139)","v":""},{"$f":"IF(Import!G139=\"\",\"\",Import!G139)","v":""},{"$f":"IF(Import!H139=\"\",\"\",Import!H139)","v":""},{"$f":"IF(Import!J139=\"\",\"\",Import!J139)","v":""},{"$f":"IF(Import!K139=\"\",\"\",Import!K139)","v":""},{"$f":"IF(Import!L139=\"\",\"\",Import!L139)","v":""},{"$f":"IF(Import!M139=\"\",\"\",Import!M139)","v":""},{"$f":"IF(Import!P139=\"\",\"\",Import!P139)","v":""},{"$f":"IF(Import!Q139=\"\",\"\",Import!Q139)","v":""},{"$f":"IF(Import!R139=\"\",\"\",Import!R139)","v":""},304.43169399090527,3.4223019125568421,32.221584699545261,32.221584699545261,{"$f":"IF(Q139=\"\",\"\",(-0.00011*POWER(S139,2))+(0.01417*S139)+((0.00057*POWER(Q139,2))-(0.0529*Q139)+6.2018)+Kalkkalkyl!$AJ$2)","v":6.8698106524747962},{"$error":"#VALUE!"},null,{"$f":"IF(('PK kalkyl'!$AE$17*H139)+'PK kalkyl'!$AE$18+(('PK kalkyl'!$K$6-'PK kalkyl'!$AE$12)*'PK kalkyl'!$AE$13)<1,0,ROUND(('PK kalkyl'!$AE$17*H139)+'PK kalkyl'!$AE$18+(('PK kalkyl'!$K$6-'PK kalkyl'!$AE$12)*'PK kalkyl'!$AE$13),1))","v":{"$error":"#VALUE!"}},{"$f":"IF(('PK kalkyl'!$AE$37*I139)+'PK kalkyl'!$AE$38+(('PK kalkyl'!$K$6-'PK kalkyl'!$AE$32)*'PK kalkyl'!$AE$33)<1,0,ROUND(('PK kalkyl'!$AE$37*I139)+'PK kalkyl'!$AE$38+(('PK kalkyl'!$K$6-'PK kalkyl'!$AE$32)*'PK kalkyl'!$AE$33),1))","v":{"$error":"#VALUE!"}},{"$error":"#VALUE!"},{"$error":"#VALUE!"},{"$f":"IF((Y139<W139),Y139-W139,0)*-'PK kalkyl'!$AE$15","v":{"$error":"#VALUE!"}},{"$f":"IF((Z139<X139),Z139-X139,0)*-'PK kalkyl'!$AE$35","v":{"$error":"#VALUE!"}},{"$f":"+AA139*Växtföljd!$G$18+AB139*Växtföljd!$G$18","v":{"$error":"#VALUE!"}}]
[{"$f":"IF(Import!A140=\"\",\"\",Import!A140)","v":""},{"$f":"IF(Import!B140=\"\",\"\",Import!B140)","v":""},{"$f":"IF(Import!C140=\"\",\"\",Import!C140)","v":""},{"$f":"IF(Import!D140=\"\",\"\",Import!D140)","v":""},{"$f":"IF(Import!E140=\"\",\"\",Import!E140)","v":""},{"$f":"IF(Import!F140=\"\",\"\",Import!F140)","v":""},{"$f":"IF(Import!G140=\"\",\"\",Import!G140)","v":""},{"$f":"IF(Import!H140=\"\",\"\",Import!H140)","v":""},{"$f":"IF(Import!J140=\"\",\"\",Import!J140)","v":""},{"$f":"IF(Import!K140=\"\",\"\",Import!K140)","v":""},{"$f":"IF(Import!L140=\"\",\"\",Import!L140)","v":""},{"$f":"IF(Import!M140=\"\",\"\",Import!M140)","v":""},{"$f":"IF(Import!P140=\"\",\"\",Import!P140)","v":""},{"$f":"IF(Import!Q140=\"\",\"\",Import!Q140)","v":""},{"$f":"IF(Import!R140=\"\",\"\",Import!R140)","v":""},340,3.2,34,34,{"$f":"IF(Q140=\"\",\"\",(-0.00011*POWER(S140,2))+(0.01417*S140)+((0.00057*POWER(Q140,2))-(0.0529*Q140)+6.2018)+Kalkkalkyl!$AJ$2)","v":6.8929768000000005},{"$error":"#VALUE!"},null,{"$f":"IF(('PK kalkyl'!$AE$17*H140)+'PK kalkyl'!$AE$18+(('PK kalkyl'!$K$6-'PK kalkyl'!$AE$12)*'PK kalkyl'!$AE$13)<1,0,ROUND(('PK kalkyl'!$AE$17*H140)+'PK kalkyl'!$AE$18+(('PK kalkyl'!$K$6-'PK kalkyl'!$AE$12)*'PK kalkyl'!$AE$13),1))","v":{"$error":"#VALUE!"}},{"$f":"IF(('PK kalkyl'!$AE$37*I140)+'PK kalkyl'!$AE$38+(('PK kalkyl'!$K$6-'PK kalkyl'!$AE$32)*'PK kalkyl'!$AE$33)<1,0,ROUND(('PK kalkyl'!$AE$37*I140)+'PK kalkyl'!$AE$38+(('PK kalkyl'!$K$6-'PK kalkyl'!$AE$32)*'PK kalkyl'!$AE$33),1))","v":{"$error":"#VALUE!"}},{"$error":"#VALUE!"},{"$error":"#VALUE!"},{"$f":"IF((Y140<W140),Y140-W140,0)*-'PK kalkyl'!$AE$15","v":{"$error":"#VALUE!"}},{"$f":"IF((Z140<X140),Z140-X140,0)*-'PK kalkyl'!$AE$35","v":{"$error":"#VALUE!"}},{"$f":"+AA140*Växtföljd!$G$18+AB140*Växtföljd!$G$18","v":{"$error":"#VALUE!"}}]
[{"$f":"IF(Import!A141=\"\",\"\",Import!A141)","v":""},{"$f":"IF(Import!B141=\"\",\"\",Import!B141)","v":""},{"$f":"IF(Import!C141=\"\",\"\",Import!C141)","v":""},{"$f":"IF(Import!D141=\"\",\"\",Import!D141)","v":""},{"$f":"IF(Import!E141=\"\",\"\",Import!E141)","v":""},{"$f":"IF(Import!F141=\"\",\"\",Import!F141)","v":""},{"$f":"IF(Import!G141=\"\",\"\",Import!G141)","v":""},{"$f":"IF(Import!H141=\"\",\"\",Import!H141)","v":""},{"$f":"IF(Import!J141=\"\",\"\",Import!J141)","v":""},{"$f":"IF(Import!K141=\"\",\"\",Import!K141)","v":""},{"$f":"IF(Import!L141=\"\",\"\",Import!L141)","v":""},{"$f":"IF(Import!M141=\"\",\"\",Import!M141)","v":""},{"$f":"IF(Import!P141=\"\",\"\",Import!P141)","v":""},{"$f":"IF(Import!Q141=\"\",\"\",Import!Q141)","v":""},{"$f":"IF(Import!R141=\"\",\"\",Import!R141)","v":""},366.97722311406886,3.2,38.046583467110331,38.046583467110331,{"$f":"IF(Q141=\"\",\"\",(-0.00011*POWER(S141,2))+(0.01417*S141)+((0.00057*POWER(Q141,2))-(0.0529*Q141)+6.2018)+Kalkkalkyl!$AJ$2)","v":6.918247211241777},{"$error":"#VALUE!"},null,{"$f":"IF(('PK kalkyl'!$AE$17*H141)+'PK kalkyl'!$AE$18+(('PK kalkyl'!$K$6-'PK kalkyl'!$AE$12)*'PK kalkyl'!$AE$13)<1,0,ROUND(('PK kalkyl'!$AE$17*H141)+'PK kalkyl'!$AE$18+(('PK kalkyl'!$K$6-'PK kalkyl'!$AE$12)*'PK kalkyl'!$AE$13),1))","v":{"$error":"#VALUE!"}},{"$f":"IF(('PK kalkyl'!$AE$37*I141)+'PK kalkyl'!$AE$38+(('PK kalkyl'!$K$6-'PK kalkyl'!$AE$32)*'PK kalkyl'!$AE$33)<1,0,ROUND(('PK kalkyl'!$AE$37*I141)+'PK kalkyl'!$AE$38+(('PK kalkyl'!$K$6-'PK kalkyl'!$AE$32)*'PK kalkyl'!$AE$33),1))","v":{"$error":"#VALUE!"}},{"$error":"#VALUE!"},{"$error":"#VALUE!"},{"$f":"IF((Y141<W141),Y141-W141,0)*-'PK kalkyl'!$AE$15","v":{"$error":"#VALUE!"}},{"$f":"IF((Z141<X141),Z141-X141,0)*-'PK kalkyl'!$AE$35","v":{"$error":"#VALUE!"}},{"$f":"+AA141*Växtföljd!$G$18+AB141*Växtföljd!$G$18","v":{"$error":"#VALUE!"}}]
[{"$f":"IF(Import!A142=\"\",\"\",Import!A142)","v":""},{"$f":"IF(Import!B142=\"\",\"\",Import!B142)","v":""},{"$f":"IF(Import!C142=\"\",\"\",Import!C142)","v":""},{"$f":"IF(Import!D142=\"\",\"\",Import!D142)","v":""},{"$f":"IF(Import!E142=\"\",\"\",Import!E142)","v":""},{"$f":"IF(Import!F142=\"\",\"\",Import!F142)","v":""},{"$f":"IF(Import!G142=\"\",\"\",Import!G142)","v":""},{"$f":"IF(Import!H142=\"\",\"\",Import!H142)","v":""},{"$f":"IF(Import!J142=\"\",\"\",Import!J142)","v":""},{"$f":"IF(Import!K142=\"\",\"\",Import!K142)","v":""},{"$f":"IF(Import!L142=\"\",\"\",Import!L142)","v":""},{"$f":"IF(Import!M142=\"\",\"\",Import!M142)","v":""},{"$f":"IF(Import!P142=\"\",\"\",Import!P142)","v":""},{"$f":"IF(Import!Q142=\"\",\"\",Import!Q142)","v":""},{"$f":"IF(Import!R142=\"\",\"\",Import!R142)","v":""},380,3.2,40,40,{"$f":"IF(Q142=\"\",\"\",(-0.00011*POWER(S142,2))+(0.01417*S142)+((0.00057*POWER(Q142,2))-(0.0529*Q142)+6.2018)+Kalkkalkyl!$AJ$2)","v":6.9291568000000003},{"$error":"#VALUE!"},null,{"$f":"IF(('PK kalkyl'!$AE$17*H142)+'PK kalkyl'!$AE$18+(('PK kalkyl'!$K$6-'PK kalkyl'!$AE$12)*'PK kalkyl'!$AE$13)<1,0,ROUND(('PK kalkyl'!$AE$17*H142)+'PK kalkyl'!$AE$18+(('PK kalkyl'!$K$6-'PK kalkyl'!$AE$12)*'PK kalkyl'!$AE$13),1))","v":{"$error":"#VALUE!"}},{"$f":"IF(('PK kalkyl'!$AE$37*I142)+'PK kalkyl'!$AE$38+(('PK kalkyl'!$K$6-'PK kalkyl'!$AE$32)*'PK kalkyl'!$AE$33)<1,0,ROUND(('PK kalkyl'!$AE$37*I142)+'PK kalkyl'!$AE$38+(('PK kalkyl'!$K$6-'PK kalkyl'!$AE$32)*'PK kalkyl'!$AE$33),1))","v":{"$error":"#VALUE!"}},{"$error":"#VALUE!"},{"$error":"#VALUE!"},{"$f":"IF((Y142<W142),Y142-W142,0)*-'PK kalkyl'!$AE$15","v":{"$error":"#VALUE!"}},{"$f":"IF((Z142<X142),Z142-X142,0)*-'PK kalkyl'!$AE$35","v":{"$error":"#VALUE!"}},{"$f":"+AA142*Växtföljd!$G$18+AB142*Växtföljd!$G$18","v":{"$error":"#VALUE!"}}]
[{"$f":"IF(Import!A143=\"\",\"\",Import!A143)","v":""},{"$f":"IF(Import!B143=\"\",\"\",Import!B143)","v":""},{"$f":"IF(Import!C143=\"\",\"\",Import!C143)","v":""},{"$f":"IF(Import!D143=\"\",\"\",Import!D143)","v":""},{"$f":"IF(Import!E143=\"\",\"\",Import!E143)","v":""},{"$f":"IF(Import!F143=\"\",\"\",Import!F143)","v":""},{"$f":"IF(Import!G143=\"\",\"\",Import!G143)","v":""},{"$f":"IF(Import!H143=\"\",\"\",Import!H143)","v":""},{"$f":"IF(Import!J143=\"\",\"\",Import!J143)","v":""},{"$f":"IF(Import!K143=\"\",\"\",Import!K143)","v":""},{"$f":"IF(Import!L143=\"\",\"\",Import!L143)","v":""},{"$f":"IF(Import!M143=\"\",\"\",Import!M143)","v":""},{"$f":"IF(Import!P143=\"\",\"\",Import!P143)","v":""},{"$f":"IF(Import!Q143=\"\",\"\",Import!Q143)","v":""},{"$f":"IF(Import!R143=\"\",\"\",Import!R143)","v":""},387.96329621469056,4.9519251672319315,43.981648107345293,43.981648107345293,{"$f":"IF(Q143=\"\",\"\",(-0.00011*POWER(S143,2))+(0.01417*S143)+((0.00057*POWER(Q143,2))-(0.0529*Q143)+6.2018)+Kalkkalkyl!$AJ$2)","v":6.8642580124395582},{"$error":"#VALUE!"},null,{"$f":"IF(('PK kalkyl'!$AE$17*H143)+'PK kalkyl'!$AE$18+(('PK kalkyl'!$K$6-'PK kalkyl'!$AE$12)*'PK kalkyl'!$AE$13)<1,0,ROUND(('PK kalkyl'!$AE$17*H143)+'PK kalkyl'!$AE$18+(('PK kalkyl'!$K$6-'PK kalkyl'!$AE$12)*'PK kalkyl'!$AE$13),1))","v":{"$error":"#VALUE!"}},{"$f":"IF(('PK kalkyl'!$AE$37*I143)+'PK kalkyl'!$AE$38+(('PK kalkyl'!$K$6-'PK kalkyl'!$AE$32)*'PK kalkyl'!$AE$33)<1,0,ROUND(('PK kalkyl'!$AE$37*I143)+'PK kalkyl'!$AE$38+(('PK kalkyl'!$K$6-'PK kalkyl'!$AE$32)*'PK kalkyl'!$AE$33),1))","v":{"$error":"#VALUE!"}},{"$error":"#VALUE!"},{"$error":"#VALUE!"},{"$f":"IF((Y143<W143),Y143-W143,0)*-'PK kalkyl'!$AE$15","v":{"$error":"#VALUE!"}},{"$f":"IF((Z143<X143),Z143-X143,0)*-'PK kalkyl'!$AE$35","v":{"$error":"#VALUE!"}},{"$f":"+AA143*Växtföljd!$G$18+AB143*Växtföljd!$G$18","v":{"$error":"#VALUE!"}}]
[{"$f":"IF(Import!A144=\"\",\"\",Import!A144)","v":""},{"$f":"IF(Import!B144=\"\",\"\",Import!B144)","v":""},{"$f":"IF(Import!C144=\"\",\"\",Import!C144)","v":""},{"$f":"IF(Import!D144=\"\",\"\",Import!D144)","v":""},{"$f":"IF(Import!E144=\"\",\"\",Import!E144)","v":""},{"$f":"IF(Import!F144=\"\",\"\",Import!F144)","v":""},{"$f":"IF(Import!G144=\"\",\"\",Import!G144)","v":""},{"$f":"IF(Import!H144=\"\",\"\",Import!H144)","v":""},{"$f":"IF(Import!J144=\"\",\"\",Import!J144)","v":""},{"$f":"IF(Import!K144=\"\",\"\",Import!K144)","v":""},{"$f":"IF(Import!L144=\"\",\"\",Import!L144)","v":""},{"$f":"IF(Import!M144=\"\",\"\",Import!M144)","v":""},{"$f":"IF(Import!P144=\"\",\"\",Import!P144)","v":""},{"$f":"IF(Import!Q144=\"\",\"\",Import!Q144)","v":""},{"$f":"IF(Import!R144=\"\",\"\",Import!R144)","v":""},390,5.4,45,45,{"$f":"IF(Q144=\"\",\"\",(-0.00011*POWER(S144,2))+(0.01417*S144)+((0.00057*POWER(Q144,2))-(0.0529*Q144)+6.2018)+Kalkkalkyl!$AJ$2)","v":6.847661200000001},{"$error":"#VALUE!"},null,{"$f":"IF(('PK kalkyl'!$AE$17*H144)+'PK kalkyl'!$AE$18+(('PK kalkyl'!$K$6-'PK kalkyl'!$AE$12)*'PK kalkyl'!$AE$13)<1,0,ROUND(('PK kalkyl'!$AE$17*H144)+'PK kalkyl'!$AE$18+(('PK kalkyl'!$K$6-'PK kalkyl'!$AE$12)*'PK kalkyl'!$AE$13),1))","v":{"$error":"#VALUE!"}},{"$f":"IF(('PK kalkyl'!$AE$37*I144)+'PK kalkyl'!$AE$38+(('PK kalkyl'!$K$6-'PK kalkyl'!$AE$32)*'PK kalkyl'!$AE$33)<1,0,ROUND(('PK kalkyl'!$AE$37*I144)+'PK kalkyl'!$AE$38+(('PK kalkyl'!$K$6-'PK kalkyl'!$AE$32)*'PK kalkyl'!$AE$33),1))","v":{"$error":"#VALUE!"}},{"$error":"#VALUE!"},{"$error":"#VALUE!"},{"$f":"IF((Y144<W144),Y144-W144,0)*-'PK kalkyl'!$AE$15","v":{"$error":"#VALUE!"}},{"$f":"IF((Z144<X144),Z144-X144,0)*-'PK kalkyl'!$AE$35","v":{"$error":"#VALUE!"}},{"$f":"+AA144*Växtföljd!$G$18+AB144*Växtföljd!$G$18","v":{"$error":"#VALUE!"}}]
[{"$f":"IF(Import!A145=\"\",\"\",Import!A145)","v":""},{"$f":"IF(Import!B145=\"\",\"\",Import!B145)","v":""},{"$f":"IF(Import!C145=\"\",\"\",Import!C145)","v":""},{"$f":"IF(Import!D145=\"\",\"\",Import!D145)","v":""},{"$f":"IF(Import!E145=\"\",\"\",Import!E145)","v":""},{"$f":"IF(Import!F145=\"\",\"\",Import!F145)","v":""},{"$f":"IF(Import!G145=\"\",\"\",Import!G145)","v":""},{"$f":"IF(Import!H145=\"\",\"\",Import!H145)","v":""},{"$f":"IF(Import!J145=\"\",\"\",Import!J145)","v":""},{"$f":"IF(Import!K145=\"\",\"\",Import!K145)","v":""},{"$f":"IF(Import!L145=\"\",\"\",Import!L145)","v":""},{"$f":"IF(Import!M145=\"\",\"\",Import!M145)","v":""},{"$f":"IF(Import!P145=\"\",\"\",Import!P145)","v":""},{"$f":"IF(Import!Q145=\"\",\"\",Import!Q145)","v":""},{"$f":"IF(Import!R145=\"\",\"\",Import!R145)","v":""},330,2.8000000000000003,34,34,{"$f":"IF(Q145=\"\",\"\",(-0.00011*POWER(S145,2))+(0.01417*S145)+((0.00057*POWER(Q145,2))-(0.0529*Q145)+6.2018)+Kalkkalkyl!$AJ$2)","v":6.9127688000000003},{"$error":"#VALUE!"},null,{"$f":"IF(('PK kalkyl'!$AE$17*H145)+'PK kalkyl'!$AE$18+(('PK kalkyl'!$K$6-'PK kalkyl'!$AE$12)*'PK kalkyl'!$AE$13)<1,0,ROUND(('PK kalkyl'!$AE$17*H145)+'PK kalkyl'!$AE$18+(('PK kalkyl'!$K$6-'PK kalkyl'!$AE$12)*'PK kalkyl'!$AE$13),1))","v":{"$error":"#VALUE!"}},{"$f":"IF(('PK kalkyl'!$AE$37*I145)+'PK kalkyl'!$AE$38+(('PK kalkyl'!$K$6-'PK kalkyl'!$AE$32)*'PK kalkyl'!$AE$33)<1,0,ROUND(('PK kalkyl'!$AE$37*I145)+'PK kalkyl'!$AE$38+(('PK kalkyl'!$K$6-'PK kalkyl'!$AE$32)*'PK kalkyl'!$AE$33),1))","v":{"$error":"#VALUE!"}},{"$error":"#VALUE!"},{"$error":"#VALUE!"},{"$f":"IF((Y145<W145),Y145-W145,0)*-'PK kalkyl'!$AE$15","v":{"$error":"#VALUE!"}},{"$f":"IF((Z145<X145),Z145-X145,0)*-'PK kalkyl'!$AE$35","v":{"$error":"#VALUE!"}},{"$f":"+AA145*Växtföljd!$G$18+AB145*Växtföljd!$G$18","v":{"$error":"#VALUE!"}}]
[{"$f":"IF(Import!A146=\"\",\"\",Import!A146)","v":""},{"$f":"IF(Import!B146=\"\",\"\",Import!B146)","v":""},{"$f":"IF(Import!C146=\"\",\"\",Import!C146)","v":""},{"$f":"IF(Import!D146=\"\",\"\",Import!D146)","v":""},{"$f":"IF(Import!E146=\"\",\"\",Import!E146)","v":""},{"$f":"IF(Import!F146=\"\",\"\",Import!F146)","v":""},{"$f":"IF(Import!G146=\"\",\"\",Import!G146)","v":""},{"$f":"IF(Import!H146=\"\",\"\",Import!H146)","v":""},{"$f":"IF(Import!J146=\"\",\"\",Import!J146)","v":""},{"$f":"IF(Import!K146=\"\",\"\",Import!K146)","v":""},{"$f":"IF(Import!L146=\"\",\"\",Import!L146)","v":""},{"$f":"IF(Import!M146=\"\",\"\",Import!M146)","v":""},{"$f":"IF(Import!P146=\"\",\"\",Import!P146)","v":""},{"$f":"IF(Import!Q146=\"\",\"\",Import!Q146)","v":""},{"$f":"IF(Import!R146=\"\",\"\",Import!R146)","v":""},330,2.8,34,34,{"$f":"IF(Q146=\"\",\"\",(-0.00011*POWER(S146,2))+(0.01417*S146)+((0.00057*POWER(Q146,2))-(0.0529*Q146)+6.2018)+Kalkkalkyl!$AJ$2)","v":6.9127688000000003},{"$error":"#VALUE!"},null,{"$f":"IF(('PK kalkyl'!$AE$17*H146)+'PK kalkyl'!$AE$18+(('PK kalkyl'!$K$6-'PK kalkyl'!$AE$12)*'PK kalkyl'!$AE$13)<1,0,ROUND(('PK kalkyl'!$AE$17*H146)+'PK kalkyl'!$AE$18+(('PK kalkyl'!$K$6-'PK kalkyl'!$AE$12)*'PK kalkyl'!$AE$13),1))","v":{"$error":"#VALUE!"}},{"$f":"IF(('PK kalkyl'!$AE$37*I146)+'PK kalkyl'!$AE$38+(('PK kalkyl'!$K$6-'PK kalkyl'!$AE$32)*'PK kalkyl'!$AE$33)<1,0,ROUND(('PK kalkyl'!$AE$37*I146)+'PK kalkyl'!$AE$38+(('PK kalkyl'!$K$6-'PK kalkyl'!$AE$32)*'PK kalkyl'!$AE$33),1))","v":{"$error":"#VALUE!"}},{"$error":"#VALUE!"},{"$error":"#VALUE!"},{"$f":"IF((Y146<W146),Y146-W146,0)*-'PK kalkyl'!$AE$15","v":{"$error":"#VALUE!"}},{"$f":"IF((Z146<X146),Z146-X146,0)*-'PK kalkyl'!$AE$35","v":{"$error":"#VALUE!"}},{"$f":"+AA146*Växtföljd!$G$18+AB146*Växtföljd!$G$18","v":{"$error":"#VALUE!"}}]
[{"$f":"IF(Import!A147=\"\",\"\",Import!A147)","v":""},{"$f":"IF(Import!B147=\"\",\"\",Import!B147)","v":""},{"$f":"IF(Import!C147=\"\",\"\",Import!C147)","v":""},{"$f":"IF(Import!D147=\"\",\"\",Import!D147)","v":""},{"$f":"IF(Import!E147=\"\",\"\",Import!E147)","v":""},{"$f":"IF(Import!F147=\"\",\"\",Import!F147)","v":""},{"$f":"IF(Import!G147=\"\",\"\",Import!G147)","v":""},{"$f":"IF(Import!H147=\"\",\"\",Import!H147)","v":""},{"$f":"IF(Import!J147=\"\",\"\",Import!J147)","v":""},{"$f":"IF(Import!K147=\"\",\"\",Import!K147)","v":""},{"$f":"IF(Import!L147=\"\",\"\",Import!L147)","v":""},{"$f":"IF(Import!M147=\"\",\"\",Import!M147)","v":""},{"$f":"IF(Import!P147=\"\",\"\",Import!P147)","v":""},{"$f":"IF(Import!Q147=\"\",\"\",Import!Q147)","v":""},{"$f":"IF(Import!R147=\"\",\"\",Import!R147)","v":""},254.56294896988032,3.742963137876496,30.228147448494017,30.228147448494017,{"$f":"IF(Q147=\"\",\"\",(-0.00011*POWER(S147,2))+(0.01417*S147)+((0.00057*POWER(Q147,2))-(0.0529*Q147)+6.2018)+Kalkkalkyl!$AJ$2)","v":6.8396041711923816},{"$error":"#VALUE!"},null,{"$f":"IF(('PK kalkyl'!$AE$17*H147)+'PK kalkyl'!$AE$18+(('PK kalkyl'!$K$6-'PK kalkyl'!$AE$12)*'PK kalkyl'!$AE$13)<1,0,ROUND(('PK kalkyl'!$AE$17*H147)+'PK kalkyl'!$AE$18+(('PK kalkyl'!$K$6-'PK kalkyl'!$AE$12)*'PK kalkyl'!$AE$13),1))","v":{"$error":"#VALUE!"}},{"$f":"IF(('PK kalkyl'!$AE$37*I147)+'PK kalkyl'!$AE$38+(('PK kalkyl'!$K$6-'PK kalkyl'!$AE$32)*'PK kalkyl'!$AE$33)<1,0,ROUND(('PK kalkyl'!$AE$37*I147)+'PK kalkyl'!$AE$38+(('PK kalkyl'!$K$6-'PK kalkyl'!$AE$32)*'PK kalkyl'!$AE$33),1))","v":{"$error":"#VALUE!"}},{"$error":"#VALUE!"},{"$error":"#VALUE!"},{"$f":"IF((Y147<W147),Y147-W147,0)*-'PK kalkyl'!$AE$15","v":{"$error":"#VALUE!"}},{"$f":"IF((Z147<X147),Z147-X147,0)*-'PK kalkyl'!$AE$35","v":{"$error":"#VALUE!"}},{"$f":"+AA147*Växtföljd!$G$18+AB147*Växtföljd!$G$18","v":{"$error":"#VALUE!"}}]
[{"$f":"IF(Import!A148=\"\",\"\",Import!A148)","v":""},{"$f":"IF(Import!B148=\"\",\"\",Import!B148)","v":""},{"$f":"IF(Import!C148=\"\",\"\",Import!C148)","v":""},{"$f":"IF(Import!D148=\"\",\"\",Import!D148)","v":""},{"$f":"IF(Import!E148=\"\",\"\",Import!E148)","v":""},{"$f":"IF(Import!F148=\"\",\"\",Import!F148)","v":""},{"$f":"IF(Import!G148=\"\",\"\",Import!G148)","v":""},{"$f":"IF(Import!H148=\"\",\"\",Import!H148)","v":""},{"$f":"IF(Import!J148=\"\",\"\",Import!J148)","v":""},{"$f":"IF(Import!K148=\"\",\"\",Import!K148)","v":""},{"$f":"IF(Import!L148=\"\",\"\",Import!L148)","v":""},{"$f":"IF(Import!M148=\"\",\"\",Import!M148)","v":""},{"$f":"IF(Import!P148=\"\",\"\",Import!P148)","v":""},{"$f":"IF(Import!Q148=\"\",\"\",Import!Q148)","v":""},{"$f":"IF(Import!R148=\"\",\"\",Import!R148)","v":""},250,3.8,30,30,{"$f":"IF(Q148=\"\",\"\",(-0.00011*POWER(S148,2))+(0.01417*S148)+((0.00057*POWER(Q148,2))-(0.0529*Q148)+6.2018)+Kalkkalkyl!$AJ$2)","v":6.8351108000000007},{"$error":"#VALUE!"},null,{"$f":"IF(('PK kalkyl'!$AE$17*H148)+'PK kalkyl'!$AE$18+(('PK kalkyl'!$K$6-'PK kalkyl'!$AE$12)*'PK kalkyl'!$AE$13)<1,0,ROUND(('PK kalkyl'!$AE$17*H148)+'PK kalkyl'!$AE$18+(('PK kalkyl'!$K$6-'PK kalkyl'!$AE$12)*'PK kalkyl'!$AE$13),1))","v":{"$error":"#VALUE!"}},{"$f":"IF(('PK kalkyl'!$AE$37*I148)+'PK kalkyl'!$AE$38+(('PK kalkyl'!$K$6-'PK kalkyl'!$AE$32)*'PK kalkyl'!$AE$33)<1,0,ROUND(('PK kalkyl'!$AE$37*I148)+'PK kalkyl'!$AE$38+(('PK kalkyl'!$K$6-'PK kalkyl'!$AE$32)*'PK kalkyl'!$AE$33),1))","v":{"$error":"#VALUE!"}},{"$error":"#VALUE!"},{"$error":"#VALUE!"},{"$f":"IF((Y148<W148),Y148-W148,0)*-'PK kalkyl'!$AE$15","v":{"$error":"#VALUE!"}},{"$f":"IF((Z148<X148),Z148-X148,0)*-'PK kalkyl'!$AE$35","v":{"$error":"#VALUE!"}},{"$f":"+AA148*Växtföljd!$G$18+AB148*Växtföljd!$G$18","v":{"$error":"#VALUE!"}}]
[{"$f":"IF(Import!A149=\"\",\"\",Import!A149)","v":""},{"$f":"IF(Import!B149=\"\",\"\",Import!B149)","v":""},{"$f":"IF(Import!C149=\"\",\"\",Import!C149)","v":""},{"$f":"IF(Import!D149=\"\",\"\",Import!D149)","v":""},{"$f":"IF(Import!E149=\"\",\"\",Import!E149)","v":""},{"$f":"IF(Import!F149=\"\",\"\",Import!F149)","v":""},{"$f":"IF(Import!G149=\"\",\"\",Import!G149)","v":""},{"$f":"IF(Import!H149=\"\",\"\",Import!H149)","v":""},{"$f":"IF(Import!J149=\"\",\"\",Import!J149)","v":""},{"$f":"IF(Import!K149=\"\",\"\",Import!K149)","v":""},{"$f":"IF(Import!L149=\"\",\"\",Import!L149)","v":""},{"$f":"IF(Import!M149=\"\",\"\",Import!M149)","v":""},{"$f":"IF(Import!P149=\"\",\"\",Import!P149)","v":""},{"$f":"IF(Import!Q149=\"\",\"\",Import!Q149)","v":""},{"$f":"IF(Import!R149=\"\",\"\",Import!R149)","v":""},441.42829664482531,4.1514863946986518,33.936380279247366,33.936380279247366,{"$f":"IF(Q149=\"\",\"\",(-0.00011*POWER(S149,2))+(0.01417*S149)+((0.00057*POWER(Q149,2))-(0.0529*Q149)+6.2018)+Kalkkalkyl!$AJ$2)","v":6.8462041669596907},{"$error":"#VALUE!"},null,{"$f":"IF(('PK kalkyl'!$AE$17*H149)+'PK kalkyl'!$AE$18+(('PK kalkyl'!$K$6-'PK kalkyl'!$AE$12)*'PK kalkyl'!$AE$13)<1,0,ROUND(('PK kalkyl'!$AE$17*H149)+'PK kalkyl'!$AE$18+(('PK kalkyl'!$K$6-'PK kalkyl'!$AE$12)*'PK kalkyl'!$AE$13),1))","v":{"$error":"#VALUE!"}},{"$f":"IF(('PK kalkyl'!$AE$37*I149)+'PK kalkyl'!$AE$38+(('PK kalkyl'!$K$6-'PK kalkyl'!$AE$32)*'PK kalkyl'!$AE$33)<1,0,ROUND(('PK kalkyl'!$AE$37*I149)+'PK kalkyl'!$AE$38+(('PK kalkyl'!$K$6-'PK kalkyl'!$AE$32)*'PK kalkyl'!$AE$33),1))","v":{"$error":"#VALUE!"}},{"$error":"#VALUE!"},{"$error":"#VALUE!"},{"$f":"IF((Y149<W149),Y149-W149,0)*-'PK kalkyl'!$AE$15","v":{"$error":"#VALUE!"}},{"$f":"IF((Z149<X149),Z149-X149,0)*-'PK kalkyl'!$AE$35","v":{"$error":"#VALUE!"}},{"$f":"+AA149*Växtföljd!$G$18+AB149*Växtföljd!$G$18","v":{"$error":"#VALUE!"}}]
[{"$f":"IF(Import!A150=\"\",\"\",Import!A150)","v":""},{"$f":"IF(Import!B150=\"\",\"\",Import!B150)","v":""},{"$f":"IF(Import!C150=\"\",\"\",Import!C150)","v":""},{"$f":"IF(Import!D150=\"\",\"\",Import!D150)","v":""},{"$f":"IF(Import!E150=\"\",\"\",Import!E150)","v":""},{"$f":"IF(Import!F150=\"\",\"\",Import!F150)","v":""},{"$f":"IF(Import!G150=\"\",\"\",Import!G150)","v":""},{"$f":"IF(Import!H150=\"\",\"\",Import!H150)","v":""},{"$f":"IF(Import!J150=\"\",\"\",Import!J150)","v":""},{"$f":"IF(Import!K150=\"\",\"\",Import!K150)","v":""},{"$f":"IF(Import!L150=\"\",\"\",Import!L150)","v":""},{"$f":"IF(Import!M150=\"\",\"\",Import!M150)","v":""},{"$f":"IF(Import!P150=\"\",\"\",Import!P150)","v":""},{"$f":"IF(Import!Q150=\"\",\"\",Import!Q150)","v":""},{"$f":"IF(Import!R150=\"\",\"\",Import!R150)","v":""},460,4.8,33,33,{"$f":"IF(Q150=\"\",\"\",(-0.00011*POWER(S150,2))+(0.01417*S150)+((0.00057*POWER(Q150,2))-(0.0529*Q150)+6.2018)+Kalkkalkyl!$AJ$2)","v":6.8088328000000011},{"$error":"#VALUE!"},null,{"$f":"IF(('PK kalkyl'!$AE$17*H150)+'PK kalkyl'!$AE$18+(('PK kalkyl'!$K$6-'PK kalkyl'!$AE$12)*'PK kalkyl'!$AE$13)<1,0,ROUND(('PK kalkyl'!$AE$17*H150)+'PK kalkyl'!$AE$18+(('PK kalkyl'!$K$6-'PK kalkyl'!$AE$12)*'PK kalkyl'!$AE$13),1))","v":{"$error":"#VALUE!"}},{"$f":"IF(('PK kalkyl'!$AE$37*I150)+'PK kalkyl'!$AE$38+(('PK kalkyl'!$K$6-'PK kalkyl'!$AE$32)*'PK kalkyl'!$AE$33)<1,0,ROUND(('PK kalkyl'!$AE$37*I150)+'PK kalkyl'!$AE$38+(('PK kalkyl'!$K$6-'PK kalkyl'!$AE$32)*'PK kalkyl'!$AE$33),1))","v":{"$error":"#VALUE!"}},{"$error":"#VALUE!"},{"$error":"#VALUE!"},{"$f":"IF((Y150<W150),Y150-W150,0)*-'PK kalkyl'!$AE$15","v":{"$error":"#VALUE!"}},{"$f":"IF((Z150<X150),Z150-X150,0)*-'PK kalkyl'!$AE$35","v":{"$error":"#VALUE!"}},{"$f":"+AA150*Växtföljd!$G$18+AB150*Växtföljd!$G$18","v":{"$error":"#VALUE!"}}]
[{"$f":"IF(Import!A151=\"\",\"\",Import!A151)","v":""},{"$f":"IF(Import!B151=\"\",\"\",Import!B151)","v":""},{"$f":"IF(Import!C151=\"\",\"\",Import!C151)","v":""},{"$f":"IF(Import!D151=\"\",\"\",Import!D151)","v":""},{"$f":"IF(Import!E151=\"\",\"\",Import!E151)","v":""},{"$f":"IF(Import!F151=\"\",\"\",Import!F151)","v":""},{"$f":"IF(Import!G151=\"\",\"\",Import!G151)","v":""},{"$f":"IF(Import!H151=\"\",\"\",Import!H151)","v":""},{"$f":"IF(Import!J151=\"\",\"\",Import!J151)","v":""},{"$f":"IF(Import!K151=\"\",\"\",Import!K151)","v":""},{"$f":"IF(Import!L151=\"\",\"\",Import!L151)","v":""},{"$f":"IF(Import!M151=\"\",\"\",Import!M151)","v":""},{"$f":"IF(Import!P151=\"\",\"\",Import!P151)","v":""},{"$f":"IF(Import!Q151=\"\",\"\",Import!Q151)","v":""},{"$f":"IF(Import!R151=\"\",\"\",Import!R151)","v":""},346.84324520527611,3.2574478258775361,32.706026063126039,32.706026063126039,{"$f":"IF(Q151=\"\",\"\",(-0.00011*POWER(S151,2))+(0.01417*S151)+((0.00057*POWER(Q151,2))-(0.0529*Q151)+6.2018)+Kalkkalkyl!$AJ$2)","v":6.8813083946458065},{"$error":"#VALUE!"},null,{"$f":"IF(('PK kalkyl'!$AE$17*H151)+'PK kalkyl'!$AE$18+(('PK kalkyl'!$K$6-'PK kalkyl'!$AE$12)*'PK kalkyl'!$AE$13)<1,0,ROUND(('PK kalkyl'!$AE$17*H151)+'PK kalkyl'!$AE$18+(('PK kalkyl'!$K$6-'PK kalkyl'!$AE$12)*'PK kalkyl'!$AE$13),1))","v":{"$error":"#VALUE!"}},{"$f":"IF(('PK kalkyl'!$AE$37*I151)+'PK kalkyl'!$AE$38+(('PK kalkyl'!$K$6-'PK kalkyl'!$AE$32)*'PK kalkyl'!$AE$33)<1,0,ROUND(('PK kalkyl'!$AE$37*I151)+'PK kalkyl'!$AE$38+(('PK kalkyl'!$K$6-'PK kalkyl'!$AE$32)*'PK kalkyl'!$AE$33),1))","v":{"$error":"#VALUE!"}},{"$error":"#VALUE!"},{"$error":"#VALUE!"},{"$f":"IF((Y151<W151),Y151-W151,0)*-'PK kalkyl'!$AE$15","v":{"$error":"#VALUE!"}},{"$f":"IF((Z151<X151),Z151-X151,0)*-'PK kalkyl'!$AE$35","v":{"$error":"#VALUE!"}},{"$f":"+AA151*Växtföljd!$G$18+AB151*Växtföljd!$G$18","v":{"$error":"#VALUE!"}}]
[{"$f":"IF(Import!A152=\"\",\"\",Import!A152)","v":""},{"$f":"IF(Import!B152=\"\",\"\",Import!B152)","v":""},{"$f":"IF(Import!C152=\"\",\"\",Import!C152)","v":""},{"$f":"IF(Import!D152=\"\",\"\",Import!D152)","v":""},{"$f":"IF(Import!E152=\"\",\"\",Import!E152)","v":""},{"$f":"IF(Import!F152=\"\",\"\",Import!F152)","v":""},{"$f":"IF(Import!G152=\"\",\"\",Import!G152)","v":""},{"$f":"IF(Import!H152=\"\",\"\",Import!H152)","v":""},{"$f":"IF(Import!J152=\"\",\"\",Import!J152)","v":""},{"$f":"IF(Import!K152=\"\",\"\",Import!K152)","v":""},{"$f":"IF(Import!L152=\"\",\"\",Import!L152)","v":""},{"$f":"IF(Import!M152=\"\",\"\",Import!M152)","v":""},{"$f":"IF(Import!P152=\"\",\"\",Import!P152)","v":""},{"$f":"IF(Import!Q152=\"\",\"\",Import!Q152)","v":""},{"$f":"IF(Import!R152=\"\",\"\",Import!R152)","v":""},330,3.3,34,34,{"$f":"IF(Q152=\"\",\"\",(-0.00011*POWER(S152,2))+(0.01417*S152)+((0.00057*POWER(Q152,2))-(0.0529*Q152)+6.2018)+Kalkkalkyl!$AJ$2)","v":6.8880572999999998},{"$error":"#VALUE!"},null,{"$f":"IF(('PK kalkyl'!$AE$17*H152)+'PK kalkyl'!$AE$18+(('PK kalkyl'!$K$6-'PK kalkyl'!$AE$12)*'PK kalkyl'!$AE$13)<1,0,ROUND(('PK kalkyl'!$AE$17*H152)+'PK kalkyl'!$AE$18+(('PK kalkyl'!$K$6-'PK kalkyl'!$AE$12)*'PK kalkyl'!$AE$13),1))","v":{"$error":"#VALUE!"}},{"$f":"IF(('PK kalkyl'!$AE$37*I152)+'PK kalkyl'!$AE$38+(('PK kalkyl'!$K$6-'PK kalkyl'!$AE$32)*'PK kalkyl'!$AE$33)<1,0,ROUND(('PK kalkyl'!$AE$37*I152)+'PK kalkyl'!$AE$38+(('PK kalkyl'!$K$6-'PK kalkyl'!$AE$32)*'PK kalkyl'!$AE$33),1))","v":{"$error":"#VALUE!"}},{"$error":"#VALUE!"},{"$error":"#VALUE!"},{"$f":"IF((Y152<W152),Y152-W152,0)*-'PK kalkyl'!$AE$15","v":{"$error":"#VALUE!"}},{"$f":"IF((Z152<X152),Z152-X152,0)*-'PK kalkyl'!$AE$35","v":{"$error":"#VALUE!"}},{"$f":"+AA152*Växtföljd!$G$18+AB152*Växtföljd!$G$18","v":{"$error":"#VALUE!"}}]
[{"$f":"IF(Import!A153=\"\",\"\",Import!A153)","v":""},{"$f":"IF(Import!B153=\"\",\"\",Import!B153)","v":""},{"$f":"IF(Import!C153=\"\",\"\",Import!C153)","v":""},{"$f":"IF(Import!D153=\"\",\"\",Import!D153)","v":""},{"$f":"IF(Import!E153=\"\",\"\",Import!E153)","v":""},{"$f":"IF(Import!F153=\"\",\"\",Import!F153)","v":""},{"$f":"IF(Import!G153=\"\",\"\",Import!G153)","v":""},{"$f":"IF(Import!H153=\"\",\"\",Import!H153)","v":""},{"$f":"IF(Import!J153=\"\",\"\",Import!J153)","v":""},{"$f":"IF(Import!K153=\"\",\"\",Import!K153)","v":""},{"$f":"IF(Import!L153=\"\",\"\",Import!L153)","v":""},{"$f":"IF(Import!M153=\"\",\"\",Import!M153)","v":""},{"$f":"IF(Import!P153=\"\",\"\",Import!P153)","v":""},{"$f":"IF(Import!Q153=\"\",\"\",Import!Q153)","v":""},{"$f":"IF(Import!R153=\"\",\"\",Import!R153)","v":""},322.93909251882826,3.000636414575359,32.968352118237583,32.968352118237583,{"$f":"IF(Q153=\"\",\"\",(-0.00011*POWER(S153,2))+(0.01417*S153)+((0.00057*POWER(Q153,2))-(0.0529*Q153)+6.2018)+Kalkkalkyl!$AJ$2)","v":6.8957997133999704},{"$error":"#VALUE!"},null,{"$f":"IF(('PK kalkyl'!$AE$17*H153)+'PK kalkyl'!$AE$18+(('PK kalkyl'!$K$6-'PK kalkyl'!$AE$12)*'PK kalkyl'!$AE$13)<1,0,ROUND(('PK kalkyl'!$AE$17*H153)+'PK kalkyl'!$AE$18+(('PK kalkyl'!$K$6-'PK kalkyl'!$AE$12)*'PK kalkyl'!$AE$13),1))","v":{"$error":"#VALUE!"}},{"$f":"IF(('PK kalkyl'!$AE$37*I153)+'PK kalkyl'!$AE$38+(('PK kalkyl'!$K$6-'PK kalkyl'!$AE$32)*'PK kalkyl'!$AE$33)<1,0,ROUND(('PK kalkyl'!$AE$37*I153)+'PK kalkyl'!$AE$38+(('PK kalkyl'!$K$6-'PK kalkyl'!$AE$32)*'PK kalkyl'!$AE$33),1))","v":{"$error":"#VALUE!"}},{"$error":"#VALUE!"},{"$error":"#VALUE!"},{"$f":"IF((Y153<W153),Y153-W153,0)*-'PK kalkyl'!$AE$15","v":{"$error":"#VALUE!"}},{"$f":"IF((Z153<X153),Z153-X153,0)*-'PK kalkyl'!$AE$35","v":{"$error":"#VALUE!"}},{"$f":"+AA153*Växtföljd!$G$18+AB153*Växtföljd!$G$18","v":{"$error":"#VALUE!"}}]
[{"$f":"IF(Import!A154=\"\",\"\",Import!A154)","v":""},{"$f":"IF(Import!B154=\"\",\"\",Import!B154)","v":""},{"$f":"IF(Import!C154=\"\",\"\",Import!C154)","v":""},{"$f":"IF(Import!D154=\"\",\"\",Import!D154)","v":""},{"$f":"IF(Import!E154=\"\",\"\",Import!E154)","v":""},{"$f":"IF(Import!F154=\"\",\"\",Import!F154)","v":""},{"$f":"IF(Import!G154=\"\",\"\",Import!G154)","v":""},{"$f":"IF(Import!H154=\"\",\"\",Import!H154)","v":""},{"$f":"IF(Import!J154=\"\",\"\",Import!J154)","v":""},{"$f":"IF(Import!K154=\"\",\"\",Import!K154)","v":""},{"$f":"IF(Import!L154=\"\",\"\",Import!L154)","v":""},{"$f":"IF(Import!M154=\"\",\"\",Import!M154)","v":""},{"$f":"IF(Import!P154=\"\",\"\",Import!P154)","v":""},{"$f":"IF(Import!Q154=\"\",\"\",Import!Q154)","v":""},{"$f":"IF(Import!R154=\"\",\"\",Import!R154)","v":""},320,2.7,32,32,{"$f":"IF(Q154=\"\",\"\",(-0.00011*POWER(S154,2))+(0.01417*S154)+((0.00057*POWER(Q154,2))-(0.0529*Q154)+6.2018)+Kalkkalkyl!$AJ$2)","v":6.9039253},{"$error":"#VALUE!"},null,{"$f":"IF(('PK kalkyl'!$AE$17*H154)+'PK kalkyl'!$AE$18+(('PK kalkyl'!$K$6-'PK kalkyl'!$AE$12)*'PK kalkyl'!$AE$13)<1,0,ROUND(('PK kalkyl'!$AE$17*H154)+'PK kalkyl'!$AE$18+(('PK kalkyl'!$K$6-'PK kalkyl'!$AE$12)*'PK kalkyl'!$AE$13),1))","v":{"$error":"#VALUE!"}},{"$f":"IF(('PK kalkyl'!$AE$37*I154)+'PK kalkyl'!$AE$38+(('PK kalkyl'!$K$6-'PK kalkyl'!$AE$32)*'PK kalkyl'!$AE$33)<1,0,ROUND(('PK kalkyl'!$AE$37*I154)+'PK kalkyl'!$AE$38+(('PK kalkyl'!$K$6-'PK kalkyl'!$AE$32)*'PK kalkyl'!$AE$33),1))","v":{"$error":"#VALUE!"}},{"$error":"#VALUE!"},{"$error":"#VALUE!"},{"$f":"IF((Y154<W154),Y154-W154,0)*-'PK kalkyl'!$AE$15","v":{"$error":"#VALUE!"}},{"$f":"IF((Z154<X154),Z154-X154,0)*-'PK kalkyl'!$AE$35","v":{"$error":"#VALUE!"}},{"$f":"+AA154*Växtföljd!$G$18+AB154*Växtföljd!$G$18","v":{"$error":"#VALUE!"}}]
[{"$f":"IF(Import!A155=\"\",\"\",Import!A155)","v":""},{"$f":"IF(Import!B155=\"\",\"\",Import!B155)","v":""},{"$f":"IF(Import!C155=\"\",\"\",Import!C155)","v":""},{"$f":"IF(Import!D155=\"\",\"\",Import!D155)","v":""},{"$f":"IF(Import!E155=\"\",\"\",Import!E155)","v":""},{"$f":"IF(Import!F155=\"\",\"\",Import!F155)","v":""},{"$f":"IF(Import!G155=\"\",\"\",Import!G155)","v":""},{"$f":"IF(Import!H155=\"\",\"\",Import!H155)","v":""},{"$f":"IF(Import!J155=\"\",\"\",Import!J155)","v":""},{"$f":"IF(Import!K155=\"\",\"\",Import!K155)","v":""},{"$f":"IF(Import!L155=\"\",\"\",Import!L155)","v":""},{"$f":"IF(Import!M155=\"\",\"\",Import!M155)","v":""},{"$f":"IF(Import!P155=\"\",\"\",Import!P155)","v":""},{"$f":"IF(Import!Q155=\"\",\"\",Import!Q155)","v":""},{"$f":"IF(Import!R155=\"\",\"\",Import!R155)","v":""},411.86869013357926,2.7336789420392837,36.526076622600392,36.526076622600392,{"$f":"IF(Q155=\"\",\"\",(-0.00011*POWER(S155,2))+(0.01417*S155)+((0.00057*POWER(Q155,2))-(0.0529*Q155)+6.2018)+Kalkkalkyl!$AJ$2)","v":6.9322655299481069},{"$error":"#VALUE!"},null,{"$f":"IF(('PK kalkyl'!$AE$17*H155)+'PK kalkyl'!$AE$18+(('PK kalkyl'!$K$6-'PK kalkyl'!$AE$12)*'PK kalkyl'!$AE$13)<1,0,ROUND(('PK kalkyl'!$AE$17*H155)+'PK kalkyl'!$AE$18+(('PK kalkyl'!$K$6-'PK kalkyl'!$AE$12)*'PK kalkyl'!$AE$13),1))","v":{"$error":"#VALUE!"}},{"$f":"IF(('PK kalkyl'!$AE$37*I155)+'PK kalkyl'!$AE$38+(('PK kalkyl'!$K$6-'PK kalkyl'!$AE$32)*'PK kalkyl'!$AE$33)<1,0,ROUND(('PK kalkyl'!$AE$37*I155)+'PK kalkyl'!$AE$38+(('PK kalkyl'!$K$6-'PK kalkyl'!$AE$32)*'PK kalkyl'!$AE$33),1))","v":{"$error":"#VALUE!"}},{"$error":"#VALUE!"},{"$error":"#VALUE!"},{"$f":"IF((Y155<W155),Y155-W155,0)*-'PK kalkyl'!$AE$15","v":{"$error":"#VALUE!"}},{"$f":"IF((Z155<X155),Z155-X155,0)*-'PK kalkyl'!$AE$35","v":{"$error":"#VALUE!"}},{"$f":"+AA155*Växtföljd!$G$18+AB155*Växtföljd!$G$18","v":{"$error":"#VALUE!"}}]
[{"$f":"IF(Import!A156=\"\",\"\",Import!A156)","v":""},{"$f":"IF(Import!B156=\"\",\"\",Import!B156)","v":""},{"$f":"IF(Import!C156=\"\",\"\",Import!C156)","v":""},{"$f":"IF(Import!D156=\"\",\"\",Import!D156)","v":""},{"$f":"IF(Import!E156=\"\",\"\",Import!E156)","v":""},{"$f":"IF(Import!F156=\"\",\"\",Import!F156)","v":""},{"$f":"IF(Import!G156=\"\",\"\",Import!G156)","v":""},{"$f":"IF(Import!H156=\"\",\"\",Import!H156)","v":""},{"$f":"IF(Import!J156=\"\",\"\",Import!J156)","v":""},{"$f":"IF(Import!K156=\"\",\"\",Import!K156)","v":""},{"$f":"IF(Import!L156=\"\",\"\",Import!L156)","v":""},{"$f":"IF(Import!M156=\"\",\"\",Import!M156)","v":""},{"$f":"IF(Import!P156=\"\",\"\",Import!P156)","v":""},{"$f":"IF(Import!Q156=\"\",\"\",Import!Q156)","v":""},{"$f":"IF(Import!R156=\"\",\"\",Import!R156)","v":""},460,2.7,39,39,{"$f":"IF(Q156=\"\",\"\",(-0.00011*POWER(S156,2))+(0.01417*S156)+((0.00057*POWER(Q156,2))-(0.0529*Q156)+6.2018)+Kalkkalkyl!$AJ$2)","v":6.9484453000000004},{"$error":"#VALUE!"},null,{"$f":"IF(('PK kalkyl'!$AE$17*H156)+'PK kalkyl'!$AE$18+(('PK kalkyl'!$K$6-'PK kalkyl'!$AE$12)*'PK kalkyl'!$AE$13)<1,0,ROUND(('PK kalkyl'!$AE$17*H156)+'PK kalkyl'!$AE$18+(('PK kalkyl'!$K$6-'PK kalkyl'!$AE$12)*'PK kalkyl'!$AE$13),1))","v":{"$error":"#VALUE!"}},{"$f":"IF(('PK kalkyl'!$AE$37*I156)+'PK kalkyl'!$AE$38+(('PK kalkyl'!$K$6-'PK kalkyl'!$AE$32)*'PK kalkyl'!$AE$33)<1,0,ROUND(('PK kalkyl'!$AE$37*I156)+'PK kalkyl'!$AE$38+(('PK kalkyl'!$K$6-'PK kalkyl'!$AE$32)*'PK kalkyl'!$AE$33),1))","v":{"$error":"#VALUE!"}},{"$error":"#VALUE!"},{"$error":"#VALUE!"},{"$f":"IF((Y156<W156),Y156-W156,0)*-'PK kalkyl'!$AE$15","v":{"$error":"#VALUE!"}},{"$f":"IF((Z156<X156),Z156-X156,0)*-'PK kalkyl'!$AE$35","v":{"$error":"#VALUE!"}},{"$f":"+AA156*Växtföljd!$G$18+AB156*Växtföljd!$G$18","v":{"$error":"#VALUE!"}}]
[{"$f":"IF(Import!A157=\"\",\"\",Import!A157)","v":""},{"$f":"IF(Import!B157=\"\",\"\",Import!B157)","v":""},{"$f":"IF(Import!C157=\"\",\"\",Import!C157)","v":""},{"$f":"IF(Import!D157=\"\",\"\",Import!D157)","v":""},{"$f":"IF(Import!E157=\"\",\"\",Import!E157)","v":""},{"$f":"IF(Import!F157=\"\",\"\",Import!F157)","v":""},{"$f":"IF(Import!G157=\"\",\"\",Import!G157)","v":""},{"$f":"IF(Import!H157=\"\",\"\",Import!H157)","v":""},{"$f":"IF(Import!J157=\"\",\"\",Import!J157)","v":""},{"$f":"IF(Import!K157=\"\",\"\",Import!K157)","v":""},{"$f":"IF(Import!L157=\"\",\"\",Import!L157)","v":""},{"$f":"IF(Import!M157=\"\",\"\",Import!M157)","v":""},{"$f":"IF(Import!P157=\"\",\"\",Import!P157)","v":""},{"$f":"IF(Import!Q157=\"\",\"\",Import!Q157)","v":""},{"$f":"IF(Import!R157=\"\",\"\",Import!R157)","v":""},404.20632985229895,2.9304747899111252,35.536444797366258,35.536444797366258,{"$f":"IF(Q157=\"\",\"\",(-0.00011*POWER(S157,2))+(0.01417*S157)+((0.00057*POWER(Q157,2))-(0.0529*Q157)+6.2018)+Kalkkalkyl!$AJ$2)","v":6.9163120054421467},{"$error":"#VALUE!"},null,{"$f":"IF(('PK kalkyl'!$AE$17*H157)+'PK kalkyl'!$AE$18+(('PK kalkyl'!$K$6-'PK kalkyl'!$AE$12)*'PK kalkyl'!$AE$13)<1,0,ROUND(('PK kalkyl'!$AE$17*H157)+'PK kalkyl'!$AE$18+(('PK kalkyl'!$K$6-'PK kalkyl'!$AE$12)*'PK kalkyl'!$AE$13),1))","v":{"$error":"#VALUE!"}},{"$f":"IF(('PK kalkyl'!$AE$37*I157)+'PK kalkyl'!$AE$38+(('PK kalkyl'!$K$6-'PK kalkyl'!$AE$32)*'PK kalkyl'!$AE$33)<1,0,ROUND(('PK kalkyl'!$AE$37*I157)+'PK kalkyl'!$AE$38+(('PK kalkyl'!$K$6-'PK kalkyl'!$AE$32)*'PK kalkyl'!$AE$33),1))","v":{"$error":"#VALUE!"}},{"$error":"#VALUE!"},{"$error":"#VALUE!"},{"$f":"IF((Y157<W157),Y157-W157,0)*-'PK kalkyl'!$AE$15","v":{"$error":"#VALUE!"}},{"$f":"IF((Z157<X157),Z157-X157,0)*-'PK kalkyl'!$AE$35","v":{"$error":"#VALUE!"}},{"$f":"+AA157*Växtföljd!$G$18+AB157*Växtföljd!$G$18","v":{"$error":"#VALUE!"}}]
[{"$f":"IF(Import!A158=\"\",\"\",Import!A158)","v":""},{"$f":"IF(Import!B158=\"\",\"\",Import!B158)","v":""},{"$f":"IF(Import!C158=\"\",\"\",Import!C158)","v":""},{"$f":"IF(Import!D158=\"\",\"\",Import!D158)","v":""},{"$f":"IF(Import!E158=\"\",\"\",Import!E158)","v":""},{"$f":"IF(Import!F158=\"\",\"\",Import!F158)","v":""},{"$f":"IF(Import!G158=\"\",\"\",Import!G158)","v":""},{"$f":"IF(Import!H158=\"\",\"\",Import!H158)","v":""},{"$f":"IF(Import!J158=\"\",\"\",Import!J158)","v":""},{"$f":"IF(Import!K158=\"\",\"\",Import!K158)","v":""},{"$f":"IF(Import!L158=\"\",\"\",Import!L158)","v":""},{"$f":"IF(Import!M158=\"\",\"\",Import!M158)","v":""},{"$f":"IF(Import!P158=\"\",\"\",Import!P158)","v":""},{"$f":"IF(Import!Q158=\"\",\"\",Import!Q158)","v":""},{"$f":"IF(Import!R158=\"\",\"\",Import!R158)","v":""},340,3.2,32,32,{"$f":"IF(Q158=\"\",\"\",(-0.00011*POWER(S158,2))+(0.01417*S158)+((0.00057*POWER(Q158,2))-(0.0529*Q158)+6.2018)+Kalkkalkyl!$AJ$2)","v":6.8791568000000005},{"$error":"#VALUE!"},null,{"$f":"IF(('PK kalkyl'!$AE$17*H158)+'PK kalkyl'!$AE$18+(('PK kalkyl'!$K$6-'PK kalkyl'!$AE$12)*'PK kalkyl'!$AE$13)<1,0,ROUND(('PK kalkyl'!$AE$17*H158)+'PK kalkyl'!$AE$18+(('PK kalkyl'!$K$6-'PK kalkyl'!$AE$12)*'PK kalkyl'!$AE$13),1))","v":{"$error":"#VALUE!"}},{"$f":"IF(('PK kalkyl'!$AE$37*I158)+'PK kalkyl'!$AE$38+(('PK kalkyl'!$K$6-'PK kalkyl'!$AE$32)*'PK kalkyl'!$AE$33)<1,0,ROUND(('PK kalkyl'!$AE$37*I158)+'PK kalkyl'!$AE$38+(('PK kalkyl'!$K$6-'PK kalkyl'!$AE$32)*'PK kalkyl'!$AE$33),1))","v":{"$error":"#VALUE!"}},{"$error":"#VALUE!"},{"$error":"#VALUE!"},{"$f":"IF((Y158<W158),Y158-W158,0)*-'PK kalkyl'!$AE$15","v":{"$error":"#VALUE!"}},{"$f":"IF((Z158<X158),Z158-X158,0)*-'PK kalkyl'!$AE$35","v":{"$error":"#VALUE!"}},{"$f":"+AA158*Växtföljd!$G$18+AB158*Växtföljd!$G$18","v":{"$error":"#VALUE!"}}]
[{"$f":"IF(Import!A159=\"\",\"\",Import!A159)","v":""},{"$f":"IF(Import!B159=\"\",\"\",Import!B159)","v":""},{"$f":"IF(Import!C159=\"\",\"\",Import!C159)","v":""},{"$f":"IF(Import!D159=\"\",\"\",Import!D159)","v":""},{"$f":"IF(Import!E159=\"\",\"\",Import!E159)","v":""},{"$f":"IF(Import!F159=\"\",\"\",Import!F159)","v":""},{"$f":"IF(Import!G159=\"\",\"\",Import!G159)","v":""},{"$f":"IF(Import!H159=\"\",\"\",Import!H159)","v":""},{"$f":"IF(Import!J159=\"\",\"\",Import!J159)","v":""},{"$f":"IF(Import!K159=\"\",\"\",Import!K159)","v":""},{"$f":"IF(Import!L159=\"\",\"\",Import!L159)","v":""},{"$f":"IF(Import!M159=\"\",\"\",Import!M159)","v":""},{"$f":"IF(Import!P159=\"\",\"\",Import!P159)","v":""},{"$f":"IF(Import!Q159=\"\",\"\",Import!Q159)","v":""},{"$f":"IF(Import!R159=\"\",\"\",Import!R159)","v":""},352.88723133600382,2.9537510150391588,33.115558784408726,33.115558784408726,{"$f":"IF(Q159=\"\",\"\",(-0.00011*POWER(S159,2))+(0.01417*S159)+((0.00057*POWER(Q159,2))-(0.0529*Q159)+6.2018)+Kalkkalkyl!$AJ$2)","v":6.8991366612666427},{"$error":"#VALUE!"},null,{"$f":"IF(('PK kalkyl'!$AE$17*H159)+'PK kalkyl'!$AE$18+(('PK kalkyl'!$K$6-'PK kalkyl'!$AE$12)*'PK kalkyl'!$AE$13)<1,0,ROUND(('PK kalkyl'!$AE$17*H159)+'PK kalkyl'!$AE$18+(('PK kalkyl'!$K$6-'PK kalkyl'!$AE$12)*'PK kalkyl'!$AE$13),1))","v":{"$error":"#VALUE!"}},{"$f":"IF(('PK kalkyl'!$AE$37*I159)+'PK kalkyl'!$AE$38+(('PK kalkyl'!$K$6-'PK kalkyl'!$AE$32)*'PK kalkyl'!$AE$33)<1,0,ROUND(('PK kalkyl'!$AE$37*I159)+'PK kalkyl'!$AE$38+(('PK kalkyl'!$K$6-'PK kalkyl'!$AE$32)*'PK kalkyl'!$AE$33),1))","v":{"$error":"#VALUE!"}},{"$error":"#VALUE!"},{"$error":"#VALUE!"},{"$f":"IF((Y159<W159),Y159-W159,0)*-'PK kalkyl'!$AE$15","v":{"$error":"#VALUE!"}},{"$f":"IF((Z159<X159),Z159-X159,0)*-'PK kalkyl'!$AE$35","v":{"$error":"#VALUE!"}},{"$f":"+AA159*Växtföljd!$G$18+AB159*Växtföljd!$G$18","v":{"$error":"#VALUE!"}}]
[{"$f":"IF(Import!A160=\"\",\"\",Import!A160)","v":""},{"$f":"IF(Import!B160=\"\",\"\",Import!B160)","v":""},{"$f":"IF(Import!C160=\"\",\"\",Import!C160)","v":""},{"$f":"IF(Import!D160=\"\",\"\",Import!D160)","v":""},{"$f":"IF(Import!E160=\"\",\"\",Import!E160)","v":""},{"$f":"IF(Import!F160=\"\",\"\",Import!F160)","v":""},{"$f":"IF(Import!G160=\"\",\"\",Import!G160)","v":""},{"$f":"IF(Import!H160=\"\",\"\",Import!H160)","v":""},{"$f":"IF(Import!J160=\"\",\"\",Import!J160)","v":""},{"$f":"IF(Import!K160=\"\",\"\",Import!K160)","v":""},{"$f":"IF(Import!L160=\"\",\"\",Import!L160)","v":""},{"$f":"IF(Import!M160=\"\",\"\",Import!M160)","v":""},{"$f":"IF(Import!P160=\"\",\"\",Import!P160)","v":""},{"$f":"IF(Import!Q160=\"\",\"\",Import!Q160)","v":""},{"$f":"IF(Import!R160=\"\",\"\",Import!R160)","v":""},470,2.8,37,37,{"$f":"IF(Q160=\"\",\"\",(-0.00011*POWER(S160,2))+(0.01417*S160)+((0.00057*POWER(Q160,2))-(0.0529*Q160)+6.2018)+Kalkkalkyl!$AJ$2)","v":6.9318488000000009},{"$error":"#VALUE!"},null,{"$f":"IF(('PK kalkyl'!$AE$17*H160)+'PK kalkyl'!$AE$18+(('PK kalkyl'!$K$6-'PK kalkyl'!$AE$12)*'PK kalkyl'!$AE$13)<1,0,ROUND(('PK kalkyl'!$AE$17*H160)+'PK kalkyl'!$AE$18+(('PK kalkyl'!$K$6-'PK kalkyl'!$AE$12)*'PK kalkyl'!$AE$13),1))","v":{"$error":"#VALUE!"}},{"$f":"IF(('PK kalkyl'!$AE$37*I160)+'PK kalkyl'!$AE$38+(('PK kalkyl'!$K$6-'PK kalkyl'!$AE$32)*'PK kalkyl'!$AE$33)<1,0,ROUND(('PK kalkyl'!$AE$37*I160)+'PK kalkyl'!$AE$38+(('PK kalkyl'!$K$6-'PK kalkyl'!$AE$32)*'PK kalkyl'!$AE$33),1))","v":{"$error":"#VALUE!"}},{"$error":"#VALUE!"},{"$error":"#VALUE!"},{"$f":"IF((Y160<W160),Y160-W160,0)*-'PK kalkyl'!$AE$15","v":{"$error":"#VALUE!"}},{"$f":"IF((Z160<X160),Z160-X160,0)*-'PK kalkyl'!$AE$35","v":{"$error":"#VALUE!"}},{"$f":"+AA160*Växtföljd!$G$18+AB160*Växtföljd!$G$18","v":{"$error":"#VALUE!"}}]
[{"$f":"IF(Import!A161=\"\",\"\",Import!A161)","v":""},{"$f":"IF(Import!B161=\"\",\"\",Import!B161)","v":""},{"$f":"IF(Import!C161=\"\",\"\",Import!C161)","v":""},{"$f":"IF(Import!D161=\"\",\"\",Import!D161)","v":""},{"$f":"IF(Import!E161=\"\",\"\",Import!E161)","v":""},{"$f":"IF(Import!F161=\"\",\"\",Import!F161)","v":""},{"$f":"IF(Import!G161=\"\",\"\",Import!G161)","v":""},{"$f":"IF(Import!H161=\"\",\"\",Import!H161)","v":""},{"$f":"IF(Import!J161=\"\",\"\",Import!J161)","v":""},{"$f":"IF(Import!K161=\"\",\"\",Import!K161)","v":""},{"$f":"IF(Import!L161=\"\",\"\",Import!L161)","v":""},{"$f":"IF(Import!M161=\"\",\"\",Import!M161)","v":""},{"$f":"IF(Import!P161=\"\",\"\",Import!P161)","v":""},{"$f":"IF(Import!Q161=\"\",\"\",Import!Q161)","v":""},{"$f":"IF(Import!R161=\"\",\"\",Import!R161)","v":""},428.79166125034061,2.8257552117185369,35.454687296887776,35.454687296887776,{"$f":"IF(Q161=\"\",\"\",(-0.00011*POWER(S161,2))+(0.01417*S161)+((0.00057*POWER(Q161,2))-(0.0529*Q161)+6.2018)+Kalkkalkyl!$AJ$2)","v":6.9209880233862151},{"$error":"#VALUE!"},null,{"$f":"IF(('PK kalkyl'!$AE$17*H161)+'PK kalkyl'!$AE$18+(('PK kalkyl'!$K$6-'PK kalkyl'!$AE$12)*'PK kalkyl'!$AE$13)<1,0,ROUND(('PK kalkyl'!$AE$17*H161)+'PK kalkyl'!$AE$18+(('PK kalkyl'!$K$6-'PK kalkyl'!$AE$12)*'PK kalkyl'!$AE$13),1))","v":{"$error":"#VALUE!"}},{"$f":"IF(('PK kalkyl'!$AE$37*I161)+'PK kalkyl'!$AE$38+(('PK kalkyl'!$K$6-'PK kalkyl'!$AE$32)*'PK kalkyl'!$AE$33)<1,0,ROUND(('PK kalkyl'!$AE$37*I161)+'PK kalkyl'!$AE$38+(('PK kalkyl'!$K$6-'PK kalkyl'!$AE$32)*'PK kalkyl'!$AE$33),1))","v":{"$error":"#VALUE!"}},{"$error":"#VALUE!"},{"$error":"#VALUE!"},{"$f":"IF((Y161<W161),Y161-W161,0)*-'PK kalkyl'!$AE$15","v":{"$error":"#VALUE!"}},{"$f":"IF((Z161<X161),Z161-X161,0)*-'PK kalkyl'!$AE$35","v":{"$error":"#VALUE!"}},{"$f":"+AA161*Växtföljd!$G$18+AB161*Växtföljd!$G$18","v":{"$error":"#VALUE!"}}]
[{"$f":"IF(Import!A162=\"\",\"\",Import!A162)","v":""},{"$f":"IF(Import!B162=\"\",\"\",Import!B162)","v":""},{"$f":"IF(Import!C162=\"\",\"\",Import!C162)","v":""},{"$f":"IF(Import!D162=\"\",\"\",Import!D162)","v":""},{"$f":"IF(Import!E162=\"\",\"\",Import!E162)","v":""},{"$f":"IF(Import!F162=\"\",\"\",Import!F162)","v":""},{"$f":"IF(Import!G162=\"\",\"\",Import!G162)","v":""},{"$f":"IF(Import!H162=\"\",\"\",Import!H162)","v":""},{"$f":"IF(Import!J162=\"\",\"\",Import!J162)","v":""},{"$f":"IF(Import!K162=\"\",\"\",Import!K162)","v":""},{"$f":"IF(Import!L162=\"\",\"\",Import!L162)","v":""},{"$f":"IF(Import!M162=\"\",\"\",Import!M162)","v":""},{"$f":"IF(Import!P162=\"\",\"\",Import!P162)","v":""},{"$f":"IF(Import!Q162=\"\",\"\",Import!Q162)","v":""},{"$f":"IF(Import!R162=\"\",\"\",Import!R162)","v":""},310,2.9,31,31,{"$f":"IF(Q162=\"\",\"\",(-0.00011*POWER(S162,2))+(0.01417*S162)+((0.00057*POWER(Q162,2))-(0.0529*Q162)+6.2018)+Kalkkalkyl!$AJ$2)","v":6.8867437000000011},{"$error":"#VALUE!"},null,{"$f":"IF(('PK kalkyl'!$AE$17*H162)+'PK kalkyl'!$AE$18+(('PK kalkyl'!$K$6-'PK kalkyl'!$AE$12)*'PK kalkyl'!$AE$13)<1,0,ROUND(('PK kalkyl'!$AE$17*H162)+'PK kalkyl'!$AE$18+(('PK kalkyl'!$K$6-'PK kalkyl'!$AE$12)*'PK kalkyl'!$AE$13),1))","v":{"$error":"#VALUE!"}},{"$f":"IF(('PK kalkyl'!$AE$37*I162)+'PK kalkyl'!$AE$38+(('PK kalkyl'!$K$6-'PK kalkyl'!$AE$32)*'PK kalkyl'!$AE$33)<1,0,ROUND(('PK kalkyl'!$AE$37*I162)+'PK kalkyl'!$AE$38+(('PK kalkyl'!$K$6-'PK kalkyl'!$AE$32)*'PK kalkyl'!$AE$33),1))","v":{"$error":"#VALUE!"}},{"$error":"#VALUE!"},{"$error":"#VALUE!"},{"$f":"IF((Y162<W162),Y162-W162,0)*-'PK kalkyl'!$AE$15","v":{"$error":"#VALUE!"}},{"$f":"IF((Z162<X162),Z162-X162,0)*-'PK kalkyl'!$AE$35","v":{"$error":"#VALUE!"}},{"$f":"+AA162*Växtföljd!$G$18+AB162*Växtföljd!$G$18","v":{"$error":"#VALUE!"}}]
[{"$f":"IF(Import!A163=\"\",\"\",Import!A163)","v":""},{"$f":"IF(Import!B163=\"\",\"\",Import!B163)","v":""},{"$f":"IF(Import!C163=\"\",\"\",Import!C163)","v":""},{"$f":"IF(Import!D163=\"\",\"\",Import!D163)","v":""},{"$f":"IF(Import!E163=\"\",\"\",Import!E163)","v":""},{"$f":"IF(Import!F163=\"\",\"\",Import!F163)","v":""},{"$f":"IF(Import!G163=\"\",\"\",Import!G163)","v":""},{"$f":"IF(Import!H163=\"\",\"\",Import!H163)","v":""},{"$f":"IF(Import!J163=\"\",\"\",Import!J163)","v":""},{"$f":"IF(Import!K163=\"\",\"\",Import!K163)","v":""},{"$f":"IF(Import!L163=\"\",\"\",Import!L163)","v":""},{"$f":"IF(Import!M163=\"\",\"\",Import!M163)","v":""},{"$f":"IF(Import!P163=\"\",\"\",Import!P163)","v":""},{"$f":"IF(Import!Q163=\"\",\"\",Import!Q163)","v":""},{"$f":"IF(Import!R163=\"\",\"\",Import!R163)","v":""},356.3049111441016,2.871059430534936,32.736434167903809,32.736434167903809,{"$f":"IF(Q163=\"\",\"\",(-0.00011*POWER(S163,2))+(0.01417*S163)+((0.00057*POWER(Q163,2))-(0.0529*Q163)+6.2018)+Kalkkalkyl!$AJ$2)","v":6.9006105747452429},{"$error":"#VALUE!"},null,{"$f":"IF(('PK kalkyl'!$AE$17*H163)+'PK kalkyl'!$AE$18+(('PK kalkyl'!$K$6-'PK kalkyl'!$AE$12)*'PK kalkyl'!$AE$13)<1,0,ROUND(('PK kalkyl'!$AE$17*H163)+'PK kalkyl'!$AE$18+(('PK kalkyl'!$K$6-'PK kalkyl'!$AE$12)*'PK kalkyl'!$AE$13),1))","v":{"$error":"#VALUE!"}},{"$f":"IF(('PK kalkyl'!$AE$37*I163)+'PK kalkyl'!$AE$38+(('PK kalkyl'!$K$6-'PK kalkyl'!$AE$32)*'PK kalkyl'!$AE$33)<1,0,ROUND(('PK kalkyl'!$AE$37*I163)+'PK kalkyl'!$AE$38+(('PK kalkyl'!$K$6-'PK kalkyl'!$AE$32)*'PK kalkyl'!$AE$33),1))","v":{"$error":"#VALUE!"}},{"$error":"#VALUE!"},{"$error":"#VALUE!"},{"$f":"IF((Y163<W163),Y163-W163,0)*-'PK kalkyl'!$AE$15","v":{"$error":"#VALUE!"}},{"$f":"IF((Z163<X163),Z163-X163,0)*-'PK kalkyl'!$AE$35","v":{"$error":"#VALUE!"}},{"$f":"+AA163*Växtföljd!$G$18+AB163*Växtföljd!$G$18","v":{"$error":"#VALUE!"}}]
[{"$f":"IF(Import!A164=\"\",\"\",Import!A164)","v":""},{"$f":"IF(Import!B164=\"\",\"\",Import!B164)","v":""},{"$f":"IF(Import!C164=\"\",\"\",Import!C164)","v":""},{"$f":"IF(Import!D164=\"\",\"\",Import!D164)","v":""},{"$f":"IF(Import!E164=\"\",\"\",Import!E164)","v":""},{"$f":"IF(Import!F164=\"\",\"\",Import!F164)","v":""},{"$f":"IF(Import!G164=\"\",\"\",Import!G164)","v":""},{"$f":"IF(Import!H164=\"\",\"\",Import!H164)","v":""},{"$f":"IF(Import!J164=\"\",\"\",Import!J164)","v":""},{"$f":"IF(Import!K164=\"\",\"\",Import!K164)","v":""},{"$f":"IF(Import!L164=\"\",\"\",Import!L164)","v":""},{"$f":"IF(Import!M164=\"\",\"\",Import!M164)","v":""},{"$f":"IF(Import!P164=\"\",\"\",Import!P164)","v":""},{"$f":"IF(Import!Q164=\"\",\"\",Import!Q164)","v":""},{"$f":"IF(Import!R164=\"\",\"\",Import!R164)","v":""},300,3.2,33,33,{"$f":"IF(Q164=\"\",\"\",(-0.00011*POWER(S164,2))+(0.01417*S164)+((0.00057*POWER(Q164,2))-(0.0529*Q164)+6.2018)+Kalkkalkyl!$AJ$2)","v":6.8861768000000012},{"$error":"#VALUE!"},null,{"$f":"IF(('PK kalkyl'!$AE$17*H164)+'PK kalkyl'!$AE$18+(('PK kalkyl'!$K$6-'PK kalkyl'!$AE$12)*'PK kalkyl'!$AE$13)<1,0,ROUND(('PK kalkyl'!$AE$17*H164)+'PK kalkyl'!$AE$18+(('PK kalkyl'!$K$6-'PK kalkyl'!$AE$12)*'PK kalkyl'!$AE$13),1))","v":{"$error":"#VALUE!"}},{"$f":"IF(('PK kalkyl'!$AE$37*I164)+'PK kalkyl'!$AE$38+(('PK kalkyl'!$K$6-'PK kalkyl'!$AE$32)*'PK kalkyl'!$AE$33)<1,0,ROUND(('PK kalkyl'!$AE$37*I164)+'PK kalkyl'!$AE$38+(('PK kalkyl'!$K$6-'PK kalkyl'!$AE$32)*'PK kalkyl'!$AE$33),1))","v":{"$error":"#VALUE!"}},{"$error":"#VALUE!"},{"$error":"#VALUE!"},{"$f":"IF((Y164<W164),Y164-W164,0)*-'PK kalkyl'!$AE$15","v":{"$error":"#VALUE!"}},{"$f":"IF((Z164<X164),Z164-X164,0)*-'PK kalkyl'!$AE$35","v":{"$error":"#VALUE!"}},{"$f":"+AA164*Växtföljd!$G$18+AB164*Växtföljd!$G$18","v":{"$error":"#VALUE!"}}]
[{"$f":"IF(Import!A165=\"\",\"\",Import!A165)","v":""},{"$f":"IF(Import!B165=\"\",\"\",Import!B165)","v":""},{"$f":"IF(Import!C165=\"\",\"\",Import!C165)","v":""},{"$f":"IF(Import!D165=\"\",\"\",Import!D165)","v":""},{"$f":"IF(Import!E165=\"\",\"\",Import!E165)","v":""},{"$f":"IF(Import!F165=\"\",\"\",Import!F165)","v":""},{"$f":"IF(Import!G165=\"\",\"\",Import!G165)","v":""},{"$f":"IF(Import!H165=\"\",\"\",Import!H165)","v":""},{"$f":"IF(Import!J165=\"\",\"\",Import!J165)","v":""},{"$f":"IF(Import!K165=\"\",\"\",Import!K165)","v":""},{"$f":"IF(Import!L165=\"\",\"\",Import!L165)","v":""},{"$f":"IF(Import!M165=\"\",\"\",Import!M165)","v":""},{"$f":"IF(Import!P165=\"\",\"\",Import!P165)","v":""},{"$f":"IF(Import!Q165=\"\",\"\",Import!Q165)","v":""},{"$f":"IF(Import!R165=\"\",\"\",Import!R165)","v":""},301.15234460088408,3.0812550488534334,33.046168069344695,33.046168069344695,{"$f":"IF(Q165=\"\",\"\",(-0.00011*POWER(S165,2))+(0.01417*S165)+((0.00057*POWER(Q165,2))-(0.0529*Q165)+6.2018)+Kalkkalkyl!$AJ$2)","v":6.8923520504362248},{"$error":"#VALUE!"},null,{"$f":"IF(('PK kalkyl'!$AE$17*H165)+'PK kalkyl'!$AE$18+(('PK kalkyl'!$K$6-'PK kalkyl'!$AE$12)*'PK kalkyl'!$AE$13)<1,0,ROUND(('PK kalkyl'!$AE$17*H165)+'PK kalkyl'!$AE$18+(('PK kalkyl'!$K$6-'PK kalkyl'!$AE$12)*'PK kalkyl'!$AE$13),1))","v":{"$error":"#VALUE!"}},{"$f":"IF(('PK kalkyl'!$AE$37*I165)+'PK kalkyl'!$AE$38+(('PK kalkyl'!$K$6-'PK kalkyl'!$AE$32)*'PK kalkyl'!$AE$33)<1,0,ROUND(('PK kalkyl'!$AE$37*I165)+'PK kalkyl'!$AE$38+(('PK kalkyl'!$K$6-'PK kalkyl'!$AE$32)*'PK kalkyl'!$AE$33),1))","v":{"$error":"#VALUE!"}},{"$error":"#VALUE!"},{"$error":"#VALUE!"},{"$f":"IF((Y165<W165),Y165-W165,0)*-'PK kalkyl'!$AE$15","v":{"$error":"#VALUE!"}},{"$f":"IF((Z165<X165),Z165-X165,0)*-'PK kalkyl'!$AE$35","v":{"$error":"#VALUE!"}},{"$f":"+AA165*Växtföljd!$G$18+AB165*Växtföljd!$G$18","v":{"$error":"#VALUE!"}}]
[{"$f":"IF(Import!A166=\"\",\"\",Import!A166)","v":""},{"$f":"IF(Import!B166=\"\",\"\",Import!B166)","v":""},{"$f":"IF(Import!C166=\"\",\"\",Import!C166)","v":""},{"$f":"IF(Import!D166=\"\",\"\",Import!D166)","v":""},{"$f":"IF(Import!E166=\"\",\"\",Import!E166)","v":""},{"$f":"IF(Import!F166=\"\",\"\",Import!F166)","v":""},{"$f":"IF(Import!G166=\"\",\"\",Import!G166)","v":""},{"$f":"IF(Import!H166=\"\",\"\",Import!H166)","v":""},{"$f":"IF(Import!J166=\"\",\"\",Import!J166)","v":""},{"$f":"IF(Import!K166=\"\",\"\",Import!K166)","v":""},{"$f":"IF(Import!L166=\"\",\"\",Import!L166)","v":""},{"$f":"IF(Import!M166=\"\",\"\",Import!M166)","v":""},{"$f":"IF(Import!P166=\"\",\"\",Import!P166)","v":""},{"$f":"IF(Import!Q166=\"\",\"\",Import!Q166)","v":""},{"$f":"IF(Import!R166=\"\",\"\",Import!R166)","v":""},250,3.5,29,29,{"$f":"IF(Q166=\"\",\"\",(-0.00011*POWER(S166,2))+(0.01417*S166)+((0.00057*POWER(Q166,2))-(0.0529*Q166)+6.2018)+Kalkkalkyl!$AJ$2)","v":6.8420525000000003},{"$error":"#VALUE!"},null,{"$f":"IF(('PK kalkyl'!$AE$17*H166)+'PK kalkyl'!$AE$18+(('PK kalkyl'!$K$6-'PK kalkyl'!$AE$12)*'PK kalkyl'!$AE$13)<1,0,ROUND(('PK kalkyl'!$AE$17*H166)+'PK kalkyl'!$AE$18+(('PK kalkyl'!$K$6-'PK kalkyl'!$AE$12)*'PK kalkyl'!$AE$13),1))","v":{"$error":"#VALUE!"}},{"$f":"IF(('PK kalkyl'!$AE$37*I166)+'PK kalkyl'!$AE$38+(('PK kalkyl'!$K$6-'PK kalkyl'!$AE$32)*'PK kalkyl'!$AE$33)<1,0,ROUND(('PK kalkyl'!$AE$37*I166)+'PK kalkyl'!$AE$38+(('PK kalkyl'!$K$6-'PK kalkyl'!$AE$32)*'PK kalkyl'!$AE$33),1))","v":{"$error":"#VALUE!"}},{"$error":"#VALUE!"},{"$error":"#VALUE!"},{"$f":"IF((Y166<W166),Y166-W166,0)*-'PK kalkyl'!$AE$15","v":{"$error":"#VALUE!"}},{"$f":"IF((Z166<X166),Z166-X166,0)*-'PK kalkyl'!$AE$35","v":{"$error":"#VALUE!"}},{"$f":"+AA166*Växtföljd!$G$18+AB166*Växtföljd!$G$18","v":{"$error":"#VALUE!"}}]
[{"$f":"IF(Import!A167=\"\",\"\",Import!A167)","v":""},{"$f":"IF(Import!B167=\"\",\"\",Import!B167)","v":""},{"$f":"IF(Import!C167=\"\",\"\",Import!C167)","v":""},{"$f":"IF(Import!D167=\"\",\"\",Import!D167)","v":""},{"$f":"IF(Import!E167=\"\",\"\",Import!E167)","v":""},{"$f":"IF(Import!F167=\"\",\"\",Import!F167)","v":""},{"$f":"IF(Import!G167=\"\",\"\",Import!G167)","v":""},{"$f":"IF(Import!H167=\"\",\"\",Import!H167)","v":""},{"$f":"IF(Import!J167=\"\",\"\",Import!J167)","v":""},{"$f":"IF(Import!K167=\"\",\"\",Import!K167)","v":""},{"$f":"IF(Import!L167=\"\",\"\",Import!L167)","v":""},{"$f":"IF(Import!M167=\"\",\"\",Import!M167)","v":""},{"$f":"IF(Import!P167=\"\",\"\",Import!P167)","v":""},{"$f":"IF(Import!Q167=\"\",\"\",Import!Q167)","v":""},{"$f":"IF(Import!R167=\"\",\"\",Import!R167)","v":""},271.40439599886855,3.2164798061695747,30.890449780082044,30.890449780082044,{"$f":"IF(Q167=\"\",\"\",(-0.00011*POWER(S167,2))+(0.01417*S167)+((0.00057*POWER(Q167,2))-(0.0529*Q167)+6.2018)+Kalkkalkyl!$AJ$2)","v":6.8702987771354511},{"$error":"#VALUE!"},null,{"$f":"IF(('PK kalkyl'!$AE$17*H167)+'PK kalkyl'!$AE$18+(('PK kalkyl'!$K$6-'PK kalkyl'!$AE$12)*'PK kalkyl'!$AE$13)<1,0,ROUND(('PK kalkyl'!$AE$17*H167)+'PK kalkyl'!$AE$18+(('PK kalkyl'!$K$6-'PK kalkyl'!$AE$12)*'PK kalkyl'!$AE$13),1))","v":{"$error":"#VALUE!"}},{"$f":"IF(('PK kalkyl'!$AE$37*I167)+'PK kalkyl'!$AE$38+(('PK kalkyl'!$K$6-'PK kalkyl'!$AE$32)*'PK kalkyl'!$AE$33)<1,0,ROUND(('PK kalkyl'!$AE$37*I167)+'PK kalkyl'!$AE$38+(('PK kalkyl'!$K$6-'PK kalkyl'!$AE$32)*'PK kalkyl'!$AE$33),1))","v":{"$error":"#VALUE!"}},{"$error":"#VALUE!"},{"$error":"#VALUE!"},{"$f":"IF((Y167<W167),Y167-W167,0)*-'PK kalkyl'!$AE$15","v":{"$error":"#VALUE!"}},{"$f":"IF((Z167<X167),Z167-X167,0)*-'PK kalkyl'!$AE$35","v":{"$error":"#VALUE!"}},{"$f":"+AA167*Växtföljd!$G$18+AB167*Växtföljd!$G$18","v":{"$error":"#VALUE!"}}]
[{"$f":"IF(Import!A168=\"\",\"\",Import!A168)","v":""},{"$f":"IF(Import!B168=\"\",\"\",Import!B168)","v":""},{"$f":"IF(Import!C168=\"\",\"\",Import!C168)","v":""},{"$f":"IF(Import!D168=\"\",\"\",Import!D168)","v":""},{"$f":"IF(Import!E168=\"\",\"\",Import!E168)","v":""},{"$f":"IF(Import!F168=\"\",\"\",Import!F168)","v":""},{"$f":"IF(Import!G168=\"\",\"\",Import!G168)","v":""},{"$f":"IF(Import!H168=\"\",\"\",Import!H168)","v":""},{"$f":"IF(Import!J168=\"\",\"\",Import!J168)","v":""},{"$f":"IF(Import!K168=\"\",\"\",Import!K168)","v":""},{"$f":"IF(Import!L168=\"\",\"\",Import!L168)","v":""},{"$f":"IF(Import!M168=\"\",\"\",Import!M168)","v":""},{"$f":"IF(Import!P168=\"\",\"\",Import!P168)","v":""},{"$f":"IF(Import!Q168=\"\",\"\",Import!Q168)","v":""},{"$f":"IF(Import!R168=\"\",\"\",Import!R168)","v":""},280,3,32,32,{"$f":"IF(Q168=\"\",\"\",(-0.00011*POWER(S168,2))+(0.01417*S168)+((0.00057*POWER(Q168,2))-(0.0529*Q168)+6.2018)+Kalkkalkyl!$AJ$2)","v":6.88903},{"$error":"#VALUE!"},null,{"$f":"IF(('PK kalkyl'!$AE$17*H168)+'PK kalkyl'!$AE$18+(('PK kalkyl'!$K$6-'PK kalkyl'!$AE$12)*'PK kalkyl'!$AE$13)<1,0,ROUND(('PK kalkyl'!$AE$17*H168)+'PK kalkyl'!$AE$18+(('PK kalkyl'!$K$6-'PK kalkyl'!$AE$12)*'PK kalkyl'!$AE$13),1))","v":{"$error":"#VALUE!"}},{"$f":"IF(('PK kalkyl'!$AE$37*I168)+'PK kalkyl'!$AE$38+(('PK kalkyl'!$K$6-'PK kalkyl'!$AE$32)*'PK kalkyl'!$AE$33)<1,0,ROUND(('PK kalkyl'!$AE$37*I168)+'PK kalkyl'!$AE$38+(('PK kalkyl'!$K$6-'PK kalkyl'!$AE$32)*'PK kalkyl'!$AE$33),1))","v":{"$error":"#VALUE!"}},{"$error":"#VALUE!"},{"$error":"#VALUE!"},{"$f":"IF((Y168<W168),Y168-W168,0)*-'PK kalkyl'!$AE$15","v":{"$error":"#VALUE!"}},{"$f":"IF((Z168<X168),Z168-X168,0)*-'PK kalkyl'!$AE$35","v":{"$error":"#VALUE!"}},{"$f":"+AA168*Växtföljd!$G$18+AB168*Växtföljd!$G$18","v":{"$error":"#VALUE!"}}]
[{"$f":"IF(Import!A169=\"\",\"\",Import!A169)","v":""},{"$f":"IF(Import!B169=\"\",\"\",Import!B169)","v":""},{"$f":"IF(Import!C169=\"\",\"\",Import!C169)","v":""},{"$f":"IF(Import!D169=\"\",\"\",Import!D169)","v":""},{"$f":"IF(Import!E169=\"\",\"\",Import!E169)","v":""},{"$f":"IF(Import!F169=\"\",\"\",Import!F169)","v":""},{"$f":"IF(Import!G169=\"\",\"\",Import!G169)","v":""},{"$f":"IF(Import!H169=\"\",\"\",Import!H169)","v":""},{"$f":"IF(Import!J169=\"\",\"\",Import!J169)","v":""},{"$f":"IF(Import!K169=\"\",\"\",Import!K169)","v":""},{"$f":"IF(Import!L169=\"\",\"\",Import!L169)","v":""},{"$f":"IF(Import!M169=\"\",\"\",Import!M169)","v":""},{"$f":"IF(Import!P169=\"\",\"\",Import!P169)","v":""},{"$f":"IF(Import!Q169=\"\",\"\",Import!Q169)","v":""},{"$f":"IF(Import!R169=\"\",\"\",Import!R169)","v":""},300.32944707960468,2.9747230608312756,32.997562214142782,32.997562214142782,{"$f":"IF(Q169=\"\",\"\",(-0.00011*POWER(S169,2))+(0.01417*S169)+((0.00057*POWER(Q169,2))-(0.0529*Q169)+6.2018)+Kalkkalkyl!$AJ$2)","v":6.89728422138257},{"$error":"#VALUE!"},null,{"$f":"IF(('PK kalkyl'!$AE$17*H169)+'PK kalkyl'!$AE$18+(('PK kalkyl'!$K$6-'PK kalkyl'!$AE$12)*'PK kalkyl'!$AE$13)<1,0,ROUND(('PK kalkyl'!$AE$17*H169)+'PK kalkyl'!$AE$18+(('PK kalkyl'!$K$6-'PK kalkyl'!$AE$12)*'PK kalkyl'!$AE$13),1))","v":{"$error":"#VALUE!"}},{"$f":"IF(('PK kalkyl'!$AE$37*I169)+'PK kalkyl'!$AE$38+(('PK kalkyl'!$K$6-'PK kalkyl'!$AE$32)*'PK kalkyl'!$AE$33)<1,0,ROUND(('PK kalkyl'!$AE$37*I169)+'PK kalkyl'!$AE$38+(('PK kalkyl'!$K$6-'PK kalkyl'!$AE$32)*'PK kalkyl'!$AE$33),1))","v":{"$error":"#VALUE!"}},{"$error":"#VALUE!"},{"$error":"#VALUE!"},{"$f":"IF((Y169<W169),Y169-W169,0)*-'PK kalkyl'!$AE$15","v":{"$error":"#VALUE!"}},{"$f":"IF((Z169<X169),Z169-X169,0)*-'PK kalkyl'!$AE$35","v":{"$error":"#VALUE!"}},{"$f":"+AA169*Växtföljd!$G$18+AB169*Växtföljd!$G$18","v":{"$error":"#VALUE!"}}]
[{"$f":"IF(Import!A170=\"\",\"\",Import!A170)","v":""},{"$f":"IF(Import!B170=\"\",\"\",Import!B170)","v":""},{"$f":"IF(Import!C170=\"\",\"\",Import!C170)","v":""},{"$f":"IF(Import!D170=\"\",\"\",Import!D170)","v":""},{"$f":"IF(Import!E170=\"\",\"\",Import!E170)","v":""},{"$f":"IF(Import!F170=\"\",\"\",Import!F170)","v":""},{"$f":"IF(Import!G170=\"\",\"\",Import!G170)","v":""},{"$f":"IF(Import!H170=\"\",\"\",Import!H170)","v":""},{"$f":"IF(Import!J170=\"\",\"\",Import!J170)","v":""},{"$f":"IF(Import!K170=\"\",\"\",Import!K170)","v":""},{"$f":"IF(Import!L170=\"\",\"\",Import!L170)","v":""},{"$f":"IF(Import!M170=\"\",\"\",Import!M170)","v":""},{"$f":"IF(Import!P170=\"\",\"\",Import!P170)","v":""},{"$f":"IF(Import!Q170=\"\",\"\",Import!Q170)","v":""},{"$f":"IF(Import!R170=\"\",\"\",Import!R170)","v":""},370,2.4,38,38,{"$f":"IF(Q170=\"\",\"\",(-0.00011*POWER(S170,2))+(0.01417*S170)+((0.00057*POWER(Q170,2))-(0.0529*Q170)+6.2018)+Kalkkalkyl!$AJ$2)","v":6.9577432000000003},{"$error":"#VALUE!"},null,{"$f":"IF(('PK kalkyl'!$AE$17*H170)+'PK kalkyl'!$AE$18+(('PK kalkyl'!$K$6-'PK kalkyl'!$AE$12)*'PK kalkyl'!$AE$13)<1,0,ROUND(('PK kalkyl'!$AE$17*H170)+'PK kalkyl'!$AE$18+(('PK kalkyl'!$K$6-'PK kalkyl'!$AE$12)*'PK kalkyl'!$AE$13),1))","v":{"$error":"#VALUE!"}},{"$f":"IF(('PK kalkyl'!$AE$37*I170)+'PK kalkyl'!$AE$38+(('PK kalkyl'!$K$6-'PK kalkyl'!$AE$32)*'PK kalkyl'!$AE$33)<1,0,ROUND(('PK kalkyl'!$AE$37*I170)+'PK kalkyl'!$AE$38+(('PK kalkyl'!$K$6-'PK kalkyl'!$AE$32)*'PK kalkyl'!$AE$33),1))","v":{"$error":"#VALUE!"}},{"$error":"#VALUE!"},{"$error":"#VALUE!"},{"$f":"IF((Y170<W170),Y170-W170,0)*-'PK kalkyl'!$AE$15","v":{"$error":"#VALUE!"}},{"$f":"IF((Z170<X170),Z170-X170,0)*-'PK kalkyl'!$AE$35","v":{"$error":"#VALUE!"}},{"$f":"+AA170*Växtföljd!$G$18+AB170*Växtföljd!$G$18","v":{"$error":"#VALUE!"}}]
[{"$f":"IF(Import!A171=\"\",\"\",Import!A171)","v":""},{"$f":"IF(Import!B171=\"\",\"\",Import!B171)","v":""},{"$f":"IF(Import!C171=\"\",\"\",Import!C171)","v":""},{"$f":"IF(Import!D171=\"\",\"\",Import!D171)","v":""},{"$f":"IF(Import!E171=\"\",\"\",Import!E171)","v":""},{"$f":"IF(Import!F171=\"\",\"\",Import!F171)","v":""},{"$f":"IF(Import!G171=\"\",\"\",Import!G171)","v":""},{"$f":"IF(Import!H171=\"\",\"\",Import!H171)","v":""},{"$f":"IF(Import!J171=\"\",\"\",Import!J171)","v":""},{"$f":"IF(Import!K171=\"\",\"\",Import!K171)","v":""},{"$f":"IF(Import!L171=\"\",\"\",Import!L171)","v":""},{"$f":"IF(Import!M171=\"\",\"\",Import!M171)","v":""},{"$f":"IF(Import!P171=\"\",\"\",Import!P171)","v":""},{"$f":"IF(Import!Q171=\"\",\"\",Import!Q171)","v":""},{"$f":"IF(Import!R171=\"\",\"\",Import!R171)","v":""},293.71811481270464,3.2900619445908883,32.912439631629091,32.912439631629091,{"$f":"IF(Q171=\"\",\"\",(-0.00011*POWER(S171,2))+(0.01417*S171)+((0.00057*POWER(Q171,2))-(0.0529*Q171)+6.2018)+Kalkkalkyl!$AJ$2)","v":6.8811398069672771},{"$error":"#VALUE!"},null,{"$f":"IF(('PK kalkyl'!$AE$17*H171)+'PK kalkyl'!$AE$18+(('PK kalkyl'!$K$6-'PK kalkyl'!$AE$12)*'PK kalkyl'!$AE$13)<1,0,ROUND(('PK kalkyl'!$AE$17*H171)+'PK kalkyl'!$AE$18+(('PK kalkyl'!$K$6-'PK kalkyl'!$AE$12)*'PK kalkyl'!$AE$13),1))","v":{"$error":"#VALUE!"}},{"$f":"IF(('PK kalkyl'!$AE$37*I171)+'PK kalkyl'!$AE$38+(('PK kalkyl'!$K$6-'PK kalkyl'!$AE$32)*'PK kalkyl'!$AE$33)<1,0,ROUND(('PK kalkyl'!$AE$37*I171)+'PK kalkyl'!$AE$38+(('PK kalkyl'!$K$6-'PK kalkyl'!$AE$32)*'PK kalkyl'!$AE$33),1))","v":{"$error":"#VALUE!"}},{"$error":"#VALUE!"},{"$error":"#VALUE!"},{"$f":"IF((Y171<W171),Y171-W171,0)*-'PK kalkyl'!$AE$15","v":{"$error":"#VALUE!"}},{"$f":"IF((Z171<X171),Z171-X171,0)*-'PK kalkyl'!$AE$35","v":{"$error":"#VALUE!"}},{"$f":"+AA171*Växtföljd!$G$18+AB171*Växtföljd!$G$18","v":{"$error":"#VALUE!"}}]
[{"$f":"IF(Import!A172=\"\",\"\",Import!A172)","v":""},{"$f":"IF(Import!B172=\"\",\"\",Import!B172)","v":""},{"$f":"IF(Import!C172=\"\",\"\",Import!C172)","v":""},{"$f":"IF(Import!D172=\"\",\"\",Import!D172)","v":""},{"$f":"IF(Import!E172=\"\",\"\",Import!E172)","v":""},{"$f":"IF(Import!F172=\"\",\"\",Import!F172)","v":""},{"$f":"IF(Import!G172=\"\",\"\",Import!G172)","v":""},{"$f":"IF(Import!H172=\"\",\"\",Import!H172)","v":""},{"$f":"IF(Import!J172=\"\",\"\",Import!J172)","v":""},{"$f":"IF(Import!K172=\"\",\"\",Import!K172)","v":""},{"$f":"IF(Import!L172=\"\",\"\",Import!L172)","v":""},{"$f":"IF(Import!M172=\"\",\"\",Import!M172)","v":""},{"$f":"IF(Import!P172=\"\",\"\",Import!P172)","v":""},{"$f":"IF(Import!Q172=\"\",\"\",Import!Q172)","v":""},{"$f":"IF(Import!R172=\"\",\"\",Import!R172)","v":""},280,3.5,33,33,{"$f":"IF(Q172=\"\",\"\",(-0.00011*POWER(S172,2))+(0.01417*S172)+((0.00057*POWER(Q172,2))-(0.0529*Q172)+6.2018)+Kalkkalkyl!$AJ$2)","v":6.8714525000000002},{"$error":"#VALUE!"},null,{"$f":"IF(('PK kalkyl'!$AE$17*H172)+'PK kalkyl'!$AE$18+(('PK kalkyl'!$K$6-'PK kalkyl'!$AE$12)*'PK kalkyl'!$AE$13)<1,0,ROUND(('PK kalkyl'!$AE$17*H172)+'PK kalkyl'!$AE$18+(('PK kalkyl'!$K$6-'PK kalkyl'!$AE$12)*'PK kalkyl'!$AE$13),1))","v":{"$error":"#VALUE!"}},{"$f":"IF(('PK kalkyl'!$AE$37*I172)+'PK kalkyl'!$AE$38+(('PK kalkyl'!$K$6-'PK kalkyl'!$AE$32)*'PK kalkyl'!$AE$33)<1,0,ROUND(('PK kalkyl'!$AE$37*I172)+'PK kalkyl'!$AE$38+(('PK kalkyl'!$K$6-'PK kalkyl'!$AE$32)*'PK kalkyl'!$AE$33),1))","v":{"$error":"#VALUE!"}},{"$error":"#VALUE!"},{"$error":"#VALUE!"},{"$f":"IF((Y172<W172),Y172-W172,0)*-'PK kalkyl'!$AE$15","v":{"$error":"#VALUE!"}},{"$f":"IF((Z172<X172),Z172-X172,0)*-'PK kalkyl'!$AE$35","v":{"$error":"#VALUE!"}},{"$f":"+AA172*Växtföljd!$G$18+AB172*Växtföljd!$G$18","v":{"$error":"#VALUE!"}}]
[{"$f":"IF(Import!A173=\"\",\"\",Import!A173)","v":""},{"$f":"IF(Import!B173=\"\",\"\",Import!B173)","v":""},{"$f":"IF(Import!C173=\"\",\"\",Import!C173)","v":""},{"$f":"IF(Import!D173=\"\",\"\",Import!D173)","v":""},{"$f":"IF(Import!E173=\"\",\"\",Import!E173)","v":""},{"$f":"IF(Import!F173=\"\",\"\",Import!F173)","v":""},{"$f":"IF(Import!G173=\"\",\"\",Import!G173)","v":""},{"$f":"IF(Import!H173=\"\",\"\",Import!H173)","v":""},{"$f":"IF(Import!J173=\"\",\"\",Import!J173)","v":""},{"$f":"IF(Import!K173=\"\",\"\",Import!K173)","v":""},{"$f":"IF(Import!L173=\"\",\"\",Import!L173)","v":""},{"$f":"IF(Import!M173=\"\",\"\",Import!M173)","v":""},{"$f":"IF(Import!P173=\"\",\"\",Import!P173)","v":""},{"$f":"IF(Import!Q173=\"\",\"\",Import!Q173)","v":""},{"$f":"IF(Import!R173=\"\",\"\",Import!R173)","v":""},297.65193503226965,3.1313062763658173,33.0023787959583,33.0023787959583,{"$f":"IF(Q173=\"\",\"\",(-0.00011*POWER(S173,2))+(0.01417*S173)+((0.00057*POWER(Q173,2))-(0.0529*Q173)+6.2018)+Kalkkalkyl!$AJ$2)","v":6.8895792298658201},{"$error":"#VALUE!"},null,{"$f":"IF(('PK kalkyl'!$AE$17*H173)+'PK kalkyl'!$AE$18+(('PK kalkyl'!$K$6-'PK kalkyl'!$AE$12)*'PK kalkyl'!$AE$13)<1,0,ROUND(('PK kalkyl'!$AE$17*H173)+'PK kalkyl'!$AE$18+(('PK kalkyl'!$K$6-'PK kalkyl'!$AE$12)*'PK kalkyl'!$AE$13),1))","v":{"$error":"#VALUE!"}},{"$f":"IF(('PK kalkyl'!$AE$37*I173)+'PK kalkyl'!$AE$38+(('PK kalkyl'!$K$6-'PK kalkyl'!$AE$32)*'PK kalkyl'!$AE$33)<1,0,ROUND(('PK kalkyl'!$AE$37*I173)+'PK kalkyl'!$AE$38+(('PK kalkyl'!$K$6-'PK kalkyl'!$AE$32)*'PK kalkyl'!$AE$33),1))","v":{"$error":"#VALUE!"}},{"$error":"#VALUE!"},{"$error":"#VALUE!"},{"$f":"IF((Y173<W173),Y173-W173,0)*-'PK kalkyl'!$AE$15","v":{"$error":"#VALUE!"}},{"$f":"IF((Z173<X173),Z173-X173,0)*-'PK kalkyl'!$AE$35","v":{"$error":"#VALUE!"}},{"$f":"+AA173*Växtföljd!$G$18+AB173*Växtföljd!$G$18","v":{"$error":"#VALUE!"}}]
[{"$f":"IF(Import!A174=\"\",\"\",Import!A174)","v":""},{"$f":"IF(Import!B174=\"\",\"\",Import!B174)","v":""},{"$f":"IF(Import!C174=\"\",\"\",Import!C174)","v":""},{"$f":"IF(Import!D174=\"\",\"\",Import!D174)","v":""},{"$f":"IF(Import!E174=\"\",\"\",Import!E174)","v":""},{"$f":"IF(Import!F174=\"\",\"\",Import!F174)","v":""},{"$f":"IF(Import!G174=\"\",\"\",Import!G174)","v":""},{"$f":"IF(Import!H174=\"\",\"\",Import!H174)","v":""},{"$f":"IF(Import!J174=\"\",\"\",Import!J174)","v":""},{"$f":"IF(Import!K174=\"\",\"\",Import!K174)","v":""},{"$f":"IF(Import!L174=\"\",\"\",Import!L174)","v":""},{"$f":"IF(Import!M174=\"\",\"\",Import!M174)","v":""},{"$f":"IF(Import!P174=\"\",\"\",Import!P174)","v":""},{"$f":"IF(Import!Q174=\"\",\"\",Import!Q174)","v":""},{"$f":"IF(Import!R174=\"\",\"\",Import!R174)","v":""},310,3,34,34,{"$f":"IF(Q174=\"\",\"\",(-0.00011*POWER(S174,2))+(0.01417*S174)+((0.00057*POWER(Q174,2))-(0.0529*Q174)+6.2018)+Kalkkalkyl!$AJ$2)","v":6.9028499999999999},{"$error":"#VALUE!"},null,{"$f":"IF(('PK kalkyl'!$AE$17*H174)+'PK kalkyl'!$AE$18+(('PK kalkyl'!$K$6-'PK kalkyl'!$AE$12)*'PK kalkyl'!$AE$13)<1,0,ROUND(('PK kalkyl'!$AE$17*H174)+'PK kalkyl'!$AE$18+(('PK kalkyl'!$K$6-'PK kalkyl'!$AE$12)*'PK kalkyl'!$AE$13),1))","v":{"$error":"#VALUE!"}},{"$f":"IF(('PK kalkyl'!$AE$37*I174)+'PK kalkyl'!$AE$38+(('PK kalkyl'!$K$6-'PK kalkyl'!$AE$32)*'PK kalkyl'!$AE$33)<1,0,ROUND(('PK kalkyl'!$AE$37*I174)+'PK kalkyl'!$AE$38+(('PK kalkyl'!$K$6-'PK kalkyl'!$AE$32)*'PK kalkyl'!$AE$33),1))","v":{"$error":"#VALUE!"}},{"$error":"#VALUE!"},{"$error":"#VALUE!"},{"$f":"IF((Y174<W174),Y174-W174,0)*-'PK kalkyl'!$AE$15","v":{"$error":"#VALUE!"}},{"$f":"IF((Z174<X174),Z174-X174,0)*-'PK kalkyl'!$AE$35","v":{"$error":"#VALUE!"}},{"$f":"+AA174*Växtföljd!$G$18+AB174*Växtföljd!$G$18","v":{"$error":"#VALUE!"}}]
[{"$f":"IF(Import!A175=\"\",\"\",Import!A175)","v":""},{"$f":"IF(Import!B175=\"\",\"\",Import!B175)","v":""},{"$f":"IF(Import!C175=\"\",\"\",Import!C175)","v":""},{"$f":"IF(Import!D175=\"\",\"\",Import!D175)","v":""},{"$f":"IF(Import!E175=\"\",\"\",Import!E175)","v":""},{"$f":"IF(Import!F175=\"\",\"\",Import!F175)","v":""},{"$f":"IF(Import!G175=\"\",\"\",Import!G175)","v":""},{"$f":"IF(Import!H175=\"\",\"\",Import!H175)","v":""},{"$f":"IF(Import!J175=\"\",\"\",Import!J175)","v":""},{"$f":"IF(Import!K175=\"\",\"\",Import!K175)","v":""},{"$f":"IF(Import!L175=\"\",\"\",Import!L175)","v":""},{"$f":"IF(Import!M175=\"\",\"\",Import!M175)","v":""},{"$f":"IF(Import!P175=\"\",\"\",Import!P175)","v":""},{"$f":"IF(Import!Q175=\"\",\"\",Import!Q175)","v":""},{"$f":"IF(Import!R175=\"\",\"\",Import!R175)","v":""},301.40703274254815,3.0882233746825829,32.488343810618623,32.488343810618623,{"$f":"IF(Q175=\"\",\"\",(-0.00011*POWER(S175,2))+(0.01417*S175)+((0.00057*POWER(Q175,2))-(0.0529*Q175)+6.2018)+Kalkkalkyl!$AJ$2)","v":6.8881248025432953},{"$error":"#VALUE!"},null,{"$f":"IF(('PK kalkyl'!$AE$17*H175)+'PK kalkyl'!$AE$18+(('PK kalkyl'!$K$6-'PK kalkyl'!$AE$12)*'PK kalkyl'!$AE$13)<1,0,ROUND(('PK kalkyl'!$AE$17*H175)+'PK kalkyl'!$AE$18+(('PK kalkyl'!$K$6-'PK kalkyl'!$AE$12)*'PK kalkyl'!$AE$13),1))","v":{"$error":"#VALUE!"}},{"$f":"IF(('PK kalkyl'!$AE$37*I175)+'PK kalkyl'!$AE$38+(('PK kalkyl'!$K$6-'PK kalkyl'!$AE$32)*'PK kalkyl'!$AE$33)<1,0,ROUND(('PK kalkyl'!$AE$37*I175)+'PK kalkyl'!$AE$38+(('PK kalkyl'!$K$6-'PK kalkyl'!$AE$32)*'PK kalkyl'!$AE$33),1))","v":{"$error":"#VALUE!"}},{"$error":"#VALUE!"},{"$error":"#VALUE!"},{"$f":"IF((Y175<W175),Y175-W175,0)*-'PK kalkyl'!$AE$15","v":{"$error":"#VALUE!"}},{"$f":"IF((Z175<X175),Z175-X175,0)*-'PK kalkyl'!$AE$35","v":{"$error":"#VALUE!"}},{"$f":"+AA175*Växtföljd!$G$18+AB175*Växtföljd!$G$18","v":{"$error":"#VALUE!"}}]
[{"$f":"IF(Import!A176=\"\",\"\",Import!A176)","v":""},{"$f":"IF(Import!B176=\"\",\"\",Import!B176)","v":""},{"$f":"IF(Import!C176=\"\",\"\",Import!C176)","v":""},{"$f":"IF(Import!D176=\"\",\"\",Import!D176)","v":""},{"$f":"IF(Import!E176=\"\",\"\",Import!E176)","v":""},{"$f":"IF(Import!F176=\"\",\"\",Import!F176)","v":""},{"$f":"IF(Import!G176=\"\",\"\",Import!G176)","v":""},{"$f":"IF(Import!H176=\"\",\"\",Import!H176)","v":""},{"$f":"IF(Import!J176=\"\",\"\",Import!J176)","v":""},{"$f":"IF(Import!K176=\"\",\"\",Import!K176)","v":""},{"$f":"IF(Import!L176=\"\",\"\",Import!L176)","v":""},{"$f":"IF(Import!M176=\"\",\"\",Import!M176)","v":""},{"$f":"IF(Import!P176=\"\",\"\",Import!P176)","v":""},{"$f":"IF(Import!Q176=\"\",\"\",Import!Q176)","v":""},{"$f":"IF(Import!R176=\"\",\"\",Import!R176)","v":""},320,3,31,31,{"$f":"IF(Q176=\"\",\"\",(-0.00011*POWER(S176,2))+(0.01417*S176)+((0.00057*POWER(Q176,2))-(0.0529*Q176)+6.2018)+Kalkkalkyl!$AJ$2)","v":6.8817900000000005},{"$error":"#VALUE!"},null,{"$f":"IF(('PK kalkyl'!$AE$17*H176)+'PK kalkyl'!$AE$18+(('PK kalkyl'!$K$6-'PK kalkyl'!$AE$12)*'PK kalkyl'!$AE$13)<1,0,ROUND(('PK kalkyl'!$AE$17*H176)+'PK kalkyl'!$AE$18+(('PK kalkyl'!$K$6-'PK kalkyl'!$AE$12)*'PK kalkyl'!$AE$13),1))","v":{"$error":"#VALUE!"}},{"$f":"IF(('PK kalkyl'!$AE$37*I176)+'PK kalkyl'!$AE$38+(('PK kalkyl'!$K$6-'PK kalkyl'!$AE$32)*'PK kalkyl'!$AE$33)<1,0,ROUND(('PK kalkyl'!$AE$37*I176)+'PK kalkyl'!$AE$38+(('PK kalkyl'!$K$6-'PK kalkyl'!$AE$32)*'PK kalkyl'!$AE$33),1))","v":{"$error":"#VALUE!"}},{"$error":"#VALUE!"},{"$error":"#VALUE!"},{"$f":"IF((Y176<W176),Y176-W176,0)*-'PK kalkyl'!$AE$15","v":{"$error":"#VALUE!"}},{"$f":"IF((Z176<X176),Z176-X176,0)*-'PK kalkyl'!$AE$35","v":{"$error":"#VALUE!"}},{"$f":"+AA176*Växtföljd!$G$18+AB176*Växtföljd!$G$18","v":{"$error":"#VALUE!"}}]
[{"$f":"IF(Import!A177=\"\",\"\",Import!A177)","v":""},{"$f":"IF(Import!B177=\"\",\"\",Import!B177)","v":""},{"$f":"IF(Import!C177=\"\",\"\",Import!C177)","v":""},{"$f":"IF(Import!D177=\"\",\"\",Import!D177)","v":""},{"$f":"IF(Import!E177=\"\",\"\",Import!E177)","v":""},{"$f":"IF(Import!F177=\"\",\"\",Import!F177)","v":""},{"$f":"IF(Import!G177=\"\",\"\",Import!G177)","v":""},{"$f":"IF(Import!H177=\"\",\"\",Import!H177)","v":""},{"$f":"IF(Import!J177=\"\",\"\",Import!J177)","v":""},{"$f":"IF(Import!K177=\"\",\"\",Import!K177)","v":""},{"$f":"IF(Import!L177=\"\",\"\",Import!L177)","v":""},{"$f":"IF(Import!M177=\"\",\"\",Import!M177)","v":""},{"$f":"IF(Import!P177=\"\",\"\",Import!P177)","v":""},{"$f":"IF(Import!Q177=\"\",\"\",Import!Q177)","v":""},{"$f":"IF(Import!R177=\"\",\"\",Import!R177)","v":""},307.08332914571656,3.0877875621252526,31.757718153838479,31.757718153838479,{"$f":"IF(Q177=\"\",\"\",(-0.00011*POWER(S177,2))+(0.01417*S177)+((0.00057*POWER(Q177,2))-(0.0529*Q177)+6.2018)+Kalkkalkyl!$AJ$2)","v":6.8829567376026395},{"$error":"#VALUE!"},null,{"$f":"IF(('PK kalkyl'!$AE$17*H177)+'PK kalkyl'!$AE$18+(('PK kalkyl'!$K$6-'PK kalkyl'!$AE$12)*'PK kalkyl'!$AE$13)<1,0,ROUND(('PK kalkyl'!$AE$17*H177)+'PK kalkyl'!$AE$18+(('PK kalkyl'!$K$6-'PK kalkyl'!$AE$12)*'PK kalkyl'!$AE$13),1))","v":{"$error":"#VALUE!"}},{"$f":"IF(('PK kalkyl'!$AE$37*I177)+'PK kalkyl'!$AE$38+(('PK kalkyl'!$K$6-'PK kalkyl'!$AE$32)*'PK kalkyl'!$AE$33)<1,0,ROUND(('PK kalkyl'!$AE$37*I177)+'PK kalkyl'!$AE$38+(('PK kalkyl'!$K$6-'PK kalkyl'!$AE$32)*'PK kalkyl'!$AE$33),1))","v":{"$error":"#VALUE!"}},{"$error":"#VALUE!"},{"$error":"#VALUE!"},{"$f":"IF((Y177<W177),Y177-W177,0)*-'PK kalkyl'!$AE$15","v":{"$error":"#VALUE!"}},{"$f":"IF((Z177<X177),Z177-X177,0)*-'PK kalkyl'!$AE$35","v":{"$error":"#VALUE!"}},{"$f":"+AA177*Växtföljd!$G$18+AB177*Växtföljd!$G$18","v":{"$error":"#VALUE!"}}]
[{"$f":"IF(Import!A178=\"\",\"\",Import!A178)","v":""},{"$f":"IF(Import!B178=\"\",\"\",Import!B178)","v":""},{"$f":"IF(Import!C178=\"\",\"\",Import!C178)","v":""},{"$f":"IF(Import!D178=\"\",\"\",Import!D178)","v":""},{"$f":"IF(Import!E178=\"\",\"\",Import!E178)","v":""},{"$f":"IF(Import!F178=\"\",\"\",Import!F178)","v":""},{"$f":"IF(Import!G178=\"\",\"\",Import!G178)","v":""},{"$f":"IF(Import!H178=\"\",\"\",Import!H178)","v":""},{"$f":"IF(Import!J178=\"\",\"\",Import!J178)","v":""},{"$f":"IF(Import!K178=\"\",\"\",Import!K178)","v":""},{"$f":"IF(Import!L178=\"\",\"\",Import!L178)","v":""},{"$f":"IF(Import!M178=\"\",\"\",Import!M178)","v":""},{"$f":"IF(Import!P178=\"\",\"\",Import!P178)","v":""},{"$f":"IF(Import!Q178=\"\",\"\",Import!Q178)","v":""},{"$f":"IF(Import!R178=\"\",\"\",Import!R178)","v":""},290,3.2,32,32,{"$f":"IF(Q178=\"\",\"\",(-0.00011*POWER(S178,2))+(0.01417*S178)+((0.00057*POWER(Q178,2))-(0.0529*Q178)+6.2018)+Kalkkalkyl!$AJ$2)","v":6.8791568000000005},{"$error":"#VALUE!"},null,{"$f":"IF(('PK kalkyl'!$AE$17*H178)+'PK kalkyl'!$AE$18+(('PK kalkyl'!$K$6-'PK kalkyl'!$AE$12)*'PK kalkyl'!$AE$13)<1,0,ROUND(('PK kalkyl'!$AE$17*H178)+'PK kalkyl'!$AE$18+(('PK kalkyl'!$K$6-'PK kalkyl'!$AE$12)*'PK kalkyl'!$AE$13),1))","v":{"$error":"#VALUE!"}},{"$f":"IF(('PK kalkyl'!$AE$37*I178)+'PK kalkyl'!$AE$38+(('PK kalkyl'!$K$6-'PK kalkyl'!$AE$32)*'PK kalkyl'!$AE$33)<1,0,ROUND(('PK kalkyl'!$AE$37*I178)+'PK kalkyl'!$AE$38+(('PK kalkyl'!$K$6-'PK kalkyl'!$AE$32)*'PK kalkyl'!$AE$33),1))","v":{"$error":"#VALUE!"}},{"$error":"#VALUE!"},{"$error":"#VALUE!"},{"$f":"IF((Y178<W178),Y178-W178,0)*-'PK kalkyl'!$AE$15","v":{"$error":"#VALUE!"}},{"$f":"IF((Z178<X178),Z178-X178,0)*-'PK kalkyl'!$AE$35","v":{"$error":"#VALUE!"}},{"$f":"+AA178*Växtföljd!$G$18+AB178*Växtföljd!$G$18","v":{"$error":"#VALUE!"}}]
[{"$f":"IF(Import!A179=\"\",\"\",Import!A179)","v":""},{"$f":"IF(Import!B179=\"\",\"\",Import!B179)","v":""},{"$f":"IF(Import!C179=\"\",\"\",Import!C179)","v":""},{"$f":"IF(Import!D179=\"\",\"\",Import!D179)","v":""},{"$f":"IF(Import!E179=\"\",\"\",Import!E179)","v":""},{"$f":"IF(Import!F179=\"\",\"\",Import!F179)","v":""},{"$f":"IF(Import!G179=\"\",\"\",Import!G179)","v":""},{"$f":"IF(Import!H179=\"\",\"\",Import!H179)","v":""},{"$f":"IF(Import!J179=\"\",\"\",Import!J179)","v":""},{"$f":"IF(Import!K179=\"\",\"\",Import!K179)","v":""},{"$f":"IF(Import!L179=\"\",\"\",Import!L179)","v":""},{"$f":"IF(Import!M179=\"\",\"\",Import!M179)","v":""},{"$f":"IF(Import!P179=\"\",\"\",Import!P179)","v":""},{"$f":"IF(Import!Q179=\"\",\"\",Import!Q179)","v":""},{"$f":"IF(Import!R179=\"\",\"\",Import!R179)","v":""},295.19001473852467,3.0709317582851305,32.728500363268616,32.728500363268616,{"$f":"IF(Q179=\"\",\"\",(-0.00011*POWER(S179,2))+(0.01417*S179)+((0.00057*POWER(Q179,2))-(0.0529*Q179)+6.2018)+Kalkkalkyl!$AJ$2)","v":6.8906589936336067},{"$error":"#VALUE!"},null,{"$f":"IF(('PK kalkyl'!$AE$17*H179)+'PK kalkyl'!$AE$18+(('PK kalkyl'!$K$6-'PK kalkyl'!$AE$12)*'PK kalkyl'!$AE$13)<1,0,ROUND(('PK kalkyl'!$AE$17*H179)+'PK kalkyl'!$AE$18+(('PK kalkyl'!$K$6-'PK kalkyl'!$AE$12)*'PK kalkyl'!$AE$13),1))","v":{"$error":"#VALUE!"}},{"$f":"IF(('PK kalkyl'!$AE$37*I179)+'PK kalkyl'!$AE$38+(('PK kalkyl'!$K$6-'PK kalkyl'!$AE$32)*'PK kalkyl'!$AE$33)<1,0,ROUND(('PK kalkyl'!$AE$37*I179)+'PK kalkyl'!$AE$38+(('PK kalkyl'!$K$6-'PK kalkyl'!$AE$32)*'PK kalkyl'!$AE$33),1))","v":{"$error":"#VALUE!"}},{"$error":"#VALUE!"},{"$error":"#VALUE!"},{"$f":"IF((Y179<W179),Y179-W179,0)*-'PK kalkyl'!$AE$15","v":{"$error":"#VALUE!"}},{"$f":"IF((Z179<X179),Z179-X179,0)*-'PK kalkyl'!$AE$35","v":{"$error":"#VALUE!"}},{"$f":"+AA179*Växtföljd!$G$18+AB179*Växtföljd!$G$18","v":{"$error":"#VALUE!"}}]
[{"$f":"IF(Import!A180=\"\",\"\",Import!A180)","v":""},{"$f":"IF(Import!B180=\"\",\"\",Import!B180)","v":""},{"$f":"IF(Import!C180=\"\",\"\",Import!C180)","v":""},{"$f":"IF(Import!D180=\"\",\"\",Import!D180)","v":""},{"$f":"IF(Import!E180=\"\",\"\",Import!E180)","v":""},{"$f":"IF(Import!F180=\"\",\"\",Import!F180)","v":""},{"$f":"IF(Import!G180=\"\",\"\",Import!G180)","v":""},{"$f":"IF(Import!H180=\"\",\"\",Import!H180)","v":""},{"$f":"IF(Import!J180=\"\",\"\",Import!J180)","v":""},{"$f":"IF(Import!K180=\"\",\"\",Import!K180)","v":""},{"$f":"IF(Import!L180=\"\",\"\",Import!L180)","v":""},{"$f":"IF(Import!M180=\"\",\"\",Import!M180)","v":""},{"$f":"IF(Import!P180=\"\",\"\",Import!P180)","v":""},{"$f":"IF(Import!Q180=\"\",\"\",Import!Q180)","v":""},{"$f":"IF(Import!R180=\"\",\"\",Import!R180)","v":""},290,3.1,32,32,{"$f":"IF(Q180=\"\",\"\",(-0.00011*POWER(S180,2))+(0.01417*S180)+((0.00057*POWER(Q180,2))-(0.0529*Q180)+6.2018)+Kalkkalkyl!$AJ$2)","v":6.8840877000000003},{"$error":"#VALUE!"},null,{"$f":"IF(('PK kalkyl'!$AE$17*H180)+'PK kalkyl'!$AE$18+(('PK kalkyl'!$K$6-'PK kalkyl'!$AE$12)*'PK kalkyl'!$AE$13)<1,0,ROUND(('PK kalkyl'!$AE$17*H180)+'PK kalkyl'!$AE$18+(('PK kalkyl'!$K$6-'PK kalkyl'!$AE$12)*'PK kalkyl'!$AE$13),1))","v":{"$error":"#VALUE!"}},{"$f":"IF(('PK kalkyl'!$AE$37*I180)+'PK kalkyl'!$AE$38+(('PK kalkyl'!$K$6-'PK kalkyl'!$AE$32)*'PK kalkyl'!$AE$33)<1,0,ROUND(('PK kalkyl'!$AE$37*I180)+'PK kalkyl'!$AE$38+(('PK kalkyl'!$K$6-'PK kalkyl'!$AE$32)*'PK kalkyl'!$AE$33),1))","v":{"$error":"#VALUE!"}},{"$error":"#VALUE!"},{"$error":"#VALUE!"},{"$f":"IF((Y180<W180),Y180-W180,0)*-'PK kalkyl'!$AE$15","v":{"$error":"#VALUE!"}},{"$f":"IF((Z180<X180),Z180-X180,0)*-'PK kalkyl'!$AE$35","v":{"$error":"#VALUE!"}},{"$f":"+AA180*Växtföljd!$G$18+AB180*Växtföljd!$G$18","v":{"$error":"#VALUE!"}}]
[{"$f":"IF(Import!A181=\"\",\"\",Import!A181)","v":""},{"$f":"IF(Import!B181=\"\",\"\",Import!B181)","v":""},{"$f":"IF(Import!C181=\"\",\"\",Import!C181)","v":""},{"$f":"IF(Import!D181=\"\",\"\",Import!D181)","v":""},{"$f":"IF(Import!E181=\"\",\"\",Import!E181)","v":""},{"$f":"IF(Import!F181=\"\",\"\",Import!F181)","v":""},{"$f":"IF(Import!G181=\"\",\"\",Import!G181)","v":""},{"$f":"IF(Import!H181=\"\",\"\",Import!H181)","v":""},{"$f":"IF(Import!J181=\"\",\"\",Import!J181)","v":""},{"$f":"IF(Import!K181=\"\",\"\",Import!K181)","v":""},{"$f":"IF(Import!L181=\"\",\"\",Import!L181)","v":""},{"$f":"IF(Import!M181=\"\",\"\",Import!M181)","v":""},{"$f":"IF(Import!P181=\"\",\"\",Import!P181)","v":""},{"$f":"IF(Import!Q181=\"\",\"\",Import!Q181)","v":""},{"$f":"IF(Import!R181=\"\",\"\",Import!R181)","v":""},299.83315568534556,3.0191775405350056,32.666345207488838,32.666345207488838,{"$f":"IF(Q181=\"\",\"\",(-0.00011*POWER(S181,2))+(0.01417*S181)+((0.00057*POWER(Q181,2))-(0.0529*Q181)+6.2018)+Kalkkalkyl!$AJ$2)","v":6.8927835045043091},{"$error":"#VALUE!"},null,{"$f":"IF(('PK kalkyl'!$AE$17*H181)+'PK kalkyl'!$AE$18+(('PK kalkyl'!$K$6-'PK kalkyl'!$AE$12)*'PK kalkyl'!$AE$13)<1,0,ROUND(('PK kalkyl'!$AE$17*H181)+'PK kalkyl'!$AE$18+(('PK kalkyl'!$K$6-'PK kalkyl'!$AE$12)*'PK kalkyl'!$AE$13),1))","v":{"$error":"#VALUE!"}},{"$f":"IF(('PK kalkyl'!$AE$37*I181)+'PK kalkyl'!$AE$38+(('PK kalkyl'!$K$6-'PK kalkyl'!$AE$32)*'PK kalkyl'!$AE$33)<1,0,ROUND(('PK kalkyl'!$AE$37*I181)+'PK kalkyl'!$AE$38+(('PK kalkyl'!$K$6-'PK kalkyl'!$AE$32)*'PK kalkyl'!$AE$33),1))","v":{"$error":"#VALUE!"}},{"$error":"#VALUE!"},{"$error":"#VALUE!"},{"$f":"IF((Y181<W181),Y181-W181,0)*-'PK kalkyl'!$AE$15","v":{"$error":"#VALUE!"}},{"$f":"IF((Z181<X181),Z181-X181,0)*-'PK kalkyl'!$AE$35","v":{"$error":"#VALUE!"}},{"$f":"+AA181*Växtföljd!$G$18+AB181*Växtföljd!$G$18","v":{"$error":"#VALUE!"}}]
[{"$f":"IF(Import!A182=\"\",\"\",Import!A182)","v":""},{"$f":"IF(Import!B182=\"\",\"\",Import!B182)","v":""},{"$f":"IF(Import!C182=\"\",\"\",Import!C182)","v":""},{"$f":"IF(Import!D182=\"\",\"\",Import!D182)","v":""},{"$f":"IF(Import!E182=\"\",\"\",Import!E182)","v":""},{"$f":"IF(Import!F182=\"\",\"\",Import!F182)","v":""},{"$f":"IF(Import!G182=\"\",\"\",Import!G182)","v":""},{"$f":"IF(Import!H182=\"\",\"\",Import!H182)","v":""},{"$f":"IF(Import!J182=\"\",\"\",Import!J182)","v":""},{"$f":"IF(Import!K182=\"\",\"\",Import!K182)","v":""},{"$f":"IF(Import!L182=\"\",\"\",Import!L182)","v":""},{"$f":"IF(Import!M182=\"\",\"\",Import!M182)","v":""},{"$f":"IF(Import!P182=\"\",\"\",Import!P182)","v":""},{"$f":"IF(Import!Q182=\"\",\"\",Import!Q182)","v":""},{"$f":"IF(Import!R182=\"\",\"\",Import!R182)","v":""},300,2.5,32,32,{"$f":"IF(Q182=\"\",\"\",(-0.00011*POWER(S182,2))+(0.01417*S182)+((0.00057*POWER(Q182,2))-(0.0529*Q182)+6.2018)+Kalkkalkyl!$AJ$2)","v":6.9139125000000003},{"$error":"#VALUE!"},null,{"$f":"IF(('PK kalkyl'!$AE$17*H182)+'PK kalkyl'!$AE$18+(('PK kalkyl'!$K$6-'PK kalkyl'!$AE$12)*'PK kalkyl'!$AE$13)<1,0,ROUND(('PK kalkyl'!$AE$17*H182)+'PK kalkyl'!$AE$18+(('PK kalkyl'!$K$6-'PK kalkyl'!$AE$12)*'PK kalkyl'!$AE$13),1))","v":{"$error":"#VALUE!"}},{"$f":"IF(('PK kalkyl'!$AE$37*I182)+'PK kalkyl'!$AE$38+(('PK kalkyl'!$K$6-'PK kalkyl'!$AE$32)*'PK kalkyl'!$AE$33)<1,0,ROUND(('PK kalkyl'!$AE$37*I182)+'PK kalkyl'!$AE$38+(('PK kalkyl'!$K$6-'PK kalkyl'!$AE$32)*'PK kalkyl'!$AE$33),1))","v":{"$error":"#VALUE!"}},{"$error":"#VALUE!"},{"$error":"#VALUE!"},{"$f":"IF((Y182<W182),Y182-W182,0)*-'PK kalkyl'!$AE$15","v":{"$error":"#VALUE!"}},{"$f":"IF((Z182<X182),Z182-X182,0)*-'PK kalkyl'!$AE$35","v":{"$error":"#VALUE!"}},{"$f":"+AA182*Växtföljd!$G$18+AB182*Växtföljd!$G$18","v":{"$error":"#VALUE!"}}]
[{"$f":"IF(Import!A183=\"\",\"\",Import!A183)","v":""},{"$f":"IF(Import!B183=\"\",\"\",Import!B183)","v":""},{"$f":"IF(Import!C183=\"\",\"\",Import!C183)","v":""},{"$f":"IF(Import!D183=\"\",\"\",Import!D183)","v":""},{"$f":"IF(Import!E183=\"\",\"\",Import!E183)","v":""},{"$f":"IF(Import!F183=\"\",\"\",Import!F183)","v":""},{"$f":"IF(Import!G183=\"\",\"\",Import!G183)","v":""},{"$f":"IF(Import!H183=\"\",\"\",Import!H183)","v":""},{"$f":"IF(Import!J183=\"\",\"\",Import!J183)","v":""},{"$f":"IF(Import!K183=\"\",\"\",Import!K183)","v":""},{"$f":"IF(Import!L183=\"\",\"\",Import!L183)","v":""},{"$f":"IF(Import!M183=\"\",\"\",Import!M183)","v":""},{"$f":"IF(Import!P183=\"\",\"\",Import!P183)","v":""},{"$f":"IF(Import!Q183=\"\",\"\",Import!Q183)","v":""},{"$f":"IF(Import!R183=\"\",\"\",Import!R183)","v":""},318.26253151962555,2.7248025371015543,33.455946254832917,33.455946254832917,{"$f":"IF(Q183=\"\",\"\",(-0.00011*POWER(S183,2))+(0.01417*S183)+((0.00057*POWER(Q183,2))-(0.0529*Q183)+6.2018)+Kalkkalkyl!$AJ$2)","v":6.9128376596933521},{"$error":"#VALUE!"},null,{"$f":"IF(('PK kalkyl'!$AE$17*H183)+'PK kalkyl'!$AE$18+(('PK kalkyl'!$K$6-'PK kalkyl'!$AE$12)*'PK kalkyl'!$AE$13)<1,0,ROUND(('PK kalkyl'!$AE$17*H183)+'PK kalkyl'!$AE$18+(('PK kalkyl'!$K$6-'PK kalkyl'!$AE$12)*'PK kalkyl'!$AE$13),1))","v":{"$error":"#VALUE!"}},{"$f":"IF(('PK kalkyl'!$AE$37*I183)+'PK kalkyl'!$AE$38+(('PK kalkyl'!$K$6-'PK kalkyl'!$AE$32)*'PK kalkyl'!$AE$33)<1,0,ROUND(('PK kalkyl'!$AE$37*I183)+'PK kalkyl'!$AE$38+(('PK kalkyl'!$K$6-'PK kalkyl'!$AE$32)*'PK kalkyl'!$AE$33),1))","v":{"$error":"#VALUE!"}},{"$error":"#VALUE!"},{"$error":"#VALUE!"},{"$f":"IF((Y183<W183),Y183-W183,0)*-'PK kalkyl'!$AE$15","v":{"$error":"#VALUE!"}},{"$f":"IF((Z183<X183),Z183-X183,0)*-'PK kalkyl'!$AE$35","v":{"$error":"#VALUE!"}},{"$f":"+AA183*Växtföljd!$G$18+AB183*Växtföljd!$G$18","v":{"$error":"#VALUE!"}}]
[{"$f":"IF(Import!A184=\"\",\"\",Import!A184)","v":""},{"$f":"IF(Import!B184=\"\",\"\",Import!B184)","v":""},{"$f":"IF(Import!C184=\"\",\"\",Import!C184)","v":""},{"$f":"IF(Import!D184=\"\",\"\",Import!D184)","v":""},{"$f":"IF(Import!E184=\"\",\"\",Import!E184)","v":""},{"$f":"IF(Import!F184=\"\",\"\",Import!F184)","v":""},{"$f":"IF(Import!G184=\"\",\"\",Import!G184)","v":""},{"$f":"IF(Import!H184=\"\",\"\",Import!H184)","v":""},{"$f":"IF(Import!J184=\"\",\"\",Import!J184)","v":""},{"$f":"IF(Import!K184=\"\",\"\",Import!K184)","v":""},{"$f":"IF(Import!L184=\"\",\"\",Import!L184)","v":""},{"$f":"IF(Import!M184=\"\",\"\",Import!M184)","v":""},{"$f":"IF(Import!P184=\"\",\"\",Import!P184)","v":""},{"$f":"IF(Import!Q184=\"\",\"\",Import!Q184)","v":""},{"$f":"IF(Import!R184=\"\",\"\",Import!R184)","v":""},310,2.7,35,35,{"$f":"IF(Q184=\"\",\"\",(-0.00011*POWER(S184,2))+(0.01417*S184)+((0.00057*POWER(Q184,2))-(0.0529*Q184)+6.2018)+Kalkkalkyl!$AJ$2)","v":6.9243253000000005},{"$error":"#VALUE!"},null,{"$f":"IF(('PK kalkyl'!$AE$17*H184)+'PK kalkyl'!$AE$18+(('PK kalkyl'!$K$6-'PK kalkyl'!$AE$12)*'PK kalkyl'!$AE$13)<1,0,ROUND(('PK kalkyl'!$AE$17*H184)+'PK kalkyl'!$AE$18+(('PK kalkyl'!$K$6-'PK kalkyl'!$AE$12)*'PK kalkyl'!$AE$13),1))","v":{"$error":"#VALUE!"}},{"$f":"IF(('PK kalkyl'!$AE$37*I184)+'PK kalkyl'!$AE$38+(('PK kalkyl'!$K$6-'PK kalkyl'!$AE$32)*'PK kalkyl'!$AE$33)<1,0,ROUND(('PK kalkyl'!$AE$37*I184)+'PK kalkyl'!$AE$38+(('PK kalkyl'!$K$6-'PK kalkyl'!$AE$32)*'PK kalkyl'!$AE$33),1))","v":{"$error":"#VALUE!"}},{"$error":"#VALUE!"},{"$error":"#VALUE!"},{"$f":"IF((Y184<W184),Y184-W184,0)*-'PK kalkyl'!$AE$15","v":{"$error":"#VALUE!"}},{"$f":"IF((Z184<X184),Z184-X184,0)*-'PK kalkyl'!$AE$35","v":{"$error":"#VALUE!"}},{"$f":"+AA184*Växtföljd!$G$18+AB184*Växtföljd!$G$18","v":{"$error":"#VALUE!"}}]
[{"$f":"IF(Import!A185=\"\",\"\",Import!A185)","v":""},{"$f":"IF(Import!B185=\"\",\"\",Import!B185)","v":""},{"$f":"IF(Import!C185=\"\",\"\",Import!C185)","v":""},{"$f":"IF(Import!D185=\"\",\"\",Import!D185)","v":""},{"$f":"IF(Import!E185=\"\",\"\",Import!E185)","v":""},{"$f":"IF(Import!F185=\"\",\"\",Import!F185)","v":""},{"$f":"IF(Import!G185=\"\",\"\",Import!G185)","v":""},{"$f":"IF(Import!H185=\"\",\"\",Import!H185)","v":""},{"$f":"IF(Import!J185=\"\",\"\",Import!J185)","v":""},{"$f":"IF(Import!K185=\"\",\"\",Import!K185)","v":""},{"$f":"IF(Import!L185=\"\",\"\",Import!L185)","v":""},{"$f":"IF(Import!M185=\"\",\"\",Import!M185)","v":""},{"$f":"IF(Import!P185=\"\",\"\",Import!P185)","v":""},{"$f":"IF(Import!Q185=\"\",\"\",Import!Q185)","v":""},{"$f":"IF(Import!R185=\"\",\"\",Import!R185)","v":""},318.56489029698241,2.8590233829742711,33.703295041564729,33.703295041564729,{"$f":"IF(Q185=\"\",\"\",(-0.00011*POWER(S185,2))+(0.01417*S185)+((0.00057*POWER(Q185,2))-(0.0529*Q185)+6.2018)+Kalkkalkyl!$AJ$2)","v":6.9078422115286751},{"$error":"#VALUE!"},null,{"$f":"IF(('PK kalkyl'!$AE$17*H185)+'PK kalkyl'!$AE$18+(('PK kalkyl'!$K$6-'PK kalkyl'!$AE$12)*'PK kalkyl'!$AE$13)<1,0,ROUND(('PK kalkyl'!$AE$17*H185)+'PK kalkyl'!$AE$18+(('PK kalkyl'!$K$6-'PK kalkyl'!$AE$12)*'PK kalkyl'!$AE$13),1))","v":{"$error":"#VALUE!"}},{"$f":"IF(('PK kalkyl'!$AE$37*I185)+'PK kalkyl'!$AE$38+(('PK kalkyl'!$K$6-'PK kalkyl'!$AE$32)*'PK kalkyl'!$AE$33)<1,0,ROUND(('PK kalkyl'!$AE$37*I185)+'PK kalkyl'!$AE$38+(('PK kalkyl'!$K$6-'PK kalkyl'!$AE$32)*'PK kalkyl'!$AE$33),1))","v":{"$error":"#VALUE!"}},{"$error":"#VALUE!"},{"$error":"#VALUE!"},{"$f":"IF((Y185<W185),Y185-W185,0)*-'PK kalkyl'!$AE$15","v":{"$error":"#VALUE!"}},{"$f":"IF((Z185<X185),Z185-X185,0)*-'PK kalkyl'!$AE$35","v":{"$error":"#VALUE!"}},{"$f":"+AA185*Växtföljd!$G$18+AB185*Växtföljd!$G$18","v":{"$error":"#VALUE!"}}]
[{"$f":"IF(Import!A186=\"\",\"\",Import!A186)","v":""},{"$f":"IF(Import!B186=\"\",\"\",Import!B186)","v":""},{"$f":"IF(Import!C186=\"\",\"\",Import!C186)","v":""},{"$f":"IF(Import!D186=\"\",\"\",Import!D186)","v":""},{"$f":"IF(Import!E186=\"\",\"\",Import!E186)","v":""},{"$f":"IF(Import!F186=\"\",\"\",Import!F186)","v":""},{"$f":"IF(Import!G186=\"\",\"\",Import!G186)","v":""},{"$f":"IF(Import!H186=\"\",\"\",Import!H186)","v":""},{"$f":"IF(Import!J186=\"\",\"\",Import!J186)","v":""},{"$f":"IF(Import!K186=\"\",\"\",Import!K186)","v":""},{"$f":"IF(Import!L186=\"\",\"\",Import!L186)","v":""},{"$f":"IF(Import!M186=\"\",\"\",Import!M186)","v":""},{"$f":"IF(Import!P186=\"\",\"\",Import!P186)","v":""},{"$f":"IF(Import!Q186=\"\",\"\",Import!Q186)","v":""},{"$f":"IF(Import!R186=\"\",\"\",Import!R186)","v":""},410,2.6,35,35,{"$f":"IF(Q186=\"\",\"\",(-0.00011*POWER(S186,2))+(0.01417*S186)+((0.00057*POWER(Q186,2))-(0.0529*Q186)+6.2018)+Kalkkalkyl!$AJ$2)","v":6.9293132000000002},{"$error":"#VALUE!"},null,{"$f":"IF(('PK kalkyl'!$AE$17*H186)+'PK kalkyl'!$AE$18+(('PK kalkyl'!$K$6-'PK kalkyl'!$AE$12)*'PK kalkyl'!$AE$13)<1,0,ROUND(('PK kalkyl'!$AE$17*H186)+'PK kalkyl'!$AE$18+(('PK kalkyl'!$K$6-'PK kalkyl'!$AE$12)*'PK kalkyl'!$AE$13),1))","v":{"$error":"#VALUE!"}},{"$f":"IF(('PK kalkyl'!$AE$37*I186)+'PK kalkyl'!$AE$38+(('PK kalkyl'!$K$6-'PK kalkyl'!$AE$32)*'PK kalkyl'!$AE$33)<1,0,ROUND(('PK kalkyl'!$AE$37*I186)+'PK kalkyl'!$AE$38+(('PK kalkyl'!$K$6-'PK kalkyl'!$AE$32)*'PK kalkyl'!$AE$33),1))","v":{"$error":"#VALUE!"}},{"$error":"#VALUE!"},{"$error":"#VALUE!"},{"$f":"IF((Y186<W186),Y186-W186,0)*-'PK kalkyl'!$AE$15","v":{"$error":"#VALUE!"}},{"$f":"IF((Z186<X186),Z186-X186,0)*-'PK kalkyl'!$AE$35","v":{"$error":"#VALUE!"}},{"$f":"+AA186*Växtföljd!$G$18+AB186*Växtföljd!$G$18","v":{"$error":"#VALUE!"}}]
[{"$f":"IF(Import!A187=\"\",\"\",Import!A187)","v":""},{"$f":"IF(Import!B187=\"\",\"\",Import!B187)","v":""},{"$f":"IF(Import!C187=\"\",\"\",Import!C187)","v":""},{"$f":"IF(Import!D187=\"\",\"\",Import!D187)","v":""},{"$f":"IF(Import!E187=\"\",\"\",Import!E187)","v":""},{"$f":"IF(Import!F187=\"\",\"\",Import!F187)","v":""},{"$f":"IF(Import!G187=\"\",\"\",Import!G187)","v":""},{"$f":"IF(Import!H187=\"\",\"\",Import!H187)","v":""},{"$f":"IF(Import!J187=\"\",\"\",Import!J187)","v":""},{"$f":"IF(Import!K187=\"\",\"\",Import!K187)","v":""},{"$f":"IF(Import!L187=\"\",\"\",Import!L187)","v":""},{"$f":"IF(Import!M187=\"\",\"\",Import!M187)","v":""},{"$f":"IF(Import!P187=\"\",\"\",Import!P187)","v":""},{"$f":"IF(Import!Q187=\"\",\"\",Import!Q187)","v":""},{"$f":"IF(Import!R187=\"\",\"\",Import!R187)","v":""},365.88739639403531,2.8137953368148003,33.721066903558878,33.721066903558878,{"$f":"IF(Q187=\"\",\"\",(-0.00011*POWER(S187,2))+(0.01417*S187)+((0.00057*POWER(Q187,2))-(0.0529*Q187)+6.2018)+Kalkkalkyl!$AJ$2)","v":6.9102085490559189},{"$error":"#VALUE!"},null,{"$f":"IF(('PK kalkyl'!$AE$17*H187)+'PK kalkyl'!$AE$18+(('PK kalkyl'!$K$6-'PK kalkyl'!$AE$12)*'PK kalkyl'!$AE$13)<1,0,ROUND(('PK kalkyl'!$AE$17*H187)+'PK kalkyl'!$AE$18+(('PK kalkyl'!$K$6-'PK kalkyl'!$AE$12)*'PK kalkyl'!$AE$13),1))","v":{"$error":"#VALUE!"}},{"$f":"IF(('PK kalkyl'!$AE$37*I187)+'PK kalkyl'!$AE$38+(('PK kalkyl'!$K$6-'PK kalkyl'!$AE$32)*'PK kalkyl'!$AE$33)<1,0,ROUND(('PK kalkyl'!$AE$37*I187)+'PK kalkyl'!$AE$38+(('PK kalkyl'!$K$6-'PK kalkyl'!$AE$32)*'PK kalkyl'!$AE$33),1))","v":{"$error":"#VALUE!"}},{"$error":"#VALUE!"},{"$error":"#VALUE!"},{"$f":"IF((Y187<W187),Y187-W187,0)*-'PK kalkyl'!$AE$15","v":{"$error":"#VALUE!"}},{"$f":"IF((Z187<X187),Z187-X187,0)*-'PK kalkyl'!$AE$35","v":{"$error":"#VALUE!"}},{"$f":"+AA187*Växtföljd!$G$18+AB187*Växtföljd!$G$18","v":{"$error":"#VALUE!"}}]
[{"$f":"IF(Import!A188=\"\",\"\",Import!A188)","v":""},{"$f":"IF(Import!B188=\"\",\"\",Import!B188)","v":""},{"$f":"IF(Import!C188=\"\",\"\",Import!C188)","v":""},{"$f":"IF(Import!D188=\"\",\"\",Import!D188)","v":""},{"$f":"IF(Import!E188=\"\",\"\",Import!E188)","v":""},{"$f":"IF(Import!F188=\"\",\"\",Import!F188)","v":""},{"$f":"IF(Import!G188=\"\",\"\",Import!G188)","v":""},{"$f":"IF(Import!H188=\"\",\"\",Import!H188)","v":""},{"$f":"IF(Import!J188=\"\",\"\",Import!J188)","v":""},{"$f":"IF(Import!K188=\"\",\"\",Import!K188)","v":""},{"$f":"IF(Import!L188=\"\",\"\",Import!L188)","v":""},{"$f":"IF(Import!M188=\"\",\"\",Import!M188)","v":""},{"$f":"IF(Import!P188=\"\",\"\",Import!P188)","v":""},{"$f":"IF(Import!Q188=\"\",\"\",Import!Q188)","v":""},{"$f":"IF(Import!R188=\"\",\"\",Import!R188)","v":""},380,2.5,34,34,{"$f":"IF(Q188=\"\",\"\",(-0.00011*POWER(S188,2))+(0.01417*S188)+((0.00057*POWER(Q188,2))-(0.0529*Q188)+6.2018)+Kalkkalkyl!$AJ$2)","v":6.9277325000000003},{"$error":"#VALUE!"},null,{"$f":"IF(('PK kalkyl'!$AE$17*H188)+'PK kalkyl'!$AE$18+(('PK kalkyl'!$K$6-'PK kalkyl'!$AE$12)*'PK kalkyl'!$AE$13)<1,0,ROUND(('PK kalkyl'!$AE$17*H188)+'PK kalkyl'!$AE$18+(('PK kalkyl'!$K$6-'PK kalkyl'!$AE$12)*'PK kalkyl'!$AE$13),1))","v":{"$error":"#VALUE!"}},{"$f":"IF(('PK kalkyl'!$AE$37*I188)+'PK kalkyl'!$AE$38+(('PK kalkyl'!$K$6-'PK kalkyl'!$AE$32)*'PK kalkyl'!$AE$33)<1,0,ROUND(('PK kalkyl'!$AE$37*I188)+'PK kalkyl'!$AE$38+(('PK kalkyl'!$K$6-'PK kalkyl'!$AE$32)*'PK kalkyl'!$AE$33),1))","v":{"$error":"#VALUE!"}},{"$error":"#VALUE!"},{"$error":"#VALUE!"},{"$f":"IF((Y188<W188),Y188-W188,0)*-'PK kalkyl'!$AE$15","v":{"$error":"#VALUE!"}},{"$f":"IF((Z188<X188),Z188-X188,0)*-'PK kalkyl'!$AE$35","v":{"$error":"#VALUE!"}},{"$f":"+AA188*Växtföljd!$G$18+AB188*Växtföljd!$G$18","v":{"$error":"#VALUE!"}}]
[{"$f":"IF(Import!A189=\"\",\"\",Import!A189)","v":""},{"$f":"IF(Import!B189=\"\",\"\",Import!B189)","v":""},{"$f":"IF(Import!C189=\"\",\"\",Import!C189)","v":""},{"$f":"IF(Import!D189=\"\",\"\",Import!D189)","v":""},{"$f":"IF(Import!E189=\"\",\"\",Import!E189)","v":""},{"$f":"IF(Import!F189=\"\",\"\",Import!F189)","v":""},{"$f":"IF(Import!G189=\"\",\"\",Import!G189)","v":""},{"$f":"IF(Import!H189=\"\",\"\",Import!H189)","v":""},{"$f":"IF(Import!J189=\"\",\"\",Import!J189)","v":""},{"$f":"IF(Import!K189=\"\",\"\",Import!K189)","v":""},{"$f":"IF(Import!L189=\"\",\"\",Import!L189)","v":""},{"$f":"IF(Import!M189=\"\",\"\",Import!M189)","v":""},{"$f":"IF(Import!P189=\"\",\"\",Import!P189)","v":""},{"$f":"IF(Import!Q189=\"\",\"\",Import!Q189)","v":""},{"$f":"IF(Import!R189=\"\",\"\",Import!R189)","v":""},367.87801012903009,2.6905949919349754,33.259890959096865,33.259890959096865,{"$f":"IF(Q189=\"\",\"\",(-0.00011*POWER(S189,2))+(0.01417*S189)+((0.00057*POWER(Q189,2))-(0.0529*Q189)+6.2018)+Kalkkalkyl!$AJ$2)","v":6.9132023434938876},{"$error":"#VALUE!"},null,{"$f":"IF(('PK kalkyl'!$AE$17*H189)+'PK kalkyl'!$AE$18+(('PK kalkyl'!$K$6-'PK kalkyl'!$AE$12)*'PK kalkyl'!$AE$13)<1,0,ROUND(('PK kalkyl'!$AE$17*H189)+'PK kalkyl'!$AE$18+(('PK kalkyl'!$K$6-'PK kalkyl'!$AE$12)*'PK kalkyl'!$AE$13),1))","v":{"$error":"#VALUE!"}},{"$f":"IF(('PK kalkyl'!$AE$37*I189)+'PK kalkyl'!$AE$38+(('PK kalkyl'!$K$6-'PK kalkyl'!$AE$32)*'PK kalkyl'!$AE$33)<1,0,ROUND(('PK kalkyl'!$AE$37*I189)+'PK kalkyl'!$AE$38+(('PK kalkyl'!$K$6-'PK kalkyl'!$AE$32)*'PK kalkyl'!$AE$33),1))","v":{"$error":"#VALUE!"}},{"$error":"#VALUE!"},{"$error":"#VALUE!"},{"$f":"IF((Y189<W189),Y189-W189,0)*-'PK kalkyl'!$AE$15","v":{"$error":"#VALUE!"}},{"$f":"IF((Z189<X189),Z189-X189,0)*-'PK kalkyl'!$AE$35","v":{"$error":"#VALUE!"}},{"$f":"+AA189*Växtföljd!$G$18+AB189*Växtföljd!$G$18","v":{"$error":"#VALUE!"}}]
[{"$f":"IF(Import!A190=\"\",\"\",Import!A190)","v":""},{"$f":"IF(Import!B190=\"\",\"\",Import!B190)","v":""},{"$f":"IF(Import!C190=\"\",\"\",Import!C190)","v":""},{"$f":"IF(Import!D190=\"\",\"\",Import!D190)","v":""},{"$f":"IF(Import!E190=\"\",\"\",Import!E190)","v":""},{"$f":"IF(Import!F190=\"\",\"\",Import!F190)","v":""},{"$f":"IF(Import!G190=\"\",\"\",Import!G190)","v":""},{"$f":"IF(Import!H190=\"\",\"\",Import!H190)","v":""},{"$f":"IF(Import!J190=\"\",\"\",Import!J190)","v":""},{"$f":"IF(Import!K190=\"\",\"\",Import!K190)","v":""},{"$f":"IF(Import!L190=\"\",\"\",Import!L190)","v":""},{"$f":"IF(Import!M190=\"\",\"\",Import!M190)","v":""},{"$f":"IF(Import!P190=\"\",\"\",Import!P190)","v":""},{"$f":"IF(Import!Q190=\"\",\"\",Import!Q190)","v":""},{"$f":"IF(Import!R190=\"\",\"\",Import!R190)","v":""},360,2.4,32,32,{"$f":"IF(Q190=\"\",\"\",(-0.00011*POWER(S190,2))+(0.01417*S190)+((0.00057*POWER(Q190,2))-(0.0529*Q190)+6.2018)+Kalkkalkyl!$AJ$2)","v":6.9189232000000001},{"$error":"#VALUE!"},null,{"$f":"IF(('PK kalkyl'!$AE$17*H190)+'PK kalkyl'!$AE$18+(('PK kalkyl'!$K$6-'PK kalkyl'!$AE$12)*'PK kalkyl'!$AE$13)<1,0,ROUND(('PK kalkyl'!$AE$17*H190)+'PK kalkyl'!$AE$18+(('PK kalkyl'!$K$6-'PK kalkyl'!$AE$12)*'PK kalkyl'!$AE$13),1))","v":{"$error":"#VALUE!"}},{"$f":"IF(('PK kalkyl'!$AE$37*I190)+'PK kalkyl'!$AE$38+(('PK kalkyl'!$K$6-'PK kalkyl'!$AE$32)*'PK kalkyl'!$AE$33)<1,0,ROUND(('PK kalkyl'!$AE$37*I190)+'PK kalkyl'!$AE$38+(('PK kalkyl'!$K$6-'PK kalkyl'!$AE$32)*'PK kalkyl'!$AE$33),1))","v":{"$error":"#VALUE!"}},{"$error":"#VALUE!"},{"$error":"#VALUE!"},{"$f":"IF((Y190<W190),Y190-W190,0)*-'PK kalkyl'!$AE$15","v":{"$error":"#VALUE!"}},{"$f":"IF((Z190<X190),Z190-X190,0)*-'PK kalkyl'!$AE$35","v":{"$error":"#VALUE!"}},{"$f":"+AA190*Växtföljd!$G$18+AB190*Växtföljd!$G$18","v":{"$error":"#VALUE!"}}]
[{"$f":"IF(Import!A191=\"\",\"\",Import!A191)","v":""},{"$f":"IF(Import!B191=\"\",\"\",Import!B191)","v":""},{"$f":"IF(Import!C191=\"\",\"\",Import!C191)","v":""},{"$f":"IF(Import!D191=\"\",\"\",Import!D191)","v":""},{"$f":"IF(Import!E191=\"\",\"\",Import!E191)","v":""},{"$f":"IF(Import!F191=\"\",\"\",Import!F191)","v":""},{"$f":"IF(Import!G191=\"\",\"\",Import!G191)","v":""},{"$f":"IF(Import!H191=\"\",\"\",Import!H191)","v":""},{"$f":"IF(Import!J191=\"\",\"\",Import!J191)","v":""},{"$f":"IF(Import!K191=\"\",\"\",Import!K191)","v":""},{"$f":"IF(Import!L191=\"\",\"\",Import!L191)","v":""},{"$f":"IF(Import!M191=\"\",\"\",Import!M191)","v":""},{"$f":"IF(Import!P191=\"\",\"\",Import!P191)","v":""},{"$f":"IF(Import!Q191=\"\",\"\",Import!Q191)","v":""},{"$f":"IF(Import!R191=\"\",\"\",Import!R191)","v":""},390.78101144289963,2.986923666827825,32.735425969527931,32.735425969527931,{"$f":"IF(Q191=\"\",\"\",(-0.00011*POWER(S191,2))+(0.01417*S191)+((0.00057*POWER(Q191,2))-(0.0529*Q191)+6.2018)+Kalkkalkyl!$AJ$2)","v":6.8948612079434408},{"$error":"#VALUE!"},null,{"$f":"IF(('PK kalkyl'!$AE$17*H191)+'PK kalkyl'!$AE$18+(('PK kalkyl'!$K$6-'PK kalkyl'!$AE$12)*'PK kalkyl'!$AE$13)<1,0,ROUND(('PK kalkyl'!$AE$17*H191)+'PK kalkyl'!$AE$18+(('PK kalkyl'!$K$6-'PK kalkyl'!$AE$12)*'PK kalkyl'!$AE$13),1))","v":{"$error":"#VALUE!"}},{"$f":"IF(('PK kalkyl'!$AE$37*I191)+'PK kalkyl'!$AE$38+(('PK kalkyl'!$K$6-'PK kalkyl'!$AE$32)*'PK kalkyl'!$AE$33)<1,0,ROUND(('PK kalkyl'!$AE$37*I191)+'PK kalkyl'!$AE$38+(('PK kalkyl'!$K$6-'PK kalkyl'!$AE$32)*'PK kalkyl'!$AE$33),1))","v":{"$error":"#VALUE!"}},{"$error":"#VALUE!"},{"$error":"#VALUE!"},{"$f":"IF((Y191<W191),Y191-W191,0)*-'PK kalkyl'!$AE$15","v":{"$error":"#VALUE!"}},{"$f":"IF((Z191<X191),Z191-X191,0)*-'PK kalkyl'!$AE$35","v":{"$error":"#VALUE!"}},{"$f":"+AA191*Växtföljd!$G$18+AB191*Växtföljd!$G$18","v":{"$error":"#VALUE!"}}]
[{"$f":"IF(Import!A192=\"\",\"\",Import!A192)","v":""},{"$f":"IF(Import!B192=\"\",\"\",Import!B192)","v":""},{"$f":"IF(Import!C192=\"\",\"\",Import!C192)","v":""},{"$f":"IF(Import!D192=\"\",\"\",Import!D192)","v":""},{"$f":"IF(Import!E192=\"\",\"\",Import!E192)","v":""},{"$f":"IF(Import!F192=\"\",\"\",Import!F192)","v":""},{"$f":"IF(Import!G192=\"\",\"\",Import!G192)","v":""},{"$f":"IF(Import!H192=\"\",\"\",Import!H192)","v":""},{"$f":"IF(Import!J192=\"\",\"\",Import!J192)","v":""},{"$f":"IF(Import!K192=\"\",\"\",Import!K192)","v":""},{"$f":"IF(Import!L192=\"\",\"\",Import!L192)","v":""},{"$f":"IF(Import!M192=\"\",\"\",Import!M192)","v":""},{"$f":"IF(Import!P192=\"\",\"\",Import!P192)","v":""},{"$f":"IF(Import!Q192=\"\",\"\",Import!Q192)","v":""},{"$f":"IF(Import!R192=\"\",\"\",Import!R192)","v":""},490,3.5,36,36,{"$f":"IF(Q192=\"\",\"\",(-0.00011*POWER(S192,2))+(0.01417*S192)+((0.00057*POWER(Q192,2))-(0.0529*Q192)+6.2018)+Kalkkalkyl!$AJ$2)","v":6.8911925000000007},{"$error":"#VALUE!"},null,{"$f":"IF(('PK kalkyl'!$AE$17*H192)+'PK kalkyl'!$AE$18+(('PK kalkyl'!$K$6-'PK kalkyl'!$AE$12)*'PK kalkyl'!$AE$13)<1,0,ROUND(('PK kalkyl'!$AE$17*H192)+'PK kalkyl'!$AE$18+(('PK kalkyl'!$K$6-'PK kalkyl'!$AE$12)*'PK kalkyl'!$AE$13),1))","v":{"$error":"#VALUE!"}},{"$f":"IF(('PK kalkyl'!$AE$37*I192)+'PK kalkyl'!$AE$38+(('PK kalkyl'!$K$6-'PK kalkyl'!$AE$32)*'PK kalkyl'!$AE$33)<1,0,ROUND(('PK kalkyl'!$AE$37*I192)+'PK kalkyl'!$AE$38+(('PK kalkyl'!$K$6-'PK kalkyl'!$AE$32)*'PK kalkyl'!$AE$33),1))","v":{"$error":"#VALUE!"}},{"$error":"#VALUE!"},{"$error":"#VALUE!"},{"$f":"IF((Y192<W192),Y192-W192,0)*-'PK kalkyl'!$AE$15","v":{"$error":"#VALUE!"}},{"$f":"IF((Z192<X192),Z192-X192,0)*-'PK kalkyl'!$AE$35","v":{"$error":"#VALUE!"}},{"$f":"+AA192*Växtföljd!$G$18+AB192*Växtföljd!$G$18","v":{"$error":"#VALUE!"}}]
[{"$f":"IF(Import!A193=\"\",\"\",Import!A193)","v":""},{"$f":"IF(Import!B193=\"\",\"\",Import!B193)","v":""},{"$f":"IF(Import!C193=\"\",\"\",Import!C193)","v":""},{"$f":"IF(Import!D193=\"\",\"\",Import!D193)","v":""},{"$f":"IF(Import!E193=\"\",\"\",Import!E193)","v":""},{"$f":"IF(Import!F193=\"\",\"\",Import!F193)","v":""},{"$f":"IF(Import!G193=\"\",\"\",Import!G193)","v":""},{"$f":"IF(Import!H193=\"\",\"\",Import!H193)","v":""},{"$f":"IF(Import!J193=\"\",\"\",Import!J193)","v":""},{"$f":"IF(Import!K193=\"\",\"\",Import!K193)","v":""},{"$f":"IF(Import!L193=\"\",\"\",Import!L193)","v":""},{"$f":"IF(Import!M193=\"\",\"\",Import!M193)","v":""},{"$f":"IF(Import!P193=\"\",\"\",Import!P193)","v":""},{"$f":"IF(Import!Q193=\"\",\"\",Import!Q193)","v":""},{"$f":"IF(Import!R193=\"\",\"\",Import!R193)","v":""},427.33822625728919,2.971432449478649,35.898053787328962,35.898053787328962,{"$f":"IF(Q193=\"\",\"\",(-0.00011*POWER(S193,2))+(0.01417*S193)+((0.00057*POWER(Q193,2))-(0.0529*Q193)+6.2018)+Kalkkalkyl!$AJ$2)","v":6.9165656805170901},{"$error":"#VALUE!"},null,{"$f":"IF(('PK kalkyl'!$AE$17*H193)+'PK kalkyl'!$AE$18+(('PK kalkyl'!$K$6-'PK kalkyl'!$AE$12)*'PK kalkyl'!$AE$13)<1,0,ROUND(('PK kalkyl'!$AE$17*H193)+'PK kalkyl'!$AE$18+(('PK kalkyl'!$K$6-'PK kalkyl'!$AE$12)*'PK kalkyl'!$AE$13),1))","v":{"$error":"#VALUE!"}},{"$f":"IF(('PK kalkyl'!$AE$37*I193)+'PK kalkyl'!$AE$38+(('PK kalkyl'!$K$6-'PK kalkyl'!$AE$32)*'PK kalkyl'!$AE$33)<1,0,ROUND(('PK kalkyl'!$AE$37*I193)+'PK kalkyl'!$AE$38+(('PK kalkyl'!$K$6-'PK kalkyl'!$AE$32)*'PK kalkyl'!$AE$33),1))","v":{"$error":"#VALUE!"}},{"$error":"#VALUE!"},{"$error":"#VALUE!"},{"$f":"IF((Y193<W193),Y193-W193,0)*-'PK kalkyl'!$AE$15","v":{"$error":"#VALUE!"}},{"$f":"IF((Z193<X193),Z193-X193,0)*-'PK kalkyl'!$AE$35","v":{"$error":"#VALUE!"}},{"$f":"+AA193*Växtföljd!$G$18+AB193*Växtföljd!$G$18","v":{"$error":"#VALUE!"}}]
[{"$f":"IF(Import!A194=\"\",\"\",Import!A194)","v":""},{"$f":"IF(Import!B194=\"\",\"\",Import!B194)","v":""},{"$f":"IF(Import!C194=\"\",\"\",Import!C194)","v":""},{"$f":"IF(Import!D194=\"\",\"\",Import!D194)","v":""},{"$f":"IF(Import!E194=\"\",\"\",Import!E194)","v":""},{"$f":"IF(Import!F194=\"\",\"\",Import!F194)","v":""},{"$f":"IF(Import!G194=\"\",\"\",Import!G194)","v":""},{"$f":"IF(Import!H194=\"\",\"\",Import!H194)","v":""},{"$f":"IF(Import!J194=\"\",\"\",Import!J194)","v":""},{"$f":"IF(Import!K194=\"\",\"\",Import!K194)","v":""},{"$f":"IF(Import!L194=\"\",\"\",Import!L194)","v":""},{"$f":"IF(Import!M194=\"\",\"\",Import!M194)","v":""},{"$f":"IF(Import!P194=\"\",\"\",Import!P194)","v":""},{"$f":"IF(Import!Q194=\"\",\"\",Import!Q194)","v":""},{"$f":"IF(Import!R194=\"\",\"\",Import!R194)","v":""},420,2.9,36,36,{"$f":"IF(Q194=\"\",\"\",(-0.00011*POWER(S194,2))+(0.01417*S194)+((0.00057*POWER(Q194,2))-(0.0529*Q194)+6.2018)+Kalkkalkyl!$AJ$2)","v":6.9207437000000009},{"$error":"#VALUE!"},null,{"$f":"IF(('PK kalkyl'!$AE$17*H194)+'PK kalkyl'!$AE$18+(('PK kalkyl'!$K$6-'PK kalkyl'!$AE$12)*'PK kalkyl'!$AE$13)<1,0,ROUND(('PK kalkyl'!$AE$17*H194)+'PK kalkyl'!$AE$18+(('PK kalkyl'!$K$6-'PK kalkyl'!$AE$12)*'PK kalkyl'!$AE$13),1))","v":{"$error":"#VALUE!"}},{"$f":"IF(('PK kalkyl'!$AE$37*I194)+'PK kalkyl'!$AE$38+(('PK kalkyl'!$K$6-'PK kalkyl'!$AE$32)*'PK kalkyl'!$AE$33)<1,0,ROUND(('PK kalkyl'!$AE$37*I194)+'PK kalkyl'!$AE$38+(('PK kalkyl'!$K$6-'PK kalkyl'!$AE$32)*'PK kalkyl'!$AE$33),1))","v":{"$error":"#VALUE!"}},{"$error":"#VALUE!"},{"$error":"#VALUE!"},{"$f":"IF((Y194<W194),Y194-W194,0)*-'PK kalkyl'!$AE$15","v":{"$error":"#VALUE!"}},{"$f":"IF((Z194<X194),Z194-X194,0)*-'PK kalkyl'!$AE$35","v":{"$error":"#VALUE!"}},{"$f":"+AA194*Växtföljd!$G$18+AB194*Växtföljd!$G$18","v":{"$error":"#VALUE!"}}]
[{"$f":"IF(Import!A195=\"\",\"\",Import!A195)","v":""},{"$f":"IF(Import!B195=\"\",\"\",Import!B195)","v":""},{"$f":"IF(Import!C195=\"\",\"\",Import!C195)","v":""},{"$f":"IF(Import!D195=\"\",\"\",Import!D195)","v":""},{"$f":"IF(Import!E195=\"\",\"\",Import!E195)","v":""},{"$f":"IF(Import!F195=\"\",\"\",Import!F195)","v":""},{"$f":"IF(Import!G195=\"\",\"\",Import!G195)","v":""},{"$f":"IF(Import!H195=\"\",\"\",Import!H195)","v":""},{"$f":"IF(Import!J195=\"\",\"\",Import!J195)","v":""},{"$f":"IF(Import!K195=\"\",\"\",Import!K195)","v":""},{"$f":"IF(Import!L195=\"\",\"\",Import!L195)","v":""},{"$f":"IF(Import!M195=\"\",\"\",Import!M195)","v":""},{"$f":"IF(Import!P195=\"\",\"\",Import!P195)","v":""},{"$f":"IF(Import!Q195=\"\",\"\",Import!Q195)","v":""},{"$f":"IF(Import!R195=\"\",\"\",Import!R195)","v":""},419.35225795799585,2.9076380551834289,34.728800742359489,{"$f":"IF(R195=\"\",( 0.0977*P195 )+ 4.135,R195)","v":34.728800742359489},{"$f":"IF(Q195=\"\",\"\",(-0.00011*POWER(S195,2))+(0.01417*S195)+((0.00057*POWER(Q195,2))-(0.0529*Q195)+6.2018)+Kalkkalkyl!$AJ$2)","v":6.9122421819539275},{"$f":"IF(Q195=\"\",\"\",IF(T195-G195<0,0,(T195-G195)*(1.9+(3.5*Q195+S195)/3.8)/2))","v":{"$error":"#VALUE!"}},null,{"$f":"IF(('PK kalkyl'!$AE$17*H195)+'PK kalkyl'!$AE$18+(('PK kalkyl'!$K$6-'PK kalkyl'!$AE$12)*'PK kalkyl'!$AE$13)<1,0,ROUND(('PK kalkyl'!$AE$17*H195)+'PK kalkyl'!$AE$18+(('PK kalkyl'!$K$6-'PK kalkyl'!$AE$12)*'PK kalkyl'!$AE$13),1))","v":{"$error":"#VALUE!"}},{"$f":"IF(('PK kalkyl'!$AE$37*I195)+'PK kalkyl'!$AE$38+(('PK kalkyl'!$K$6-'PK kalkyl'!$AE$32)*'PK kalkyl'!$AE$33)<1,0,ROUND(('PK kalkyl'!$AE$37*I195)+'PK kalkyl'!$AE$38+(('PK kalkyl'!$K$6-'PK kalkyl'!$AE$32)*'PK kalkyl'!$AE$33),1))","v":{"$error":"#VALUE!"}},{"$f":"AVERAGEIF(A:A,A195,W:W)","v":{"$error":"#VALUE!"}},{"$f":"AVERAGEIF(A:A,A195,X:X)","v":{"$error":"#VALUE!"}},{"$f":"IF((Y195<W195),Y195-W195,0)*-'PK kalkyl'!$AE$15","v":{"$error":"#VALUE!"}},{"$f":"IF((Z195<X195),Z195-X195,0)*-'PK kalkyl'!$AE$35","v":{"$error":"#VALUE!"}},{"$f":"+AA195*Växtföljd!$G$18+AB195*Växtföljd!$G$18","v":{"$error":"#VALUE!"}}]
[{"$f":"IF(Import!A196=\"\",\"\",Import!A196)","v":""},{"$f":"IF(Import!B196=\"\",\"\",Import!B196)","v":""},{"$f":"IF(Import!C196=\"\",\"\",Import!C196)","v":""},{"$f":"IF(Import!D196=\"\",\"\",Import!D196)","v":""},{"$f":"IF(Import!E196=\"\",\"\",Import!E196)","v":""},{"$f":"IF(Import!F196=\"\",\"\",Import!F196)","v":""},{"$f":"IF(Import!G196=\"\",\"\",Import!G196)","v":""},{"$f":"IF(Import!H196=\"\",\"\",Import!H196)","v":""},{"$f":"IF(Import!J196=\"\",\"\",Import!J196)","v":""},{"$f":"IF(Import!K196=\"\",\"\",Import!K196)","v":""},{"$f":"IF(Import!L196=\"\",\"\",Import!L196)","v":""},{"$f":"IF(Import!M196=\"\",\"\",Import!M196)","v":""},{"$f":"IF(Import!P196=\"\",\"\",Import!P196)","v":""},{"$f":"IF(Import!Q196=\"\",\"\",Import!Q196)","v":""},{"$f":"IF(Import!R196=\"\",\"\",Import!R196)","v":""},360,3.3,34,34,{"$f":"IF(Q196=\"\",\"\",(-0.00011*POWER(S196,2))+(0.01417*S196)+((0.00057*POWER(Q196,2))-(0.0529*Q196)+6.2018)+Kalkkalkyl!$AJ$2)","v":6.8880572999999998},{"$error":"#VALUE!"},null,{"$f":"IF(('PK kalkyl'!$AE$17*H196)+'PK kalkyl'!$AE$18+(('PK kalkyl'!$K$6-'PK kalkyl'!$AE$12)*'PK kalkyl'!$AE$13)<1,0,ROUND(('PK kalkyl'!$AE$17*H196)+'PK kalkyl'!$AE$18+(('PK kalkyl'!$K$6-'PK kalkyl'!$AE$12)*'PK kalkyl'!$AE$13),1))","v":{"$error":"#VALUE!"}},{"$f":"IF(('PK kalkyl'!$AE$37*I196)+'PK kalkyl'!$AE$38+(('PK kalkyl'!$K$6-'PK kalkyl'!$AE$32)*'PK kalkyl'!$AE$33)<1,0,ROUND(('PK kalkyl'!$AE$37*I196)+'PK kalkyl'!$AE$38+(('PK kalkyl'!$K$6-'PK kalkyl'!$AE$32)*'PK kalkyl'!$AE$33),1))","v":{"$error":"#VALUE!"}},{"$error":"#VALUE!"},{"$error":"#VALUE!"},{"$f":"IF((Y196<W196),Y196-W196,0)*-'PK kalkyl'!$AE$15","v":{"$error":"#VALUE!"}},{"$f":"IF((Z196<X196),Z196-X196,0)*-'PK kalkyl'!$AE$35","v":{"$error":"#VALUE!"}},{"$f":"+AA196*Växtföljd!$G$18+AB196*Växtföljd!$G$18","v":{"$error":"#VALUE!"}}]
[{"$f":"IF(Import!A197=\"\",\"\",Import!A197)","v":""},{"$f":"IF(Import!B197=\"\",\"\",Import!B197)","v":""},{"$f":"IF(Import!C197=\"\",\"\",Import!C197)","v":""},{"$f":"IF(Import!D197=\"\",\"\",Import!D197)","v":""},{"$f":"IF(Import!E197=\"\",\"\",Import!E197)","v":""},{"$f":"IF(Import!F197=\"\",\"\",Import!F197)","v":""},{"$f":"IF(Import!G197=\"\",\"\",Import!G197)","v":""},{"$f":"IF(Import!H197=\"\",\"\",Import!H197)","v":""},{"$f":"IF(Import!J197=\"\",\"\",Import!J197)","v":""},{"$f":"IF(Import!K197=\"\",\"\",Import!K197)","v":""},{"$f":"IF(Import!L197=\"\",\"\",Import!L197)","v":""},{"$f":"IF(Import!M197=\"\",\"\",Import!M197)","v":""},{"$f":"IF(Import!P197=\"\",\"\",Import!P197)","v":""},{"$f":"IF(Import!Q197=\"\",\"\",Import!Q197)","v":""},{"$f":"IF(Import!R197=\"\",\"\",Import!R197)","v":""},311.39456633135069,3.2041213077744866,32.463093445765466,32.463093445765466,{"$f":"IF(Q197=\"\",\"\",(-0.00011*POWER(S197,2))+(0.01417*S197)+((0.00057*POWER(Q197,2))-(0.0529*Q197)+6.2018)+Kalkkalkyl!$AJ$2)","v":6.8822320931900043},{"$error":"#VALUE!"},null,{"$f":"IF(('PK kalkyl'!$AE$17*H197)+'PK kalkyl'!$AE$18+(('PK kalkyl'!$K$6-'PK kalkyl'!$AE$12)*'PK kalkyl'!$AE$13)<1,0,ROUND(('PK kalkyl'!$AE$17*H197)+'PK kalkyl'!$AE$18+(('PK kalkyl'!$K$6-'PK kalkyl'!$AE$12)*'PK kalkyl'!$AE$13),1))","v":{"$error":"#VALUE!"}},{"$f":"IF(('PK kalkyl'!$AE$37*I197)+'PK kalkyl'!$AE$38+(('PK kalkyl'!$K$6-'PK kalkyl'!$AE$32)*'PK kalkyl'!$AE$33)<1,0,ROUND(('PK kalkyl'!$AE$37*I197)+'PK kalkyl'!$AE$38+(('PK kalkyl'!$K$6-'PK kalkyl'!$AE$32)*'PK kalkyl'!$AE$33),1))","v":{"$error":"#VALUE!"}},{"$error":"#VALUE!"},{"$error":"#VALUE!"},{"$f":"IF((Y197<W197),Y197-W197,0)*-'PK kalkyl'!$AE$15","v":{"$error":"#VALUE!"}},{"$f":"IF((Z197<X197),Z197-X197,0)*-'PK kalkyl'!$AE$35","v":{"$error":"#VALUE!"}},{"$f":"+AA197*Växtföljd!$G$18+AB197*Växtföljd!$G$18","v":{"$error":"#VALUE!"}}]
[{"$f":"IF(Import!A198=\"\",\"\",Import!A198)","v":""},{"$f":"IF(Import!B198=\"\",\"\",Import!B198)","v":""},{"$f":"IF(Import!C198=\"\",\"\",Import!C198)","v":""},{"$f":"IF(Import!D198=\"\",\"\",Import!D198)","v":""},{"$f":"IF(Import!E198=\"\",\"\",Import!E198)","v":""},{"$f":"IF(Import!F198=\"\",\"\",Import!F198)","v":""},{"$f":"IF(Import!G198=\"\",\"\",Import!G198)","v":""},{"$f":"IF(Import!H198=\"\",\"\",Import!H198)","v":""},{"$f":"IF(Import!J198=\"\",\"\",Import!J198)","v":""},{"$f":"IF(Import!K198=\"\",\"\",Import!K198)","v":""},{"$f":"IF(Import!L198=\"\",\"\",Import!L198)","v":""},{"$f":"IF(Import!M198=\"\",\"\",Import!M198)","v":""},{"$f":"IF(Import!P198=\"\",\"\",Import!P198)","v":""},{"$f":"IF(Import!Q198=\"\",\"\",Import!Q198)","v":""},{"$f":"IF(Import!R198=\"\",\"\",Import!R198)","v":""},280,3,28,28,{"$f":"IF(Q198=\"\",\"\",(-0.00011*POWER(S198,2))+(0.01417*S198)+((0.00057*POWER(Q198,2))-(0.0529*Q198)+6.2018)+Kalkkalkyl!$AJ$2)","v":6.8587500000000006},{"$error":"#VALUE!"},null,{"$f":"IF(('PK kalkyl'!$AE$17*H198)+'PK kalkyl'!$AE$18+(('PK kalkyl'!$K$6-'PK kalkyl'!$AE$12)*'PK kalkyl'!$AE$13)<1,0,ROUND(('PK kalkyl'!$AE$17*H198)+'PK kalkyl'!$AE$18+(('PK kalkyl'!$K$6-'PK kalkyl'!$AE$12)*'PK kalkyl'!$AE$13),1))","v":{"$error":"#VALUE!"}},{"$f":"IF(('PK kalkyl'!$AE$37*I198)+'PK kalkyl'!$AE$38+(('PK kalkyl'!$K$6-'PK kalkyl'!$AE$32)*'PK kalkyl'!$AE$33)<1,0,ROUND(('PK kalkyl'!$AE$37*I198)+'PK kalkyl'!$AE$38+(('PK kalkyl'!$K$6-'PK kalkyl'!$AE$32)*'PK kalkyl'!$AE$33),1))","v":{"$error":"#VALUE!"}},{"$error":"#VALUE!"},{"$error":"#VALUE!"},{"$f":"IF((Y198<W198),Y198-W198,0)*-'PK kalkyl'!$AE$15","v":{"$error":"#VALUE!"}},{"$f":"IF((Z198<X198),Z198-X198,0)*-'PK kalkyl'!$AE$35","v":{"$error":"#VALUE!"}},{"$f":"+AA198*Växtföljd!$G$18+AB198*Växtföljd!$G$18","v":{"$error":"#VALUE!"}}]
[{"$f":"IF(Import!A199=\"\",\"\",Import!A199)","v":""},{"$f":"IF(Import!B199=\"\",\"\",Import!B199)","v":""},{"$f":"IF(Import!C199=\"\",\"\",Import!C199)","v":""},{"$f":"IF(Import!D199=\"\",\"\",Import!D199)","v":""},{"$f":"IF(Import!E199=\"\",\"\",Import!E199)","v":""},{"$f":"IF(Import!F199=\"\",\"\",Import!F199)","v":""},{"$f":"IF(Import!G199=\"\",\"\",Import!G199)","v":""},{"$f":"IF(Import!H199=\"\",\"\",Import!H199)","v":""},{"$f":"IF(Import!J199=\"\",\"\",Import!J199)","v":""},{"$f":"IF(Import!K199=\"\",\"\",Import!K199)","v":""},{"$f":"IF(Import!L199=\"\",\"\",Import!L199)","v":""},{"$f":"IF(Import!M199=\"\",\"\",Import!M199)","v":""},{"$f":"IF(Import!P199=\"\",\"\",Import!P199)","v":""},{"$f":"IF(Import!Q199=\"\",\"\",Import!Q199)","v":""},{"$f":"IF(Import!R199=\"\",\"\",Import!R199)","v":""},304.6116853028883,2.8577506086359423,31.025371723244934,31.025371723244934,{"$f":"IF(Q199=\"\",\"\",(-0.00011*POWER(S199,2))+(0.01417*S199)+((0.00057*POWER(Q199,2))-(0.0529*Q199)+6.2018)+Kalkkalkyl!$AJ$2)","v":6.8890264451277927},{"$error":"#VALUE!"},null,{"$f":"IF(('PK kalkyl'!$AE$17*H199)+'PK kalkyl'!$AE$18+(('PK kalkyl'!$K$6-'PK kalkyl'!$AE$12)*'PK kalkyl'!$AE$13)<1,0,ROUND(('PK kalkyl'!$AE$17*H199)+'PK kalkyl'!$AE$18+(('PK kalkyl'!$K$6-'PK kalkyl'!$AE$12)*'PK kalkyl'!$AE$13),1))","v":{"$error":"#VALUE!"}},{"$f":"IF(('PK kalkyl'!$AE$37*I199)+'PK kalkyl'!$AE$38+(('PK kalkyl'!$K$6-'PK kalkyl'!$AE$32)*'PK kalkyl'!$AE$33)<1,0,ROUND(('PK kalkyl'!$AE$37*I199)+'PK kalkyl'!$AE$38+(('PK kalkyl'!$K$6-'PK kalkyl'!$AE$32)*'PK kalkyl'!$AE$33),1))","v":{"$error":"#VALUE!"}},{"$error":"#VALUE!"},{"$error":"#VALUE!"},{"$f":"IF((Y199<W199),Y199-W199,0)*-'PK kalkyl'!$AE$15","v":{"$error":"#VALUE!"}},{"$f":"IF((Z199<X199),Z199-X199,0)*-'PK kalkyl'!$AE$35","v":{"$error":"#VALUE!"}},{"$f":"+AA199*Växtföljd!$G$18+AB199*Växtföljd!$G$18","v":{"$error":"#VALUE!"}}]
[{"$f":"IF(Import!A200=\"\",\"\",Import!A200)","v":""},{"$f":"IF(Import!B200=\"\",\"\",Import!B200)","v":""},{"$f":"IF(Import!C200=\"\",\"\",Import!C200)","v":""},{"$f":"IF(Import!D200=\"\",\"\",Import!D200)","v":""},{"$f":"IF(Import!E200=\"\",\"\",Import!E200)","v":""},{"$f":"IF(Import!F200=\"\",\"\",Import!F200)","v":""},{"$f":"IF(Import!G200=\"\",\"\",Import!G200)","v":""},{"$f":"IF(Import!H200=\"\",\"\",Import!H200)","v":""},{"$f":"IF(Import!J200=\"\",\"\",Import!J200)","v":""},{"$f":"IF(Import!K200=\"\",\"\",Import!K200)","v":""},{"$f":"IF(Import!L200=\"\",\"\",Import!L200)","v":""},{"$f":"IF(Import!M200=\"\",\"\",Import!M200)","v":""},{"$f":"IF(Import!P200=\"\",\"\",Import!P200)","v":""},{"$f":"IF(Import!Q200=\"\",\"\",Import!Q200)","v":""},{"$f":"IF(Import!R200=\"\",\"\",Import!R200)","v":""},330,2.6,36,36,{"$f":"IF(Q200=\"\",\"\",(-0.00011*POWER(S200,2))+(0.01417*S200)+((0.00057*POWER(Q200,2))-(0.0529*Q200)+6.2018)+Kalkkalkyl!$AJ$2)","v":6.9356732000000001},{"$error":"#VALUE!"},null,{"$f":"IF(('PK kalkyl'!$AE$17*H200)+'PK kalkyl'!$AE$18+(('PK kalkyl'!$K$6-'PK kalkyl'!$AE$12)*'PK kalkyl'!$AE$13)<1,0,ROUND(('PK kalkyl'!$AE$17*H200)+'PK kalkyl'!$AE$18+(('PK kalkyl'!$K$6-'PK kalkyl'!$AE$12)*'PK kalkyl'!$AE$13),1))","v":{"$error":"#VALUE!"}},{"$f":"IF(('PK kalkyl'!$AE$37*I200)+'PK kalkyl'!$AE$38+(('PK kalkyl'!$K$6-'PK kalkyl'!$AE$32)*'PK kalkyl'!$AE$33)<1,0,ROUND(('PK kalkyl'!$AE$37*I200)+'PK kalkyl'!$AE$38+(('PK kalkyl'!$K$6-'PK kalkyl'!$AE$32)*'PK kalkyl'!$AE$33),1))","v":{"$error":"#VALUE!"}},{"$error":"#VALUE!"},{"$error":"#VALUE!"},{"$f":"IF((Y200<W200),Y200-W200,0)*-'PK kalkyl'!$AE$15","v":{"$error":"#VALUE!"}},{"$f":"IF((Z200<X200),Z200-X200,0)*-'PK kalkyl'!$AE$35","v":{"$error":"#VALUE!"}},{"$f":"+AA200*Växtföljd!$G$18+AB200*Växtföljd!$G$18","v":{"$error":"#VALUE!"}}]
[{"$f":"IF(Import!A201=\"\",\"\",Import!A201)","v":""},{"$f":"IF(Import!B201=\"\",\"\",Import!B201)","v":""},{"$f":"IF(Import!C201=\"\",\"\",Import!C201)","v":""},{"$f":"IF(Import!D201=\"\",\"\",Import!D201)","v":""},{"$f":"IF(Import!E201=\"\",\"\",Import!E201)","v":""},{"$f":"IF(Import!F201=\"\",\"\",Import!F201)","v":""},{"$f":"IF(Import!G201=\"\",\"\",Import!G201)","v":""},{"$f":"IF(Import!H201=\"\",\"\",Import!H201)","v":""},{"$f":"IF(Import!J201=\"\",\"\",Import!J201)","v":""},{"$f":"IF(Import!K201=\"\",\"\",Import!K201)","v":""},{"$f":"IF(Import!L201=\"\",\"\",Import!L201)","v":""},{"$f":"IF(Import!M201=\"\",\"\",Import!M201)","v":""},{"$f":"IF(Import!P201=\"\",\"\",Import!P201)","v":""},{"$f":"IF(Import!Q201=\"\",\"\",Import!Q201)","v":""},{"$f":"IF(Import!R201=\"\",\"\",Import!R201)","v":""},302.3628192283677,3.1555693468688935,34.227096075326671,34.227096075326671,{"$f":"IF(Q201=\"\",\"\",(-0.00011*POWER(S201,2))+(0.01417*S201)+((0.00057*POWER(Q201,2))-(0.0529*Q201)+6.2018)+Kalkkalkyl!$AJ$2)","v":6.8966798235102065},{"$error":"#VALUE!"},null,{"$f":"IF(('PK kalkyl'!$AE$17*H201)+'PK kalkyl'!$AE$18+(('PK kalkyl'!$K$6-'PK kalkyl'!$AE$12)*'PK kalkyl'!$AE$13)<1,0,ROUND(('PK kalkyl'!$AE$17*H201)+'PK kalkyl'!$AE$18+(('PK kalkyl'!$K$6-'PK kalkyl'!$AE$12)*'PK kalkyl'!$AE$13),1))","v":{"$error":"#VALUE!"}},{"$f":"IF(('PK kalkyl'!$AE$37*I201)+'PK kalkyl'!$AE$38+(('PK kalkyl'!$K$6-'PK kalkyl'!$AE$32)*'PK kalkyl'!$AE$33)<1,0,ROUND(('PK kalkyl'!$AE$37*I201)+'PK kalkyl'!$AE$38+(('PK kalkyl'!$K$6-'PK kalkyl'!$AE$32)*'PK kalkyl'!$AE$33),1))","v":{"$error":"#VALUE!"}},{"$error":"#VALUE!"},{"$error":"#VALUE!"},{"$f":"IF((Y201<W201),Y201-W201,0)*-'PK kalkyl'!$AE$15","v":{"$error":"#VALUE!"}},{"$f":"IF((Z201<X201),Z201-X201,0)*-'PK kalkyl'!$AE$35","v":{"$error":"#VALUE!"}},{"$f":"+AA201*Växtföljd!$G$18+AB201*Växtföljd!$G$18","v":{"$error":"#VALUE!"}}]
[{"$f":"IF(Import!A202=\"\",\"\",Import!A202)","v":""},{"$f":"IF(Import!B202=\"\",\"\",Import!B202)","v":""},{"$f":"IF(Import!C202=\"\",\"\",Import!C202)","v":""},{"$f":"IF(Import!D202=\"\",\"\",Import!D202)","v":""},{"$f":"IF(Import!E202=\"\",\"\",Import!E202)","v":""},{"$f":"IF(Import!F202=\"\",\"\",Import!F202)","v":""},{"$f":"IF(Import!G202=\"\",\"\",Import!G202)","v":""},{"$f":"IF(Import!H202=\"\",\"\",Import!H202)","v":""},{"$f":"IF(Import!J202=\"\",\"\",Import!J202)","v":""},{"$f":"IF(Import!K202=\"\",\"\",Import!K202)","v":""},{"$f":"IF(Import!L202=\"\",\"\",Import!L202)","v":""},{"$f":"IF(Import!M202=\"\",\"\",Import!M202)","v":""},{"$f":"IF(Import!P202=\"\",\"\",Import!P202)","v":""},{"$f":"IF(Import!Q202=\"\",\"\",Import!Q202)","v":""},{"$f":"IF(Import!R202=\"\",\"\",Import!R202)","v":""},270,4,36,36,{"$f":"IF(Q202=\"\",\"\",(-0.00011*POWER(S202,2))+(0.01417*S202)+((0.00057*POWER(Q202,2))-(0.0529*Q202)+6.2018)+Kalkkalkyl!$AJ$2)","v":6.8668800000000001},{"$error":"#VALUE!"},null,{"$f":"IF(('PK kalkyl'!$AE$17*H202)+'PK kalkyl'!$AE$18+(('PK kalkyl'!$K$6-'PK kalkyl'!$AE$12)*'PK kalkyl'!$AE$13)<1,0,ROUND(('PK kalkyl'!$AE$17*H202)+'PK kalkyl'!$AE$18+(('PK kalkyl'!$K$6-'PK kalkyl'!$AE$12)*'PK kalkyl'!$AE$13),1))","v":{"$error":"#VALUE!"}},{"$f":"IF(('PK kalkyl'!$AE$37*I202)+'PK kalkyl'!$AE$38+(('PK kalkyl'!$K$6-'PK kalkyl'!$AE$32)*'PK kalkyl'!$AE$33)<1,0,ROUND(('PK kalkyl'!$AE$37*I202)+'PK kalkyl'!$AE$38+(('PK kalkyl'!$K$6-'PK kalkyl'!$AE$32)*'PK kalkyl'!$AE$33),1))","v":{"$error":"#VALUE!"}},{"$error":"#VALUE!"},{"$error":"#VALUE!"},{"$f":"IF((Y202<W202),Y202-W202,0)*-'PK kalkyl'!$AE$15","v":{"$error":"#VALUE!"}},{"$f":"IF((Z202<X202),Z202-X202,0)*-'PK kalkyl'!$AE$35","v":{"$error":"#VALUE!"}},{"$f":"+AA202*Växtföljd!$G$18+AB202*Växtföljd!$G$18","v":{"$error":"#VALUE!"}}]
[{"$f":"IF(Import!A203=\"\",\"\",Import!A203)","v":""},{"$f":"IF(Import!B203=\"\",\"\",Import!B203)","v":""},{"$f":"IF(Import!C203=\"\",\"\",Import!C203)","v":""},{"$f":"IF(Import!D203=\"\",\"\",Import!D203)","v":""},{"$f":"IF(Import!E203=\"\",\"\",Import!E203)","v":""},{"$f":"IF(Import!F203=\"\",\"\",Import!F203)","v":""},{"$f":"IF(Import!G203=\"\",\"\",Import!G203)","v":""},{"$f":"IF(Import!H203=\"\",\"\",Import!H203)","v":""},{"$f":"IF(Import!J203=\"\",\"\",Import!J203)","v":""},{"$f":"IF(Import!K203=\"\",\"\",Import!K203)","v":""},{"$f":"IF(Import!L203=\"\",\"\",Import!L203)","v":""},{"$f":"IF(Import!M203=\"\",\"\",Import!M203)","v":""},{"$f":"IF(Import!P203=\"\",\"\",Import!P203)","v":""},{"$f":"IF(Import!Q203=\"\",\"\",Import!Q203)","v":""},{"$f":"IF(Import!R203=\"\",\"\",Import!R203)","v":""},310.15622764064852,3.5846851639940107,32.491653283857751,32.491653283857751,{"$f":"IF(Q203=\"\",\"\",(-0.00011*POWER(S203,2))+(0.01417*S203)+((0.00057*POWER(Q203,2))-(0.0529*Q203)+6.2018)+Kalkkalkyl!$AJ$2)","v":6.8637735348171818},{"$error":"#VALUE!"},null,{"$f":"IF(('PK kalkyl'!$AE$17*H203)+'PK kalkyl'!$AE$18+(('PK kalkyl'!$K$6-'PK kalkyl'!$AE$12)*'PK kalkyl'!$AE$13)<1,0,ROUND(('PK kalkyl'!$AE$17*H203)+'PK kalkyl'!$AE$18+(('PK kalkyl'!$K$6-'PK kalkyl'!$AE$12)*'PK kalkyl'!$AE$13),1))","v":{"$error":"#VALUE!"}},{"$f":"IF(('PK kalkyl'!$AE$37*I203)+'PK kalkyl'!$AE$38+(('PK kalkyl'!$K$6-'PK kalkyl'!$AE$32)*'PK kalkyl'!$AE$33)<1,0,ROUND(('PK kalkyl'!$AE$37*I203)+'PK kalkyl'!$AE$38+(('PK kalkyl'!$K$6-'PK kalkyl'!$AE$32)*'PK kalkyl'!$AE$33),1))","v":{"$error":"#VALUE!"}},{"$error":"#VALUE!"},{"$error":"#VALUE!"},{"$f":"IF((Y203<W203),Y203-W203,0)*-'PK kalkyl'!$AE$15","v":{"$error":"#VALUE!"}},{"$f":"IF((Z203<X203),Z203-X203,0)*-'PK kalkyl'!$AE$35","v":{"$error":"#VALUE!"}},{"$f":"+AA203*Växtföljd!$G$18+AB203*Växtföljd!$G$18","v":{"$error":"#VALUE!"}}]
[{"$f":"IF(Import!A204=\"\",\"\",Import!A204)","v":""},{"$f":"IF(Import!B204=\"\",\"\",Import!B204)","v":""},{"$f":"IF(Import!C204=\"\",\"\",Import!C204)","v":""},{"$f":"IF(Import!D204=\"\",\"\",Import!D204)","v":""},{"$f":"IF(Import!E204=\"\",\"\",Import!E204)","v":""},{"$f":"IF(Import!F204=\"\",\"\",Import!F204)","v":""},{"$f":"IF(Import!G204=\"\",\"\",Import!G204)","v":""},{"$f":"IF(Import!H204=\"\",\"\",Import!H204)","v":""},{"$f":"IF(Import!J204=\"\",\"\",Import!J204)","v":""},{"$f":"IF(Import!K204=\"\",\"\",Import!K204)","v":""},{"$f":"IF(Import!L204=\"\",\"\",Import!L204)","v":""},{"$f":"IF(Import!M204=\"\",\"\",Import!M204)","v":""},{"$f":"IF(Import!P204=\"\",\"\",Import!P204)","v":""},{"$f":"IF(Import!Q204=\"\",\"\",Import!Q204)","v":""},{"$f":"IF(Import!R204=\"\",\"\",Import!R204)","v":""},340,3,33,33,{"$f":"IF(Q204=\"\",\"\",(-0.00011*POWER(S204,2))+(0.01417*S204)+((0.00057*POWER(Q204,2))-(0.0529*Q204)+6.2018)+Kalkkalkyl!$AJ$2)","v":6.8960500000000007},{"$error":"#VALUE!"},null,{"$f":"IF(('PK kalkyl'!$AE$17*H204)+'PK kalkyl'!$AE$18+(('PK kalkyl'!$K$6-'PK kalkyl'!$AE$12)*'PK kalkyl'!$AE$13)<1,0,ROUND(('PK kalkyl'!$AE$17*H204)+'PK kalkyl'!$AE$18+(('PK kalkyl'!$K$6-'PK kalkyl'!$AE$12)*'PK kalkyl'!$AE$13),1))","v":{"$error":"#VALUE!"}},{"$f":"IF(('PK kalkyl'!$AE$37*I204)+'PK kalkyl'!$AE$38+(('PK kalkyl'!$K$6-'PK kalkyl'!$AE$32)*'PK kalkyl'!$AE$33)<1,0,ROUND(('PK kalkyl'!$AE$37*I204)+'PK kalkyl'!$AE$38+(('PK kalkyl'!$K$6-'PK kalkyl'!$AE$32)*'PK kalkyl'!$AE$33),1))","v":{"$error":"#VALUE!"}},{"$error":"#VALUE!"},{"$error":"#VALUE!"},{"$f":"IF((Y204<W204),Y204-W204,0)*-'PK kalkyl'!$AE$15","v":{"$error":"#VALUE!"}},{"$f":"IF((Z204<X204),Z204-X204,0)*-'PK kalkyl'!$AE$35","v":{"$error":"#VALUE!"}},{"$f":"+AA204*Växtföljd!$G$18+AB204*Växtföljd!$G$18","v":{"$error":"#VALUE!"}}]

{"sheet":"SelJordprover","index":11,"n_rows":10,"n_cols":35,"rows_kept":10,"cut":false,"hidden":true,"merged":[]}
["Skifte","Gröna kolumner är\nviktiga att importera\nX","y","År","Provnr","Märkning","pH","P_AL","P_HCl","K_AL","\n\nBehövs om ler saknas\nK_HCl","Mg_AL","Cu_HCl","K_Mg_kvot","Bor","Ca_AL","Mullhalt","Kan ersättas med K-HCL\n\nTotal_lerhalt","Sand_grovmo","Volymvikt","T_värde","S_värde","Basmättnadsgrad","Cd_HNO3","Kalkbehov","Jordart","Fin_lerhalt","Mineralkväve_Kg_N_ha","Mineralkväve_NO3_N","Mineralkväve_NH4_N","Mineralkväve_djup","Cystnematoder_potatis","Cystnematoder_betor","Cystnematoder_spannmål","Övrigt"]
[2,309602.32,6454244.9199999999,2019,9,9,5.4,2.8,0,12,0,15,0,0.8,0,61,null,0,0,0,0,0,0,0,6.6735069869999997]
[2,309612.74,6454167.8499999996,2019,10,10,5.4,1.9,51,10,250,20,11,0.5,0,100,5.7,0,0,0,0,0,0,0,6.1138772780000004]
[2,309510.09000000003,6454129.4800000004,2019,11,11,5.3,3.5,0,8.6999999999999993,0,13,0,0.7,0,70,null,0,0,0,0,0,0,0,7.1021586440000002]
[2,309488.01,6454068.2699999996,2019,12,12,5.3,2.5,52,15,330,28,16,0.5,0,97,4.5,0,0,0,0,0,0,0,8.1615348230000002]
[2,309574.36,6454049.25,2019,13,13,5.6,2.9,0,14,null,21,0,0.7,0,92,null,0,0,0,0,0,0,0,4.8605599599999998]
[2,309513.06,6453962.6200000001,2019,14,14,5.7,2.5,51,11,220,11,11,1,0,92,6.4,0,0,0,0,0,0,0,3.4712155]
[2,310400.46999999997,6453942.8899999997,2019,15,15,5.4,2.8,52,3.6,88,2.8,10,1.3,0,22,9,0,0,0,0,0,0,0,3.6183217760000002]
[2,310841.18,6452910.5800000001,2019,16,16,5.5,2.6,58,7.5,180,16,11,0.5,0,110,4.7,0,0,0,0,0,0,0,4.3100526390000002]
[2,310876.27,6452790.1500000004,2019,17,17,5.6,2.4,0,7.8,null,18,0,0.4,0,120,null,0,0,0,0,0,0,0,3.9024464829999999]

{"sheet":"Export till PrecisionWizard","index":12,"n_rows":2,"n_cols":20,"rows_kept":2,"cut":false,"hidden":true,"merged":[]}
["NR","X","Y","YEAR","PROVNR","MAERKNING","PH","P_AL","P_HCL","K_AL","K_HCL","MG_AL","CU_HCL","K_MG_KVOT","CA_AL","MULLHALT","LERHALT","P_behov","K_behov","Kalkbehov"]
[{"$f":"IF('Omräknad kartering'!E2=\"\",\"\",'Omräknad kartering'!E2)","v":""},{"$f":"IF('Omräknad kartering'!B2=\"\",\"\",'Omräknad kartering'!B2)","v":""},{"$f":"IF('Omräknad kartering'!C2=\"\",\"\",'Omräknad kartering'!C2)","v":""},{"$f":"IF('Omräknad kartering'!D2=\"\",\"\",'Omräknad kartering'!D2)","v":""},{"$f":"IF('Omräknad kartering'!E2=\"\",\"\",'Omräknad kartering'!E2)","v":""},{"$f":"IF('Omräknad kartering'!F2=\"\",\"\",'Omräknad kartering'!F2)","v":""},{"$f":"IF('Omräknad kartering'!G2=\"\",0,'Omräknad kartering'!G2)","v":0},{"$f":"IF('Omräknad kartering'!H2=\"\",0,'Omräknad kartering'!H2)","v":0},{"$f":"IF(Import!I2=\"\",0,Import!I2)","v":0},{"$f":"IF('Omräknad kartering'!I2=\"\",0,'Omräknad kartering'!I2)","v":0},{"$f":"IF('Omräknad kartering'!J2=\"\",0,'Omräknad kartering'!J2)","v":0},{"$f":"IF('Omräknad kartering'!K2=\"\",0,'Omräknad kartering'!K2)","v":0},{"$f":"IF('Omräknad kartering'!L2=\"\",0,'Omräknad kartering'!L2)","v":0},{"$f":"IF(Import!N2=\"\",0,Import!N2)","v":0},{"$f":"IF('Omräknad kartering'!M2=\"\",0,'Omräknad kartering'!M2)","v":0},{"$f":"IF('Omräknad kartering'!N2=\"\",0,'Omräknad kartering'!N2)","v":0},{"$f":"IF('Omräknad kartering'!O2=\"\",0,'Omräknad kartering'!O2)","v":0},{"$f":"IF('Omräknad kartering'!W2=\"\",0,'Omräknad kartering'!W2)","v":{"$error":"#VALUE!"}},{"$f":"IF('Omräknad kartering'!X2=\"\",0,'Omräknad kartering'!X2)","v":{"$error":"#VALUE!"}},{"$f":"IF('Omräknad kartering'!U2=\"\",0,'Omräknad kartering'!U2)","v":{"$error":"#VALUE!"}}]

{"sheet":"Grid","index":13,"n_rows":204,"n_cols":14,"rows_kept":204,"cut":false,"hidden":true,"merged":[]}
[null,null,null,"Ler",null,null,null,"Antal prov",{"$f":"COUNT(A:A)-COUNTIF(A:A,0)","v":203},null,null,null,"Antal importerade prov",{"$f":"COUNT(Import!B:B)","v":0}]
[1397610.7,6469122.4570000004,null,29,29,null,null,"Medel",{"$f":"AVERAGE(D:D)","v":31.088235294117649}]
[1397676.405,6469173.5080000004,null,null,27.770289578576509,null,null,"Median",{"$f":"MEDIAN(D:D)","v":32}]
[1397742.85,6469253.949,null,27,27,null,null,"Antal som griddas",{"$f":"COUNT(D:D)","v":102}]
[1397798.9820000001,6469324.1979999999,null,null,27.459690665553801]
[1397859.696,6469401.3150000004,null,28,28,null,null,"Sökradie",200]
[1397921.1610000001,6469475.7489999998,null,null,29.166519354484066,null,null,"Faktor",2]
[1397979.0460000001,6469545.5829999996,null,33,33]
[1398038.33,6469621.0300000003,null,null,27.82341308730858]
[1398095.2069999999,6469534.6960000005,null,21,21]
[1398178.3230000001,6469516.0599999996,null,null,23.63737890919985]
[1398122.2790000001,6469441.4929999998,null,27,27]
[1398022.4210000001,6469450.3159999996,null,null,27.351240370556976]
[1397956.1,6469368.9979999997,null,27,27]
[1397888.585,6469288.1109999996,null,null,30.365094574002764]
[1397827.575,6469212.2300000004,null,35,35]
[1397936.513,6469648.4440000001,null,null,29.403875939189966]
[1397869.08,6469564.0360000003,null,27,27]
[1397801.878,6469480.1050000004,null,null,26.863460660124019]
[1397730.675,6469394.0669999998,null,24,24]
[1397665.139,6469314.4579999996,null,null,24.752846421424827]
[1397607.66,6469247.6220000004,null,23,23]
[1397551.3,6469176.4960000003,null,null,28.466054070206066]
[1396324.095,6469251.2259999998,null,29,29]
[1396321.9169999999,6469337.5219999999,null,null,27.790608560692981]
[1396319.4709999999,6469421.5920000002,null,26,26]
[1396316.9110000001,6469506.5580000002,null,null,25.666724515854657]
[1396314.872,6469588.8890000004,null,25,25]
[1396313.551,6469673.6289999997,null,null,30.054725940825072]
[1396311.2660000001,6469752.2180000003,null,34,34]
[1396165.713,6469774.5470000003,null,null,28.301590779990082]
[1396171.3940000001,6469702.5609999998,null,28,28]
[1396170.8559999999,6469616.9759999998,null,null,28.351701543170844]
[1396173.138,6469528.4100000001,null,29,29]
[1396176.237,6469430.0049999999,null,null,29.681782135301443]
[1396179.2120000001,6469306.5149999997,null,34,34]
[1396182.4739999999,6469203.8799999999,null,null,33.086217817104313]
[1397394.94,6468879.9680000003,null,22,22]
[1397462.781,6468802.983,null,null,20.276370764448981]
[1397410.5249999999,6468707.5810000002,null,19,19]
[1397323.2439999999,6468792.2939999998,null,null,14.773819033051421]
[1397275.7960000001,6468726.1720000003,null,12,12]
[1397333.946,6468641.4359999998,null,null,16.583465373223941]
[1397540.72,6468715.7060000002,null,20,20]
[1397477.584,6468620.29,null,null,24.633110933822344]
[1397437.4820000001,6468526.0729999999,null,27,27]
[1397483.1510000001,6468441.5870000003,null,null,28.218357093790935]
[1397550.6810000001,6468538.4189999998,null,31,31]
[1396396.2890000001,6468087.3229999999,null,null,28.416786544319866]
[1396480.328,6468024.1730000004,null,29,29]
[1396563.4850000001,6467963.4900000002,null,null,28.871863454727769]
[1396397.237,6467965.7300000004,null,28,28]
[1396311.2819999999,6468020.9859999996,null,null,25.562978227630559]
[1396224.861,6467968.7489999998,null,23,23]
[1396310.673,6467902.432,null,null,28.602923019320563]
[1396265.4720000001,6467815.3619999997,null,33,33]
[1396197.91,6467883.1270000003,null,null,27.688433503176068]
[1396130.05,6467959.5420000004,null,23,23]
[1396223.1329999999,6467761.7410000004,null,null,32.583813150031254]
[1396137.8470000001,6467816.8279999997,null,31,31]
[1396066.7320000001,6467880.9740000004,null,null,28.40775327927161]
[1395986.9650000001,6467944.443,null,31,31]
[1395908.591,6468011.466,null,null,28.17213165544473]
[1395828.7830000001,6468076.7790000001,null,27,27]
[1395766.2890000001,6468155.9500000002,null,null,21.676391293076346]
[1395837.0919999999,6468223.1960000005,null,17,17]
[1395921.2490000001,6468164.9479999999,null,null,19.574688625044615]
[1396019.9280000001,6468123.8629999999,null,19,19]
[1396018.736,6468042.324,null,null,22.498947364469075]
[1390736.0819999999,6475768.2560000001,null,29,29]
[1390777.4709999999,6475880.8930000002,null,null,34.851994095189553]
[1390820.0249999999,6475994.6179999998,null,34,34]
[1390898.1089999999,6475931.3509999998,null,null,34.017462381646354]
[1390867.0279999999,6475845.659,null,34,34]
[1390835.243,6475762.2759999996,null,null,33.124929163671013]
[1390803.906,6475679.9500000002,null,34,34]
[1390981.9380000001,6475880.8679999998,null,null,32.511452317243659]
[1390940.97,6475773.324,null,35,35]
[1390908.6740000001,6475683.6600000001,null,null,33.106299856127322]
[1390875.9350000001,6475600.4460000005,null,30,30]
[1390842.95,6475518.6670000004,null,null,32.01637287901805]
[1390766.827,6475500.4929999998,null,35,35]
[1390944.0260000001,6475518.5190000003,null,null,29.45302748695817]
[1390990.1740000001,6475635.1299999999,null,35,35]
[1391024.317,6475726.9409999996,null,null,33.095745696236392]
[1391052.834,6475803.0420000004,null,30,30]
[1391083.0149999999,6475888.6869999999,null,null,30.203393470334607]
[1391158.2139999999,6475888.2529999996,null,30,30]
[1391124.348,6475791.5,null,null,30.953489299529654]
[1391091.3940000001,6475699.9309999999,null,34,34]
[1391055.929,6475605.182,null,null,33.558964207061834]
[1391016.852,6475506.6339999996,null,29,29]
[1391138.56,6475560.9000000004,null,null,28.703914756896243]
[1391186.0249999999,6475682.3700000001,null,31,31]
[1391221.7420000001,6475780.6299999999,null,null,31.79583142558327]
[1391253.21,6475870.7379999999,null,32,32]
[1391345.7250000001,6475827.7539999997,null,null,32.959338483891621]
[1391307.324,6475718.307,null,33,33]
[1391272.5379999999,6475624.7039999999,null,null,30.35837468776424]
[1391235.2649999999,6475523.0580000002,null,24,24]
[1391320.321,6475543.4939999999,null,null,26.468619609206506]
[1391383.0330000001,6475655.4900000002,null,32,32]
[1391415.362,6475739.5049999999,null,null,33.179508046671579]
[1391438.497,6475809.2429999998,null,34,34]
[1391514.9669999999,6475760.2659999998,null,null,35.618940478197295]
[1391462.9269999999,6475654.5650000004,null,32,32]
[1391567.2620000001,6475669.6710000001,null,null,34.622249186947279]
[1391606.0490000001,6475766.2949999999,null,39,39]
[1391687.7420000001,6475746.341,null,null,38.056504990038313]
[1391791.6,6475628.8090000004,null,30,30]
[1391667.0079999999,6475606.1749999998,null,null,31.742089765361072]
[1391534.5290000001,6475583.5109999999,null,34,34]
[1391417.027,6475562.0020000003,null,null,32.041406097756358]
[1391509.8859999999,6475509.4390000002,null,32,32]
[1391628.0079999999,6475528.9479999999,null,null,31.970514131152203]
[1391752.469,6475550.9230000004,null,31,31]
[1391873.388,6475572.7680000002,null,null,30.550833258492769]
[1391798.156,6475499.8760000002,null,31,31]
[1391667.4650000001,6475470.3909999998,null,null,31.048357183651721]
[1391538.523,6475444.4539999999,null,30,30]
[1391408.5349999999,6475423.3949999996,null,null,30.788655946828801]
[1391329.013,6475337.8080000002,null,31,31]
[1391251.101,6475302.5369999995,null,null,34.37775522199393]
[1391163.9350000001,6475263.4890000001,null,40,40]
[1391044.625,6475210.9800000004,null,null,42.22969224403942]
[1390966.16,6475275.9249999998,null,44,44]
[1391063.9990000001,6475323.2470000004,null,null,36.832509289940504]
[1391163.5970000001,6475366.477,null,34,34]
[1391288.0020000001,6475423.7949999999,null,null,29.626291953629476]
[1391086.4269999999,6475435.5729999999,null,31,31]
[1390948.4439999999,6475373.0899999999,null,null,30.608124745018234]
[1390883.905,6475416.5820000004,null,25,25]
[1390793.9029999999,6475302.8020000001,null,null,40.535651486673856]
[1390881.2779999999,6475205.517,null,40,40]
[1390849.29,6475133.1900000004,null,null,40.378164344671369]
[1390767.0449999999,6475227.9699999997,null,42,42]
[1391436.254,6475014.8789999997,null,null,30]
[1391525.764,6475091.8660000004,null,30,30]
[1391656.523,6475077.8789999997,null,null,32.221584699545261]
[1391756.513,6475151.8710000003,null,34,34]
[1391899.041,6475145.2390000001,null,null,38.046583467110331]
[1391995.452,6475214.8779999996,null,40,40]
[1392136.1410000001,6475209.9749999996,null,null,43.981648107345293]
[1392215.693,6475270.7510000002,null,45,45]
[1391780.297,6474810.8820000002,null,null,34]
[1391898.389,6474842.0369999995,null,34,34]
[1392069.3659999999,6474842.0369999995,null,null,30.228147448494017]
[1392141.7339999999,6474886.2240000004,null,30,30]
[1390681.675,6475407.1129999999,null,null,33.936380279247366]
[1390580.672,6475393.3430000003,null,33,33]
[1390481.9609999999,6475383.3049999997,null,null,32.706026063126039]
[1390380.899,6475373.5350000001,null,34,34]
[1390286.2679999999,6475335.8700000001,null,null,32.968352118237583]
[1390184.72,6475336.6349999998,null,32,32]
[1390094.3419999999,6475252.3820000002,null,null,36.526076622600392]
[1390009.7660000001,6475307.1679999996,null,39,39]
[1389915.791,6475351.0279999999,null,null,35.536444797366258]
[1390005.09,6475405.665,null,32,32]
[1389931.605,6475474.4610000001,null,null,33.115558784408726]
[1389797.15,6475449.5449999999,null,37,37]
[1389712.8419999999,6475507.1960000005,null,null,35.454687296887776]
[1389843.4129999999,6475532.932,null,31,31]
[1389727.78,6475606.3260000004,null,null,32.736434167903809]
[1390141.5430000001,6475538.6359999999,null,33,33]
[1390116.067,6475638.3080000002,null,null,33.046168069344695]
[1390091.9469999999,6475734.4730000002,null,29,29]
[1390066.6089999999,6475831.4680000003,null,null,30.890449780082044]
[1389998.098,6475758.0470000003,null,32,32]
[1390021.9369999999,6475659.4210000001,null,null,32.997562214142782]
[1390046.5970000001,6475560.0449999999,null,38,38]
[1390263.6340000001,6475444.0080000004,null,null,32.912439631629091]
[1390241.5490000001,6475532.1969999997,null,33,33]
[1390207.5630000001,6475666.4400000004,null,null,33.0023787959583]
[1390185.2250000001,6475754.1380000003,null,34,34]
[1390162.4169999999,6475843.8020000001,null,null,32.488343810618623]
[1390232.0689999999,6475940.892,null,31,31]
[1390257.59,6475857.9100000001,null,null,31.757718153838479]
[1390280.345,6475771.5379999997,null,32,32]
[1390304.3589999999,6475676.7340000002,null,null,32.728500363268616]
[1390326.8589999999,6475586.4349999996,null,32,32]
[1390351.5220000001,6475491.7350000003,null,null,32.666345207488838]
[1390454.477,6475461.1380000003,null,32,32]
[1390434.675,6475550.176,null,null,33.455946254832917]
[1390411.6370000001,6475639.3760000002,null,35,35]
[1390386.105,6475740.6519999998,null,null,33.703295041564729]
[1390506.0079999999,6475642.3559999997,null,35,35]
[1390535.159,6475539.7379999999,null,null,33.721066903558878]
[1390487.105,6475842.2220000001,null,34,34]
[1390515.737,6475936.4680000003,null,null,33.259890959096865]
[1390553.55,6476031.9790000003,null,32,32]
[1390589.926,6476134.5559999999,null,null,32.735425969527931]
[1390486.6470000001,6476122.6840000004,null,36,36]
[1390375.68,6476107.6670000004,null,null,35.898053787328962]
[1390356.2790000001,6476040.3449999997,null,36,36]
[1390450.9990000001,6476023.6799999997,null,null,34.728800742359489]
[1390586.24,6475835.3959999997,null,34,34]
[1390621.375,6475946.2910000002,null,null,32.463093445765466]
[1390656.48,6476038.0329999998,null,28,28]
[1390685.9539999999,6476118.0489999996,null,null,31.025371723244934]
[1390768.8259999999,6476062.1380000003,null,36,36]
[1390739.638,6475986.6509999996,null,null,34.227096075326671]
[1390711.5719999999,6475906.54,null,36,36]
[1390680.41,6475825.6210000003,null,null,32.491653283857751]
[1397567.939,6469087.8660000004,null,33,33]